PDS_VERSION_ID = PDS3
/* FILE DATA ELEMENTS */
RECORD_TYPE = STREAM
/* POINTERS TO DATA OBJECTS */
^COMPRESSED_FILE = "H9573_0000_BL3.JP2"
/* IDENTIFICATION DATA ELEMENTS */
DATA_SET_ID = "MEX-M-HRSC-5-REFDR-MAPPROJECTED-V3.0"
DATA_SET_NAME = "MARS EXPRESS HRSC MAP PROJECTED REFDR V3.0"
DETECTOR_ID = MEX_HRSC_BLUE
EVENT_TYPE = "MARS-REGIONAL-MAPPING-Te-Im-Pf"
INSTRUMENT_HOST_ID = MEX
INSTRUMENT_HOST_NAME = "MARS EXPRESS"
INSTRUMENT_ID = HRSC
INSTRUMENT_NAME = "HIGH RESOLUTION STEREO CAMERA"
MISSION_NAME = "MARS EXPRESS"
MISSION_PHASE_NAME = ME_Phase_23
PROCESSING_LEVEL_ID = 3
PRODUCT_CREATION_TIME = 2016-10-27T01:50:53.000Z
PRODUCT_ID = "H9573_0000_BL3.JP2"
RELEASE_ID = 0098
REVISION_ID = 0000
/* QUALITY DATA ELEMENTS */
DATA_QUALITY_ID = 1
DATA_QUALITY_DESC = "Data calculated based on original SPICE kernels"
/* TIME DATA ELEMENTS */
SPACECRAFT_CLOCK_START_COUNT = "1/0257739870.09115"
SPACECRAFT_CLOCK_STOP_COUNT = "1/0257740123.06154"
START_TIME = 2011-07-03T02:25:14.005Z
STOP_TIME = 2011-07-03T02:28:13.964Z
/* ORBITAL DATA ELEMENTS */
ASCENDING_NODE_LONGITUDE = 34.47
MAXIMUM_RESOLUTION = 60
FOOTPRINT_POINT_LATITUDE = (58.6145,58.6008,58.5903,58.5773, 58.5651,58.5503,58.5375,58.424,58.1934, 57.9627,57.732,57.3859,57.1549,56.9242, 56.6933,56.347,56.0006,55.7696,55.4232, 55.0766,54.8457,54.4993,54.2683,54.0374 ,53.8064,53.5755,53.3447,53.1139, 52.8829,52.6522,52.4214,52.1906,51.9598 ,51.7291,51.3833,51.1527,50.9219, 50.6915,50.4612,50.1157,49.7702,49.5399 ,49.31,49.0795,48.7344,48.3892,48.1596, 47.9304,47.7015,47.4722,47.2431,47.016, 47.0242,47.0366,47.042,47.052,47.06, 47.2937,47.6395,47.8707,48.1006,48.3317 ,48.6778,49.0236,49.2544,49.6008, 49.8322,50.0632,50.2946,50.5256,50.7568 ,50.988,51.2192,51.4505,51.6819,51.9134 ,52.2607,52.4923,52.724,53.0716,53.4194 ,53.6512,53.8832,54.1151,54.3471,54.579 ,54.9269,55.2752,55.5071,55.8551, 56.0871,56.3193,56.5513,56.8993,57.1314 ,57.4794,57.7114,57.9434,58.2913, 58.6145)
FOOTPRINT_POINT_LONGITUDE = (276.321,275.872,275.557,275.197, 274.882,274.522,274.229,273.857,273.899 ,273.941,273.982,274.042,274.081, 274.119,274.157,274.212,274.265,274.3, 274.35,274.4,274.432,274.479,274.509, 274.539,274.569,274.597,274.625,274.653 ,274.68,274.707,274.732,274.758,274.783 ,274.808,274.844,274.867,274.891, 274.913,274.935,274.967,274.999,275.02, 275.039,275.06,275.089,275.118,275.136, 275.152,275.167,275.184,275.2,275.216, 275.471,275.91,276.221,276.584,276.948, 277.16,277.145,277.136,277.124,277.114, 277.097,277.079,277.067,277.049,277.037 ,277.024,277.012,276.998,276.985, 276.971,276.957,276.942,276.928,276.913 ,276.891,276.876,276.86,276.837,276.813 ,276.796,276.78,276.763,276.746,276.728 ,276.701,276.674,276.656,276.627, 276.607,276.588,276.568,276.537,276.516 ,276.483,276.462,276.439,276.405, 276.321)
ORBIT_NUMBER = 9573
ORBITAL_ECCENTRICITY = 0.573
ORBITAL_INCLINATION = 86.87
ORBITAL_SEMIMAJOR_AXIS = 8795.87
PERIAPSIS_ALTITUDE = 373.26
PERIAPSIS_ARGUMENT_ANGLE = 125.47
PERIAPSIS_TIME = 2011-07-03T02:26:12.000Z
SPACECRAFT_ORIENTATION = (0.0,-1.0,0.0)
^MEX_ORIENTATION_DESC = "MEX_ORIENTATION_DESC.TXT"
SPACECRAFT_POINTING_MODE = ACROSSTRACK
^MEX_POINTING_DESC = "MEX_POINTING_DESC.TXT"
RIGHT_ASCENSION = -1e+32
DECLINATION = -1e+32
OFFSET_ANGLE = -0.1
SPACECRAFT_SOLAR_DISTANCE = 2.19087e+08
TARGET_NAME = MARS
/* CAMERA DATA ELEMENTS */
DETECTOR_TEMPERATURE = 18.1666
FOCAL_PLANE_TEMPERATURE = 8.3794
INST_CMPRS_NAME = "DISCRETE COSINE TRANSFORMATION (DCT)"
INST_CMPRS_RATIO = 6.56347
INST_CMPRS_QUALITY = 0
INST_CMPRS_QUANTZ_TBL_ID = 0
INSTRUMENT_TEMPERATURE = 11.234
LENS_TEMPERATURE = 8.7872
MACROPIXEL_SIZE = 4
MISSING_FRAMES = 0
PIXEL_SUBSAMPLING_FLAG = N
SIGNAL_CHAIN_ID = 2
/* RADIOMETRIC DATA ELEMENTS */
BANDWIDTH = 76.0
CENTER_FILTER_WAVELENGTH = 444.0
RADIANCE_OFFSET = 0.58939
RADIANCE_SCALING_FACTOR = 0.00242036
REFLECTANCE_SCALING_FACTOR = 0.000119363
MEX:REFLECTANCE_OFFSET = 0.0290665
/* IMAGE OBJECT DEFINITIONS */
OBJECT = IMAGE
  INTERCHANGE_FORMAT = BINARY
  LINES = 13783
  LINE_SAMPLES = 2300
  SAMPLE_TYPE = UNSIGNED_INTEGER
  SAMPLE_BITS = 8
  BANDS = 1
  BAND_STORAGE_TYPE = BAND_SEQUENTIAL
  MAXIMUM = 255
  MEAN = 101.329
  MINIMUM = 1
  STANDARD_DEVIATION = 34.9298
END_OBJECT = IMAGE
/* MAP OBJECT DEFINITIONS */
OBJECT = IMAGE_MAP_PROJECTION
  ^DATA_SET_MAP_PROJECTION_CATALOG= "DSMAP.CAT"
  A_AXIS_RADIUS = 3396.0
  B_AXIS_RADIUS = 3396.0
  C_AXIS_RADIUS = 3396.0
  CENTER_LATITUDE = 0.0
  CENTER_LONGITUDE = 276.0
  COORDINATE_SYSTEM_NAME = PLANETOGRAPHIC
  COORDINATE_SYSTEM_TYPE = "BODY-FIXED ROTATING"
  EASTERNMOST_LONGITUDE = 277.16
  FIRST_STANDARD_PARALLEL = "N/A"
  LINE_FIRST_PIXEL = 1
  LINE_LAST_PIXEL = 13783
  LINE_PROJECTION_OFFSET = 69514.125
  MAP_PROJECTION_ROTATION = 0.0
  MAP_PROJECTION_TYPE = SINUSOIDAL
  MAP_RESOLUTION = 1185.42760773333
  MAP_SCALE = 0.05
  MAXIMUM_LATITUDE = 58.6145
  MINIMUM_LATITUDE = 47.016
  POSITIVE_LONGITUDE_DIRECTION = EAST
  REFERENCE_LATITUDE = "N/A"
  REFERENCE_LONGITUDE = "N/A"
  SAMPLE_FIRST_PIXEL = 1
  SAMPLE_LAST_PIXEL = 2300
  SAMPLE_PROJECTION_OFFSET = 1356.375
  SECOND_STANDARD_PARALLEL = "N/A"
  WESTERNMOST_LONGITUDE = 273.857
END_OBJECT = IMAGE_MAP_PROJECTION
/* The JPEG2000 image data file associated with this label. */
OBJECT = COMPRESSED_FILE
  FILE_NAME = "H9573_0000_BL3.JP2"
  RECORD_TYPE = UNDEFINED
  FILE_RECORDS = UNK
  ENCODING_TYPE = "JP2"
  INTERCHANGE_FORMAT = BINARY
  UNCOMPRESSED_FILE_NAME = "H9573_0000_BL3.IMG"
  REQUIRED_STORAGE_BYTES = "31723900"
  ^DESCRIPTION = "JP2INFO.TXT"
END_OBJECT = COMPRESSED_FILE
END
