PDS_VERSION_ID = PDS3
/* FILE DATA ELEMENTS */
RECORD_TYPE = STREAM
/* POINTERS TO DATA OBJECTS */
^COMPRESSED_FILE = "H9575_0000_GR3.JP2"
/* IDENTIFICATION DATA ELEMENTS */
DATA_SET_ID = "MEX-M-HRSC-5-REFDR-MAPPROJECTED-V3.0"
DATA_SET_NAME = "MARS EXPRESS HRSC MAP PROJECTED REFDR V3.0"
DETECTOR_ID = MEX_HRSC_GREEN
EVENT_TYPE = "MARS-REGIONAL-MAPPING-Fl-Pf"
INSTRUMENT_HOST_ID = MEX
INSTRUMENT_HOST_NAME = "MARS EXPRESS"
INSTRUMENT_ID = HRSC
INSTRUMENT_NAME = "HIGH RESOLUTION STEREO CAMERA"
MISSION_NAME = "MARS EXPRESS"
MISSION_PHASE_NAME = ME_Phase_23
PROCESSING_LEVEL_ID = 3
PRODUCT_CREATION_TIME = 2016-10-27T01:50:53.000Z
PRODUCT_ID = "H9575_0000_GR3.JP2"
RELEASE_ID = 0098
REVISION_ID = 0000
/* QUALITY DATA ELEMENTS */
DATA_QUALITY_ID = 1
DATA_QUALITY_DESC = "Data calculated based on original SPICE kernels"
/* TIME DATA ELEMENTS */
SPACECRAFT_CLOCK_START_COUNT = "1/0257790370.09053"
SPACECRAFT_CLOCK_STOP_COUNT = "1/0257790562.59048"
START_TIME = 2011-07-03T16:26:41.241Z
STOP_TIME = 2011-07-03T16:28:38.809Z
/* ORBITAL DATA ELEMENTS */
ASCENDING_NODE_LONGITUDE = 34.42
MAXIMUM_RESOLUTION = 60.5
FOOTPRINT_POINT_LATITUDE = (49.6537,49.6477,49.6387,49.6311, 49.6206,49.6064,49.4397,49.2897,49.0648 ,48.9148,48.7649,48.6149,48.465,48.3151 ,48.1652,48.0153,47.7905,47.6407,47.416 ,47.2663,47.1166,46.9668,46.8172, 46.6675,46.5179,46.3683,46.2187,45.9944 ,45.8368,45.6874,45.5379,45.3885, 45.2391,45.0151,44.8658,44.7165,44.5673 ,44.4181,44.269,44.1199,43.9708,43.8218 ,43.4495,43.152,42.7057,42.4827,42.2599 ,42.0775,42.0835,42.0912,42.0969, 42.1026,42.1059,42.1839,42.4817,42.6307 ,42.7797,42.9288,43.0779,43.2271, 43.3762,43.5254,43.6747,43.8241,43.9735 ,44.1229,44.2724,44.4219,44.6463, 44.7959,44.9456,45.1701,45.3947,45.5445 ,45.6943,45.8442,46.0022,46.2271, 46.3771,46.5271,46.6772,46.8273,46.9774 ,47.1275,47.2777,47.4278,47.578,47.7283 ,47.8786,48.0289,48.1792,48.4047, 48.6302,48.7806,48.931,49.0814,49.2319, 49.3824,49.5328,49.6537)
FOOTPRINT_POINT_LONGITUDE = (72.404,72.1307,71.766,71.493,71.1472, 70.7281,70.642,70.6543,70.6723,70.6841, 70.6958,70.7072,70.7184,70.7295,70.7404 ,70.7512,70.7672,70.7777,70.793,70.8031 ,70.8131,70.8228,70.8325,70.842,70.8514 ,70.8606,70.8697,70.883,70.8923,70.901, 70.9095,70.9178,70.926,70.9379,70.9458, 70.9537,70.9613,70.9688,70.9762,70.9835 ,70.9907,70.9978,71.0151,71.0287, 71.0474,71.0566,71.0655,71.23,71.4768, 71.8291,72.1286,72.4813,72.728,72.9613, 72.9518,72.9471,72.9423,72.9374,72.9324 ,72.9276,72.9229,72.9179,72.9128, 72.9077,72.9025,72.8973,72.892,72.8866, 72.8785,72.873,72.8675,72.8592,72.8507, 72.8449,72.8392,72.8334,72.8271,72.8181 ,72.8121,72.806,72.7998,72.7935,72.7872 ,72.7808,72.7744,72.7681,72.7615, 72.7548,72.7481,72.7412,72.7344,72.7241 ,72.7136,72.7065,72.6994,72.6922, 72.6848,72.6774,72.67,72.404)
ORBIT_NUMBER = 9575
ORBITAL_ECCENTRICITY = 0.573
ORBITAL_INCLINATION = 86.89
ORBITAL_SEMIMAJOR_AXIS = 8796.71
PERIAPSIS_ALTITUDE = 372.84
PERIAPSIS_ARGUMENT_ANGLE = 125.12
PERIAPSIS_TIME = 2011-07-03T16:25:26.000Z
SPACECRAFT_ORIENTATION = (0.0,-1.0,0.0)
^MEX_ORIENTATION_DESC = "MEX_ORIENTATION_DESC.TXT"
SPACECRAFT_POINTING_MODE = NADIR
^MEX_POINTING_DESC = "MEX_POINTING_DESC.TXT"
RIGHT_ASCENSION = -1e+32
DECLINATION = -1e+32
OFFSET_ANGLE = -1e+32
SPACECRAFT_SOLAR_DISTANCE = 2.19195e+08
TARGET_NAME = MARS
/* CAMERA DATA ELEMENTS */
DETECTOR_TEMPERATURE = 17.9627
FOCAL_PLANE_TEMPERATURE = 7.9716
INST_CMPRS_NAME = "DISCRETE COSINE TRANSFORMATION (DCT)"
INST_CMPRS_RATIO = 19.7982
INST_CMPRS_QUALITY = 0
INST_CMPRS_QUANTZ_TBL_ID = 0
INSTRUMENT_TEMPERATURE = 11.0301
LENS_TEMPERATURE = 8.5833
MACROPIXEL_SIZE = 4
MISSING_FRAMES = 1
PIXEL_SUBSAMPLING_FLAG = N
SIGNAL_CHAIN_ID = 2
/* RADIOMETRIC DATA ELEMENTS */
BANDWIDTH = 88.0
CENTER_FILTER_WAVELENGTH = 538.0
RADIANCE_OFFSET = 1.56923
RADIANCE_SCALING_FACTOR = 0.0031453
REFLECTANCE_SCALING_FACTOR = 0.00013011
MEX:REFLECTANCE_OFFSET = 0.0649136
/* IMAGE OBJECT DEFINITIONS */
OBJECT = IMAGE
  INTERCHANGE_FORMAT = BINARY
  LINES = 8973
  LINE_SAMPLES = 1933
  SAMPLE_TYPE = UNSIGNED_INTEGER
  SAMPLE_BITS = 8
  BANDS = 1
  BAND_STORAGE_TYPE = BAND_SEQUENTIAL
  MAXIMUM = 255
  MEAN = 159.857
  MINIMUM = 1
  STANDARD_DEVIATION = 42.95
END_OBJECT = IMAGE
/* MAP OBJECT DEFINITIONS */
OBJECT = IMAGE_MAP_PROJECTION
  ^DATA_SET_MAP_PROJECTION_CATALOG= "DSMAP.CAT"
  A_AXIS_RADIUS = 3396.0
  B_AXIS_RADIUS = 3396.0
  C_AXIS_RADIUS = 3396.0
  CENTER_LATITUDE = 0.0
  CENTER_LONGITUDE = 72.0
  COORDINATE_SYSTEM_NAME = PLANETOGRAPHIC
  COORDINATE_SYSTEM_TYPE = "BODY-FIXED ROTATING"
  EASTERNMOST_LONGITUDE = 72.96129999999999
  FIRST_STANDARD_PARALLEL = "N/A"
  LINE_FIRST_PIXEL = 1
  LINE_LAST_PIXEL = 8973
  LINE_PROJECTION_OFFSET = 58848.875
  MAP_PROJECTION_ROTATION = 0.0
  MAP_PROJECTION_TYPE = SINUSOIDAL
  MAP_RESOLUTION = 1185.42760773333
  MAP_SCALE = 0.05
  MAXIMUM_LATITUDE = 49.6537
  MINIMUM_LATITUDE = 42.0775
  POSITIVE_LONGITUDE_DIRECTION = EAST
  REFERENCE_LATITUDE = "N/A"
  REFERENCE_LONGITUDE = "N/A"
  SAMPLE_FIRST_PIXEL = 1
  SAMPLE_LAST_PIXEL = 1933
  SAMPLE_PROJECTION_OFFSET = 1073.625
  SECOND_STANDARD_PARALLEL = "N/A"
  WESTERNMOST_LONGITUDE = 70.642
END_OBJECT = IMAGE_MAP_PROJECTION
/* The JPEG2000 image data file associated with this label. */
OBJECT = COMPRESSED_FILE
  FILE_NAME = "H9575_0000_GR3.JP2"
  RECORD_TYPE = UNDEFINED
  FILE_RECORDS = UNK
  ENCODING_TYPE = "JP2"
  INTERCHANGE_FORMAT = BINARY
  UNCOMPRESSED_FILE_NAME = "H9575_0000_GR3.IMG"
  REQUIRED_STORAGE_BYTES = "17364139"
  ^DESCRIPTION = "JP2INFO.TXT"
END_OBJECT = COMPRESSED_FILE
END
