PDS_VERSION_ID = PDS3
/* FILE DATA ELEMENTS */
RECORD_TYPE = STREAM
/* POINTERS TO DATA OBJECTS */
^COMPRESSED_FILE = "H9579_0000_BL3.JP2"
/* IDENTIFICATION DATA ELEMENTS */
DATA_SET_ID = "MEX-M-HRSC-5-REFDR-MAPPROJECTED-V3.0"
DATA_SET_NAME = "MARS EXPRESS HRSC MAP PROJECTED REFDR V3.0"
DETECTOR_ID = MEX_HRSC_BLUE
EVENT_TYPE = "MARS-REGIONAL-MAPPING-Im-Fl-Pf"
INSTRUMENT_HOST_ID = MEX
INSTRUMENT_HOST_NAME = "MARS EXPRESS"
INSTRUMENT_ID = HRSC
INSTRUMENT_NAME = "HIGH RESOLUTION STEREO CAMERA"
MISSION_NAME = "MARS EXPRESS"
MISSION_PHASE_NAME = ME_Phase_23
PROCESSING_LEVEL_ID = 3
PRODUCT_CREATION_TIME = 2016-10-27T01:50:53.000Z
PRODUCT_ID = "H9579_0000_BL3.JP2"
RELEASE_ID = 0098
REVISION_ID = 0000
/* QUALITY DATA ELEMENTS */
DATA_QUALITY_ID = 1
DATA_QUALITY_DESC = "Data calculated based on original SPICE kernels"
/* TIME DATA ELEMENTS */
SPACECRAFT_CLOCK_START_COUNT = "1/0257890938.09062"
SPACECRAFT_CLOCK_STOP_COUNT = "1/0257891184.18256"
START_TIME = 2011-07-04T20:23:02.384Z
STOP_TIME = 2011-07-04T20:25:55.128Z
/* ORBITAL DATA ELEMENTS */
ASCENDING_NODE_LONGITUDE = 34.35
MAXIMUM_RESOLUTION = 120.8
FOOTPRINT_POINT_LATITUDE = (59.3804,59.3671,59.3527,59.3373, 59.3208,59.2891,59.0842,58.7573,58.4303 ,58.2122,57.8857,57.6672,57.3395, 57.1213,56.794,56.5757,56.2482,55.9208, 55.5934,55.3751,55.1568,54.9385,54.7202 ,54.5019,54.1745,53.9562,53.738,53.4107 ,53.1925,52.8654,52.6472,52.4292, 52.2112,51.9932,51.7752,51.5574,51.3396 ,51.1218,50.904,50.6864,50.4688,50.2512 ,50.0337,49.8163,49.599,49.3816,49.1645 ,48.839,48.6218,48.4049,48.2765,48.2924 ,48.3027,48.3105,48.4327,48.6504, 48.8679,49.0858,49.3038,49.6308,49.8488 ,50.0671,50.3944,50.6127,50.8313, 51.0498,51.2684,51.5964,51.9245,52.1433 ,52.3622,52.5811,52.8,53.0191,53.2382, 53.4573,53.786,54.1149,54.3341,54.5535, 54.7728,54.9921,55.2115,55.4309,55.6503 ,55.9793,56.1987,56.4183,56.7475, 57.0767,57.4059,57.6253,57.8448,58.0642 ,58.3933,58.7224,58.9418,59.1611, 59.3804,59.3804)
FOOTPRINT_POINT_LONGITUDE = (21.6293,21.2621,20.8934,20.5235, 20.1523,19.4985,19.4222,19.4911,19.5581 ,19.6019,19.6616,19.7053,19.7694,19.809 ,19.8674,19.9056,19.9621,20.0162, 20.0686,20.1032,20.1371,20.1701,20.2031 ,20.2353,20.2822,20.3131,20.343,20.3874 ,20.4162,20.458,20.4856,20.5126,20.5391 ,20.5651,20.5907,20.6155,20.6402, 20.6643,20.6883,20.7115,20.7342,20.7567 ,20.7788,20.8002,20.8216,20.8429,20.863 ,20.8918,20.9121,20.9312,21.2867, 21.7825,22.1429,22.4453,22.9581,22.9446 ,22.9308,22.9171,22.903,22.8816,22.867, 22.8523,22.8297,22.8144,22.799,22.7833, 22.7673,22.743,22.7181,22.7012,22.6841, 22.6667,22.649,22.6312,22.613,22.5946, 22.5665,22.5377,22.5182,22.4984,22.4782 ,22.4578,22.4371,22.416,22.3946,22.3618 ,22.3396,22.3171,22.2826,22.2473, 22.2112,22.1866,22.1616,22.1362,22.0974 ,22.0576,22.0306,22.0031,21.9751, 21.6293)
ORBIT_NUMBER = 9579
ORBITAL_ECCENTRICITY = 0.573
ORBITAL_INCLINATION = 86.87
ORBITAL_SEMIMAJOR_AXIS = 8793.35
PERIAPSIS_ALTITUDE = 374.31
PERIAPSIS_ARGUMENT_ANGLE = 124.43
PERIAPSIS_TIME = 2011-07-04T20:23:57.000Z
SPACECRAFT_ORIENTATION = (0.0,-1.0,0.0)
^MEX_ORIENTATION_DESC = "MEX_ORIENTATION_DESC.TXT"
SPACECRAFT_POINTING_MODE = ACROSSTRACK
^MEX_POINTING_DESC = "MEX_POINTING_DESC.TXT"
RIGHT_ASCENSION = -1e+32
DECLINATION = -1e+32
OFFSET_ANGLE = -0.4
SPACECRAFT_SOLAR_DISTANCE = 2.1941e+08
TARGET_NAME = MARS
/* CAMERA DATA ELEMENTS */
DETECTOR_TEMPERATURE = 18.3705
FOCAL_PLANE_TEMPERATURE = 8.1755
INST_CMPRS_NAME = "DISCRETE COSINE TRANSFORMATION (DCT)"
INST_CMPRS_RATIO = 18.1986
INST_CMPRS_QUALITY = 0
INST_CMPRS_QUANTZ_TBL_ID = 0
INSTRUMENT_TEMPERATURE = 10.6223
LENS_TEMPERATURE = 8.9911
MACROPIXEL_SIZE = 8
MISSING_FRAMES = 0
PIXEL_SUBSAMPLING_FLAG = N
SIGNAL_CHAIN_ID = 2
/* RADIOMETRIC DATA ELEMENTS */
BANDWIDTH = 76.0
CENTER_FILTER_WAVELENGTH = 444.0
RADIANCE_OFFSET = 0.847101
RADIANCE_SCALING_FACTOR = 0.00206798
REFLECTANCE_SCALING_FACTOR = 0.000102286
MEX:REFLECTANCE_OFFSET = 0.0418992
/* IMAGE OBJECT DEFINITIONS */
OBJECT = IMAGE
  INTERCHANGE_FORMAT = BINARY
  LINES = 6624
  LINE_SAMPLES = 1262
  SAMPLE_TYPE = UNSIGNED_INTEGER
  SAMPLE_BITS = 8
  BANDS = 1
  BAND_STORAGE_TYPE = BAND_SEQUENTIAL
  MAXIMUM = 255
  MEAN = 93.3463
  MINIMUM = 1
  STANDARD_DEVIATION = 32.5457
END_OBJECT = IMAGE
/* MAP OBJECT DEFINITIONS */
OBJECT = IMAGE_MAP_PROJECTION
  ^DATA_SET_MAP_PROJECTION_CATALOG= "DSMAP.CAT"
  A_AXIS_RADIUS = 3396.0
  B_AXIS_RADIUS = 3396.0
  C_AXIS_RADIUS = 3396.0
  CENTER_LATITUDE = 0.0
  CENTER_LONGITUDE = 21.0
  COORDINATE_SYSTEM_NAME = PLANETOGRAPHIC
  COORDINATE_SYSTEM_TYPE = "BODY-FIXED ROTATING"
  EASTERNMOST_LONGITUDE = 22.9581
  FIRST_STANDARD_PARALLEL = "N/A"
  LINE_FIRST_PIXEL = 1
  LINE_LAST_PIXEL = 6624
  LINE_PROJECTION_OFFSET = 35221.9375
  MAP_PROJECTION_ROTATION = 0.0
  MAP_PROJECTION_TYPE = SINUSOIDAL
  MAP_RESOLUTION = 592.713803866667
  MAP_SCALE = 0.1
  MAXIMUM_LATITUDE = 59.3804
  MINIMUM_LATITUDE = 48.2765
  POSITIVE_LONGITUDE_DIRECTION = EAST
  REFERENCE_LATITUDE = "N/A"
  REFERENCE_LONGITUDE = "N/A"
  SAMPLE_FIRST_PIXEL = 1
  SAMPLE_LAST_PIXEL = 1262
  SAMPLE_PROJECTION_OFFSET = 491.0625
  SECOND_STANDARD_PARALLEL = "N/A"
  WESTERNMOST_LONGITUDE = 19.4222
END_OBJECT = IMAGE_MAP_PROJECTION
/* The JPEG2000 image data file associated with this label. */
OBJECT = COMPRESSED_FILE
  FILE_NAME = "H9579_0000_BL3.JP2"
  RECORD_TYPE = UNDEFINED
  FILE_RECORDS = UNK
  ENCODING_TYPE = "JP2"
  INTERCHANGE_FORMAT = BINARY
  UNCOMPRESSED_FILE_NAME = "H9579_0000_BL3.IMG"
  REQUIRED_STORAGE_BYTES = "8378418"
  ^DESCRIPTION = "JP2INFO.TXT"
END_OBJECT = COMPRESSED_FILE
END
