PDS_VERSION_ID = PDS3
/* FILE DATA ELEMENTS */
RECORD_TYPE = STREAM
/* POINTERS TO DATA OBJECTS */
^COMPRESSED_FILE = "H9579_0000_ND3.JP2"
/* IDENTIFICATION DATA ELEMENTS */
DATA_SET_ID = "MEX-M-HRSC-5-REFDR-MAPPROJECTED-V3.0"
DATA_SET_NAME = "MARS EXPRESS HRSC MAP PROJECTED REFDR V3.0"
DETECTOR_ID = MEX_HRSC_NADIR
EVENT_TYPE = "MARS-REGIONAL-MAPPING-Im-Fl-Pf"
INSTRUMENT_HOST_ID = MEX
INSTRUMENT_HOST_NAME = "MARS EXPRESS"
INSTRUMENT_ID = HRSC
INSTRUMENT_NAME = "HIGH RESOLUTION STEREO CAMERA"
MISSION_NAME = "MARS EXPRESS"
MISSION_PHASE_NAME = ME_Phase_23
PROCESSING_LEVEL_ID = 3
PRODUCT_CREATION_TIME = 2016-10-27T01:50:53.000Z
PRODUCT_ID = "H9579_0000_ND3.JP2"
RELEASE_ID = 0098
REVISION_ID = 0000
/* QUALITY DATA ELEMENTS */
DATA_QUALITY_ID = 1
DATA_QUALITY_DESC = "Data calculated based on original SPICE kernels"
/* TIME DATA ELEMENTS */
SPACECRAFT_CLOCK_START_COUNT = "1/0257890938.09062"
SPACECRAFT_CLOCK_STOP_COUNT = "1/0257891184.18256"
START_TIME = 2011-07-04T20:22:56.304Z
STOP_TIME = 2011-07-04T20:25:49.297Z
/* ORBITAL DATA ELEMENTS */
ASCENDING_NODE_LONGITUDE = 34.35
MAXIMUM_RESOLUTION = 15.1
FOOTPRINT_POINT_LATITUDE = (59.4126,59.3807,59.3437,59.3104,59.09, 58.8695,58.6489,58.4283,58.2076,57.8763 ,57.6555,57.3242,57.1032,56.8822, 56.6611,56.3295,55.9977,55.7765,55.5552 ,55.2233,54.8913,54.67,54.4487,54.2273, 54.0059,53.7846,53.5632,53.3418,53.1204 ,52.8991,52.6777,52.4564,52.235,52.0137 ,51.7924,51.5712,51.3499,51.1287, 50.9075,50.6864,50.4653,50.0232,49.5812 ,49.1395,48.698,48.2568,48.2666,48.2788 ,48.2954,48.3147,48.5361,48.7575,48.979 ,49.2005,49.4221,49.6438,49.8655, 50.0873,50.3092,50.5311,50.753,50.975, 51.1971,51.4192,51.6413,51.8635,52.0857 ,52.3079,52.5301,52.7524,52.9747, 53.1971,53.4194,53.6418,53.8642,54.0866 ,54.309,54.5314,54.7538,55.0875,55.3099 ,55.5323,55.7547,55.9771,56.1995, 56.4218,56.6442,56.8665,57.0888,57.3111 ,57.5334,57.7556,57.9778,58.2,58.4221, 58.6441,58.8662,59.0882,59.3101, 59.4126)
FOOTPRINT_POINT_LONGITUDE = (21.5814,20.7967,20.0063,19.3372, 19.3849,19.4319,19.4781,19.5235,19.5681 ,19.6292,19.6742,19.7389,19.7794, 19.8193,19.8584,19.9163,19.9724,20.0082 ,20.044,20.0966,20.1473,20.1808,20.2138 ,20.2457,20.2771,20.3081,20.3384, 20.3685,20.3974,20.4258,20.4544,20.4821 ,20.5093,20.5358,20.5621,20.5876, 20.6129,20.6376,20.6622,20.6859,20.7092 ,20.7549,20.799,20.841,20.8815,20.9204, 21.3694,21.7125,22.235,22.9623,22.9488, 22.9349,22.921,22.9071,22.8928,22.8783, 22.8636,22.8486,22.8335,22.8181,22.8026 ,22.7868,22.7707,22.7545,22.738,22.7212 ,22.7042,22.687,22.6695,22.6517,22.6338 ,22.6155,22.597,22.5781,22.559,22.5396, 22.52,22.5,22.4798,22.4488,22.4277, 22.4063,22.3845,22.3624,22.34,22.3173, 22.2942,22.2708,22.2469,22.2227,22.1982 ,22.1731,22.1477,22.1219,22.0956,22.069 ,22.0419,22.0144,21.9864,21.5814)
ORBIT_NUMBER = 9579
ORBITAL_ECCENTRICITY = 0.573
ORBITAL_INCLINATION = 86.87
ORBITAL_SEMIMAJOR_AXIS = 8793.35
PERIAPSIS_ALTITUDE = 374.31
PERIAPSIS_ARGUMENT_ANGLE = 124.43
PERIAPSIS_TIME = 2011-07-04T20:23:57.000Z
SPACECRAFT_ORIENTATION = (0.0,-1.0,0.0)
^MEX_ORIENTATION_DESC = "MEX_ORIENTATION_DESC.TXT"
SPACECRAFT_POINTING_MODE = ACROSSTRACK
^MEX_POINTING_DESC = "MEX_POINTING_DESC.TXT"
RIGHT_ASCENSION = -1e+32
DECLINATION = -1e+32
OFFSET_ANGLE = -0.4
SPACECRAFT_SOLAR_DISTANCE = 2.1941e+08
TARGET_NAME = MARS
/* CAMERA DATA ELEMENTS */
DETECTOR_TEMPERATURE = 18.3705
FOCAL_PLANE_TEMPERATURE = 8.1755
INST_CMPRS_NAME = "DISCRETE COSINE TRANSFORMATION (DCT)"
INST_CMPRS_RATIO = 8.24874
INST_CMPRS_QUALITY = 0
INST_CMPRS_QUANTZ_TBL_ID = 0
INSTRUMENT_TEMPERATURE = 10.6223
LENS_TEMPERATURE = 8.9911
MACROPIXEL_SIZE = 1
MISSING_FRAMES = 0
PIXEL_SUBSAMPLING_FLAG = N
SIGNAL_CHAIN_ID = 0
/* RADIOMETRIC DATA ELEMENTS */
BANDWIDTH = 177.0
CENTER_FILTER_WAVELENGTH = 677.5
RADIANCE_OFFSET = 3.2004
RADIANCE_SCALING_FACTOR = 0.0119151
REFLECTANCE_SCALING_FACTOR = 0.000304718
MEX:REFLECTANCE_OFFSET = 0.0818472
/* IMAGE OBJECT DEFINITIONS */
OBJECT = IMAGE
  INTERCHANGE_FORMAT = BINARY
  LINES = 52990
  LINE_SAMPLES = 10095
  SAMPLE_TYPE = UNSIGNED_INTEGER
  SAMPLE_BITS = 8
  BANDS = 1
  BAND_STORAGE_TYPE = BAND_SEQUENTIAL
  MAXIMUM = 255
  MEAN = 112.975
  MINIMUM = 1
  STANDARD_DEVIATION = 46.0045
END_OBJECT = IMAGE
/* MAP OBJECT DEFINITIONS */
OBJECT = IMAGE_MAP_PROJECTION
  ^DATA_SET_MAP_PROJECTION_CATALOG= "DSMAP.CAT"
  A_AXIS_RADIUS = 3396.0
  B_AXIS_RADIUS = 3396.0
  C_AXIS_RADIUS = 3396.0
  CENTER_LATITUDE = 0.0
  CENTER_LONGITUDE = 21.0
  COORDINATE_SYSTEM_NAME = PLANETOGRAPHIC
  COORDINATE_SYSTEM_TYPE = "BODY-FIXED ROTATING"
  EASTERNMOST_LONGITUDE = 22.9623
  FIRST_STANDARD_PARALLEL = "N/A"
  LINE_FIRST_PIXEL = 1
  LINE_LAST_PIXEL = 52990
  LINE_PROJECTION_OFFSET = 281779.0
  MAP_PROJECTION_ROTATION = 0.0
  MAP_PROJECTION_TYPE = SINUSOIDAL
  MAP_RESOLUTION = 4741.71043093333
  MAP_SCALE = 0.0125
  MAXIMUM_LATITUDE = 59.4126
  MINIMUM_LATITUDE = 48.2568
  POSITIVE_LONGITUDE_DIRECTION = EAST
  REFERENCE_LATITUDE = "N/A"
  REFERENCE_LONGITUDE = "N/A"
  SAMPLE_FIRST_PIXEL = 1
  SAMPLE_LAST_PIXEL = 10095
  SAMPLE_PROJECTION_OFFSET = 3932.0
  SECOND_STANDARD_PARALLEL = "N/A"
  WESTERNMOST_LONGITUDE = 19.3372
END_OBJECT = IMAGE_MAP_PROJECTION
/* The JPEG2000 image data file associated with this label. */
OBJECT = COMPRESSED_FILE
  FILE_NAME = "H9579_0000_ND3.JP2"
  RECORD_TYPE = UNDEFINED
  FILE_RECORDS = UNK
  ENCODING_TYPE = "JP2"
  INTERCHANGE_FORMAT = BINARY
  UNCOMPRESSED_FILE_NAME = "H9579_0000_ND3.IMG"
  REQUIRED_STORAGE_BYTES = "534964335"
  ^DESCRIPTION = "JP2INFO.TXT"
END_OBJECT = COMPRESSED_FILE
END
