PDS_VERSION_ID = PDS3
/* FILE DATA ELEMENTS */
RECORD_TYPE = STREAM
/* POINTERS TO DATA OBJECTS */
^COMPRESSED_FILE = "H9579_0001_IR3.JP2"
/* IDENTIFICATION DATA ELEMENTS */
DATA_SET_ID = "MEX-M-HRSC-5-REFDR-MAPPROJECTED-V3.0"
DATA_SET_NAME = "MARS EXPRESS HRSC MAP PROJECTED REFDR V3.0"
DETECTOR_ID = MEX_HRSC_IR
EVENT_TYPE = "MARS-REGIONAL-MAPPING-Im-Fl"
INSTRUMENT_HOST_ID = MEX
INSTRUMENT_HOST_NAME = "MARS EXPRESS"
INSTRUMENT_ID = HRSC
INSTRUMENT_NAME = "HIGH RESOLUTION STEREO CAMERA"
MISSION_NAME = "MARS EXPRESS"
MISSION_PHASE_NAME = ME_Phase_23
PROCESSING_LEVEL_ID = 3
PRODUCT_CREATION_TIME = 2016-10-27T01:50:53.000Z
PRODUCT_ID = "H9579_0001_IR3.JP2"
RELEASE_ID = 0098
REVISION_ID = 0000
/* QUALITY DATA ELEMENTS */
DATA_QUALITY_ID = 1
DATA_QUALITY_DESC = "Data calculated based on original SPICE kernels"
/* TIME DATA ELEMENTS */
SPACECRAFT_CLOCK_START_COUNT = "1/0257891424.08278"
SPACECRAFT_CLOCK_STOP_COUNT = "1/0257891786.07855"
START_TIME = 2011-07-04T20:30:34.896Z
STOP_TIME = 2011-07-04T20:33:58.137Z
/* ORBITAL DATA ELEMENTS */
ASCENDING_NODE_LONGITUDE = 34.35
MAXIMUM_RESOLUTION = 83.7
FOOTPRINT_POINT_LATITUDE = (28.1125,28.1088,28.1041,28.0984, 28.0917,28.084,28.0753,27.8127,27.3498, 26.892,26.5462,25.855,25.3842,25.1463, 24.9067,24.6688,24.4272,24.1829,23.945, 23.6996,23.4507,23.2032,22.9558,22.7055 ,22.4537,22.2034,21.9492,21.6931,21.438 ,21.1798,20.914,20.6553,20.4023,20.1428 ,19.7564,19.4982,19.2408,18.9846, 18.7277,18.4716,18.2159,17.9604,17.7049 ,17.4499,17.1951,16.941,16.6871,16.4339 ,16.1808,15.9279,15.6754,15.548,15.5525 ,15.5551,15.5545,15.555,15.5538,15.9341 ,16.1876,16.4418,16.8231,17.0784, 17.3333,17.5887,17.8448,18.1026,18.359, 18.6178,18.9999,19.2575,19.519,19.9082, 20.2954,20.5512,20.811,21.1996,21.459, 21.7153,21.9718,22.2261,22.4774,22.7313 ,22.9822,23.2307,23.4772,23.7247, 23.9689,24.2121,24.4557,24.6965,24.9359 ,25.1767,25.4159,25.6523,26.006,26.2417 ,26.7046,27.2829,27.7381,28.1125)
FOOTPRINT_POINT_LONGITUDE = (23.5588,23.2679,22.976,22.6831,22.3892 ,22.0944,21.798,21.6445,21.6371,21.6338 ,21.6318,21.6299,21.6246,21.6218, 21.6187,21.6163,21.612,21.6081,21.6075, 21.6024,21.5974,21.5931,21.5886,21.5839 ,21.579,21.5745,21.5692,21.5634,21.5579 ,21.5523,21.5428,21.5368,21.5336, 21.5265,21.5168,21.5096,21.5025,21.4958 ,21.4883,21.481,21.4735,21.4659,21.4579 ,21.4498,21.4415,21.4333,21.4249, 21.4165,21.4079,21.399,21.3901,21.6786, 22.1751,22.5123,22.8484,23.1839,23.6516 ,23.7893,23.7872,23.7849,23.7816, 23.7792,23.7769,23.7746,23.7721,23.7693 ,23.7668,23.7638,23.7608,23.7581, 23.7546,23.7501,23.7461,23.744,23.741, 23.7368,23.7338,23.7306,23.7275,23.7244 ,23.7214,23.7179,23.7147,23.7113, 23.7084,23.7052,23.7018,23.6986,23.6953 ,23.6919,23.6886,23.6849,23.6813, 23.6776,23.6722,23.6686,23.6613,23.6516 ,23.6439,23.5588)
ORBIT_NUMBER = 9579
ORBITAL_ECCENTRICITY = 0.573
ORBITAL_INCLINATION = 86.87
ORBITAL_SEMIMAJOR_AXIS = 8793.35
PERIAPSIS_ALTITUDE = 374.31
PERIAPSIS_ARGUMENT_ANGLE = 124.43
PERIAPSIS_TIME = 2011-07-04T20:23:57.000Z
SPACECRAFT_ORIENTATION = (0.0,-1.0,0.0)
^MEX_ORIENTATION_DESC = "MEX_ORIENTATION_DESC.TXT"
SPACECRAFT_POINTING_MODE = ACROSSTRACK
^MEX_POINTING_DESC = "MEX_POINTING_DESC.TXT"
RIGHT_ASCENSION = -1e+32
DECLINATION = -1e+32
OFFSET_ANGLE = -0.4
SPACECRAFT_SOLAR_DISTANCE = 2.1941e+08
TARGET_NAME = MARS
/* CAMERA DATA ELEMENTS */
DETECTOR_TEMPERATURE = 18.5744
FOCAL_PLANE_TEMPERATURE = 8.3794
INST_CMPRS_NAME = "DISCRETE COSINE TRANSFORMATION (DCT)"
INST_CMPRS_RATIO = 14.6324
INST_CMPRS_QUALITY = 0
INST_CMPRS_QUANTZ_TBL_ID = 0
INSTRUMENT_TEMPERATURE = 12.8652
LENS_TEMPERATURE = 8.7872
MACROPIXEL_SIZE = 4
MISSING_FRAMES = 0
PIXEL_SUBSAMPLING_FLAG = N
SIGNAL_CHAIN_ID = 2
/* RADIOMETRIC DATA ELEMENTS */
BANDWIDTH = 81.0
CENTER_FILTER_WAVELENGTH = 955.5
RADIANCE_OFFSET = 2.10807
RADIANCE_SCALING_FACTOR = 0.00500786
REFLECTANCE_SCALING_FACTOR = 0.000520113
MEX:REFLECTANCE_OFFSET = 0.218943
/* IMAGE OBJECT DEFINITIONS */
OBJECT = IMAGE
  INTERCHANGE_FORMAT = BINARY
  LINES = 7425
  LINE_SAMPLES = 1518
  SAMPLE_TYPE = UNSIGNED_INTEGER
  SAMPLE_BITS = 8
  BANDS = 1
  BAND_STORAGE_TYPE = BAND_SEQUENTIAL
  MAXIMUM = 255
  MEAN = 137.975
  MINIMUM = 1
  STANDARD_DEVIATION = 22.134
END_OBJECT = IMAGE
/* MAP OBJECT DEFINITIONS */
OBJECT = IMAGE_MAP_PROJECTION
  ^DATA_SET_MAP_PROJECTION_CATALOG= "DSMAP.CAT"
  A_AXIS_RADIUS = 3396.0
  B_AXIS_RADIUS = 3396.0
  C_AXIS_RADIUS = 3396.0
  CENTER_LATITUDE = 0.0
  CENTER_LONGITUDE = 23.0
  COORDINATE_SYSTEM_NAME = PLANETOGRAPHIC
  COORDINATE_SYSTEM_TYPE = "BODY-FIXED ROTATING"
  EASTERNMOST_LONGITUDE = 23.7893
  FIRST_STANDARD_PARALLEL = "N/A"
  LINE_FIRST_PIXEL = 1
  LINE_LAST_PIXEL = 7425
  LINE_PROJECTION_OFFSET = 16637.875
  MAP_PROJECTION_ROTATION = 0.0
  MAP_PROJECTION_TYPE = SINUSOIDAL
  MAP_RESOLUTION = 592.713803866667
  MAP_SCALE = 0.1
  MAXIMUM_LATITUDE = 28.1125
  MINIMUM_LATITUDE = 15.548
  POSITIVE_LONGITUDE_DIRECTION = EAST
  REFERENCE_LATITUDE = "N/A"
  REFERENCE_LONGITUDE = "N/A"
  SAMPLE_FIRST_PIXEL = 1
  SAMPLE_LAST_PIXEL = 1518
  SAMPLE_PROJECTION_OFFSET = 1001.125
  SECOND_STANDARD_PARALLEL = "N/A"
  WESTERNMOST_LONGITUDE = 21.3901
END_OBJECT = IMAGE_MAP_PROJECTION
/* The JPEG2000 image data file associated with this label. */
OBJECT = COMPRESSED_FILE
  FILE_NAME = "H9579_0001_IR3.JP2"
  RECORD_TYPE = UNDEFINED
  FILE_RECORDS = UNK
  ENCODING_TYPE = "JP2"
  INTERCHANGE_FORMAT = BINARY
  UNCOMPRESSED_FILE_NAME = "H9579_0001_IR3.IMG"
  REQUIRED_STORAGE_BYTES = "11290884"
  ^DESCRIPTION = "JP2INFO.TXT"
END_OBJECT = COMPRESSED_FILE
END
