PDS_VERSION_ID = PDS3
/* FILE DATA ELEMENTS */
RECORD_TYPE = STREAM
/* POINTERS TO DATA OBJECTS */
^COMPRESSED_FILE = "H9579_0001_ND3.JP2"
/* IDENTIFICATION DATA ELEMENTS */
DATA_SET_ID = "MEX-M-HRSC-5-REFDR-MAPPROJECTED-V3.0"
DATA_SET_NAME = "MARS EXPRESS HRSC MAP PROJECTED REFDR V3.0"
DETECTOR_ID = MEX_HRSC_NADIR
EVENT_TYPE = "MARS-REGIONAL-MAPPING-Im-Fl"
INSTRUMENT_HOST_ID = MEX
INSTRUMENT_HOST_NAME = "MARS EXPRESS"
INSTRUMENT_ID = HRSC
INSTRUMENT_NAME = "HIGH RESOLUTION STEREO CAMERA"
MISSION_NAME = "MARS EXPRESS"
MISSION_PHASE_NAME = ME_Phase_23
PROCESSING_LEVEL_ID = 3
PRODUCT_CREATION_TIME = 2016-10-27T01:50:53.000Z
PRODUCT_ID = "H9579_0001_ND3.JP2"
RELEASE_ID = 0098
REVISION_ID = 0000
/* QUALITY DATA ELEMENTS */
DATA_QUALITY_ID = 1
DATA_QUALITY_DESC = "Data calculated based on original SPICE kernels"
/* TIME DATA ELEMENTS */
SPACECRAFT_CLOCK_START_COUNT = "1/0257891424.08278"
SPACECRAFT_CLOCK_STOP_COUNT = "1/0257891786.07855"
START_TIME = 2011-07-04T20:31:15.549Z
STOP_TIME = 2011-07-04T20:34:56.549Z
/* ORBITAL DATA ELEMENTS */
ASCENDING_NODE_LONGITUDE = 34.35
MAXIMUM_RESOLUTION = 21.1
FOOTPRINT_POINT_LATITUDE = (28.0713,28.0712,28.0693,28.0671, 28.0634,27.5832,26.8583,26.3703,26.1227 ,25.8749,25.6276,25.3765,25.1253, 24.7467,24.4919,24.2376,23.9795,23.7214 ,23.4637,23.2066,22.9499,22.6937, 22.4379,22.1827,21.9279,21.6737,21.42, 21.1667,20.9141,20.6619,20.41,20.1588, 19.908,19.6578,19.4081,19.1589,18.9102, 18.662,18.4144,18.1672,17.9206,17.6745, 17.429,17.1839,16.6954,16.209,15.7247, 15.5787,15.5758,15.5712,15.568,15.563, 15.5554,15.5501,15.6671,16.1535,16.6418 ,16.8868,17.1323,17.3784,17.6249, 17.8719,18.1195,18.3675,18.6161,18.8653 ,19.1149,19.365,19.6156,19.8666,20.1183 ,20.3704,20.6231,20.8762,21.1298, 21.3839,21.6386,21.8936,22.1492,22.4053 ,22.6618,22.9188,23.1763,23.4344, 23.6929,23.9518,24.2111,24.4662,24.7218 ,24.9762,25.2279,25.4801,25.8542, 26.1027,26.3515,26.5959,26.8408,27.4476 ,27.9298,28.0713)
FOOTPRINT_POINT_LONGITUDE = (23.3756,23.0504,22.499,22.1708,21.7788 ,21.5812,21.5696,21.5679,21.5666, 21.5634,21.5601,21.5562,21.5524,21.5468 ,21.5419,21.5367,21.5352,21.5288, 21.5228,21.5174,21.5114,21.5058,21.5002 ,21.4946,21.4881,21.4814,21.4752, 21.4688,21.4582,21.451,21.4476,21.4396, 21.4322,21.4242,21.4166,21.4089,21.4009 ,21.3928,21.3846,21.3763,21.3678, 21.3589,21.35,21.3411,21.3227,21.3041, 21.2846,21.5119,21.8225,22.2345,22.4911 ,22.8498,23.3353,23.641,23.881,23.8749, 23.8684,23.8653,23.8621,23.8589,23.8558 ,23.8523,23.8486,23.845,23.8413,23.8388 ,23.8363,23.8326,23.8277,23.8235, 23.8197,23.8165,23.8136,23.8098,23.8062 ,23.8024,23.7986,23.7945,23.7905, 23.7867,23.7826,23.778,23.7739,23.7699, 23.7659,23.7617,23.7575,23.7533,23.7491 ,23.7447,23.7401,23.7354,23.7286, 23.7242,23.7196,23.7151,23.7106,23.6988 ,23.689,23.3756)
ORBIT_NUMBER = 9579
ORBITAL_ECCENTRICITY = 0.573
ORBITAL_INCLINATION = 86.87
ORBITAL_SEMIMAJOR_AXIS = 8793.35
PERIAPSIS_ALTITUDE = 374.31
PERIAPSIS_ARGUMENT_ANGLE = 124.43
PERIAPSIS_TIME = 2011-07-04T20:23:57.000Z
SPACECRAFT_ORIENTATION = (0.0,-1.0,0.0)
^MEX_ORIENTATION_DESC = "MEX_ORIENTATION_DESC.TXT"
SPACECRAFT_POINTING_MODE = ACROSSTRACK
^MEX_POINTING_DESC = "MEX_POINTING_DESC.TXT"
RIGHT_ASCENSION = -1e+32
DECLINATION = -1e+32
OFFSET_ANGLE = -0.4
SPACECRAFT_SOLAR_DISTANCE = 2.1941e+08
TARGET_NAME = MARS
/* CAMERA DATA ELEMENTS */
DETECTOR_TEMPERATURE = 19.5939
FOCAL_PLANE_TEMPERATURE = 8.3794
INST_CMPRS_NAME = "DISCRETE COSINE TRANSFORMATION (DCT)"
INST_CMPRS_RATIO = 7.17739
INST_CMPRS_QUALITY = 0
INST_CMPRS_QUANTZ_TBL_ID = 0
INSTRUMENT_TEMPERATURE = 12.8652
LENS_TEMPERATURE = 8.7872
MACROPIXEL_SIZE = 1
MISSING_FRAMES = 0
PIXEL_SUBSAMPLING_FLAG = N
SIGNAL_CHAIN_ID = 0
/* RADIOMETRIC DATA ELEMENTS */
BANDWIDTH = 177.0
CENTER_FILTER_WAVELENGTH = 677.5
RADIANCE_OFFSET = 7.59982
RADIANCE_SCALING_FACTOR = 0.0181411
REFLECTANCE_SCALING_FACTOR = 0.000463944
MEX:REFLECTANCE_OFFSET = 0.194359
/* IMAGE OBJECT DEFINITIONS */
OBJECT = IMAGE
  INTERCHANGE_FORMAT = BINARY
  LINES = 29697
  LINE_SAMPLES = 6071
  SAMPLE_TYPE = UNSIGNED_INTEGER
  SAMPLE_BITS = 8
  BANDS = 1
  BAND_STORAGE_TYPE = BAND_SEQUENTIAL
  MAXIMUM = 255
  MEAN = 133.708
  MINIMUM = 1
  STANDARD_DEVIATION = 24.098
END_OBJECT = IMAGE
/* MAP OBJECT DEFINITIONS */
OBJECT = IMAGE_MAP_PROJECTION
  ^DATA_SET_MAP_PROJECTION_CATALOG= "DSMAP.CAT"
  A_AXIS_RADIUS = 3396.0
  B_AXIS_RADIUS = 3396.0
  C_AXIS_RADIUS = 3396.0
  CENTER_LATITUDE = 0.0
  CENTER_LONGITUDE = 23.0
  COORDINATE_SYSTEM_NAME = PLANETOGRAPHIC
  COORDINATE_SYSTEM_TYPE = "BODY-FIXED ROTATING"
  EASTERNMOST_LONGITUDE = 23.881
  FIRST_STANDARD_PARALLEL = "N/A"
  LINE_FIRST_PIXEL = 1
  LINE_LAST_PIXEL = 29697
  LINE_PROJECTION_OFFSET = 66553.0
  MAP_PROJECTION_ROTATION = 0.0
  MAP_PROJECTION_TYPE = SINUSOIDAL
  MAP_RESOLUTION = 2370.85521546667
  MAP_SCALE = 0.025
  MAXIMUM_LATITUDE = 28.0713
  MINIMUM_LATITUDE = 15.5501
  POSITIVE_LONGITUDE_DIRECTION = EAST
  REFERENCE_LATITUDE = "N/A"
  REFERENCE_LONGITUDE = "N/A"
  SAMPLE_FIRST_PIXEL = 1
  SAMPLE_LAST_PIXEL = 6071
  SAMPLE_PROJECTION_OFFSET = 4006.0
  SECOND_STANDARD_PARALLEL = "N/A"
  WESTERNMOST_LONGITUDE = 21.2846
END_OBJECT = IMAGE_MAP_PROJECTION
/* The JPEG2000 image data file associated with this label. */
OBJECT = COMPRESSED_FILE
  FILE_NAME = "H9579_0001_ND3.JP2"
  RECORD_TYPE = UNDEFINED
  FILE_RECORDS = UNK
  ENCODING_TYPE = "JP2"
  INTERCHANGE_FORMAT = BINARY
  UNCOMPRESSED_FILE_NAME = "H9579_0001_ND3.IMG"
  REQUIRED_STORAGE_BYTES = "180320842"
  ^DESCRIPTION = "JP2INFO.TXT"
END_OBJECT = COMPRESSED_FILE
END
