PDS_VERSION_ID = PDS3
/* FILE DATA ELEMENTS */
RECORD_TYPE = STREAM
/* POINTERS TO DATA OBJECTS */
^COMPRESSED_FILE = "H9579_0001_S23.JP2"
/* IDENTIFICATION DATA ELEMENTS */
DATA_SET_ID = "MEX-M-HRSC-5-REFDR-MAPPROJECTED-V3.0"
DATA_SET_NAME = "MARS EXPRESS HRSC MAP PROJECTED REFDR V3.0"
DETECTOR_ID = MEX_HRSC_S2
EVENT_TYPE = "MARS-REGIONAL-MAPPING-Im-Fl"
INSTRUMENT_HOST_ID = MEX
INSTRUMENT_HOST_NAME = "MARS EXPRESS"
INSTRUMENT_ID = HRSC
INSTRUMENT_NAME = "HIGH RESOLUTION STEREO CAMERA"
MISSION_NAME = "MARS EXPRESS"
MISSION_PHASE_NAME = ME_Phase_23
PROCESSING_LEVEL_ID = 3
PRODUCT_CREATION_TIME = 2016-10-27T01:50:53.000Z
PRODUCT_ID = "H9579_0001_S23.JP2"
RELEASE_ID = 0098
REVISION_ID = 0000
/* QUALITY DATA ELEMENTS */
DATA_QUALITY_ID = 1
DATA_QUALITY_DESC = "Data calculated based on original SPICE kernels"
/* TIME DATA ELEMENTS */
SPACECRAFT_CLOCK_START_COUNT = "1/0257891424.08278"
SPACECRAFT_CLOCK_STOP_COUNT = "1/0257891786.07855"
START_TIME = 2011-07-04T20:32:12.824Z
STOP_TIME = 2011-07-04T20:36:27.215Z
/* ORBITAL DATA ELEMENTS */
ASCENDING_NODE_LONGITUDE = 34.35
MAXIMUM_RESOLUTION = 48.9
FOOTPRINT_POINT_LATITUDE = (28.024,28.0299,28.0356,28.0412,28.0467 ,28.052,28.0961,27.8324,27.444,27.1772, 26.9109,26.6455,26.3752,26.1052,25.8422 ,25.4493,25.1893,24.9287,24.6687, 24.2831,24.02,23.7672,23.5137,23.2604, 23.0071,22.627,22.3746,22.1242,21.8751, 21.627,21.3779,21.1306,20.8937,20.517, 20.1527,19.9101,19.6688,19.4271,19.1866 ,18.8276,18.5895,18.3516,18.1146, 17.8792,17.6447,17.2941,17.0616,16.5988 ,16.1393,15.683,15.6219,15.6119,15.5989 ,15.585,15.567,15.5523,15.5419,15.5331, 15.874,16.335,16.9175,17.2694,17.5045, 17.7406,18.0943,18.3314,18.5754,18.8213 ,19.0663,19.3079,19.5445,19.7786, 20.0199,20.2679,20.6393,20.8859,21.134, 21.3831,21.6323,21.8823,22.1339,22.387, 22.6381,22.8899,23.1462,23.4019,23.6599 ,23.917,24.1765,24.5672,24.9569,25.3481 ,25.6093,25.8718,26.2695,26.5356, 26.8021,27.2016,27.6047,28.024)
FOOTPRINT_POINT_LONGITUDE = (23.6498,23.3008,22.9506,22.5992,22.247 ,21.893,21.4885,21.485,21.4748,21.4708, 21.4667,21.4624,21.4605,21.4586,21.4536 ,21.4458,21.4399,21.4345,21.429,21.419, 21.4153,21.4072,21.3997,21.3922,21.385, 21.3745,21.3673,21.3595,21.3513,21.3429 ,21.3351,21.3267,21.3142,21.3047, 21.2905,21.2812,21.2716,21.2623,21.2528 ,21.2381,21.2281,21.2182,21.2081, 21.1977,21.187,21.171,21.1601,21.1381, 21.1156,21.0927,21.4114,21.6745,22.0528 ,22.4299,22.9797,23.4125,23.7293,23.988 ,24.0763,24.0653,24.052,24.0439,24.0383 ,24.0328,24.0241,24.0183,24.0139, 24.0098,24.0053,23.9997,23.9927,23.9849 ,23.9786,23.9737,23.9657,23.9599, 23.9542,23.9486,23.9427,23.9368,23.931, 23.9254,23.9191,23.9127,23.9071,23.9012 ,23.8956,23.8895,23.8837,23.8749, 23.8655,23.8558,23.8492,23.8426,23.8331 ,23.8267,23.8202,23.8099,23.7999, 23.6498)
ORBIT_NUMBER = 9579
ORBITAL_ECCENTRICITY = 0.573
ORBITAL_INCLINATION = 86.87
ORBITAL_SEMIMAJOR_AXIS = 8793.35
PERIAPSIS_ALTITUDE = 374.31
PERIAPSIS_ARGUMENT_ANGLE = 124.43
PERIAPSIS_TIME = 2011-07-04T20:23:57.000Z
SPACECRAFT_ORIENTATION = (0.0,-1.0,0.0)
^MEX_ORIENTATION_DESC = "MEX_ORIENTATION_DESC.TXT"
SPACECRAFT_POINTING_MODE = ACROSSTRACK
^MEX_POINTING_DESC = "MEX_POINTING_DESC.TXT"
RIGHT_ASCENSION = -1e+32
DECLINATION = -1e+32
OFFSET_ANGLE = -0.4
SPACECRAFT_SOLAR_DISTANCE = 2.1941e+08
TARGET_NAME = MARS
/* CAMERA DATA ELEMENTS */
DETECTOR_TEMPERATURE = 20.2056
FOCAL_PLANE_TEMPERATURE = 8.3794
INST_CMPRS_NAME = "DISCRETE COSINE TRANSFORMATION (DCT)"
INST_CMPRS_RATIO = 12.2917
INST_CMPRS_QUALITY = 0
INST_CMPRS_QUANTZ_TBL_ID = 0
INSTRUMENT_TEMPERATURE = 12.8652
LENS_TEMPERATURE = 8.7872
MACROPIXEL_SIZE = 2
MISSING_FRAMES = 0
PIXEL_SUBSAMPLING_FLAG = N
SIGNAL_CHAIN_ID = 1
/* RADIOMETRIC DATA ELEMENTS */
BANDWIDTH = 178.0
CENTER_FILTER_WAVELENGTH = 679.0
RADIANCE_OFFSET = 8.70343
RADIANCE_SCALING_FACTOR = 0.0146276
REFLECTANCE_SCALING_FACTOR = 0.000372924
MEX:REFLECTANCE_OFFSET = 0.22189
/* IMAGE OBJECT DEFINITIONS */
OBJECT = IMAGE
  INTERCHANGE_FORMAT = BINARY
  LINES = 14849
  LINE_SAMPLES = 3036
  SAMPLE_TYPE = UNSIGNED_INTEGER
  SAMPLE_BITS = 8
  BANDS = 1
  BAND_STORAGE_TYPE = BAND_SEQUENTIAL
  MAXIMUM = 255
  MEAN = 137.652
  MINIMUM = 1
  STANDARD_DEVIATION = 30.1778
END_OBJECT = IMAGE
/* MAP OBJECT DEFINITIONS */
OBJECT = IMAGE_MAP_PROJECTION
  ^DATA_SET_MAP_PROJECTION_CATALOG= "DSMAP.CAT"
  A_AXIS_RADIUS = 3396.0
  B_AXIS_RADIUS = 3396.0
  C_AXIS_RADIUS = 3396.0
  CENTER_LATITUDE = 0.0
  CENTER_LONGITUDE = 23.0
  COORDINATE_SYSTEM_NAME = PLANETOGRAPHIC
  COORDINATE_SYSTEM_TYPE = "BODY-FIXED ROTATING"
  EASTERNMOST_LONGITUDE = 24.0763
  FIRST_STANDARD_PARALLEL = "N/A"
  LINE_FIRST_PIXEL = 1
  LINE_LAST_PIXEL = 14849
  LINE_PROJECTION_OFFSET = 33276.25
  MAP_PROJECTION_ROTATION = 0.0
  MAP_PROJECTION_TYPE = SINUSOIDAL
  MAP_RESOLUTION = 1185.42760773333
  MAP_SCALE = 0.05
  MAXIMUM_LATITUDE = 28.0961
  MINIMUM_LATITUDE = 15.5331
  POSITIVE_LONGITUDE_DIRECTION = EAST
  REFERENCE_LATITUDE = "N/A"
  REFERENCE_LONGITUDE = "N/A"
  SAMPLE_FIRST_PIXEL = 1
  SAMPLE_LAST_PIXEL = 3036
  SAMPLE_PROJECTION_OFFSET = 2002.75
  SECOND_STANDARD_PARALLEL = "N/A"
  WESTERNMOST_LONGITUDE = 21.0927
END_OBJECT = IMAGE_MAP_PROJECTION
/* The JPEG2000 image data file associated with this label. */
OBJECT = COMPRESSED_FILE
  FILE_NAME = "H9579_0001_S23.JP2"
  RECORD_TYPE = UNDEFINED
  FILE_RECORDS = UNK
  ENCODING_TYPE = "JP2"
  INTERCHANGE_FORMAT = BINARY
  UNCOMPRESSED_FILE_NAME = "H9579_0001_S23.IMG"
  REQUIRED_STORAGE_BYTES = "45105852"
  ^DESCRIPTION = "JP2INFO.TXT"
END_OBJECT = COMPRESSED_FILE
END
