PDS_VERSION_ID = PDS3
/* FILE DATA ELEMENTS */
RECORD_TYPE = STREAM
/* POINTERS TO DATA OBJECTS */
^COMPRESSED_FILE = "H9580_0000_S13.JP2"
/* IDENTIFICATION DATA ELEMENTS */
DATA_SET_ID = "MEX-M-HRSC-5-REFDR-MAPPROJECTED-V3.0"
DATA_SET_NAME = "MARS EXPRESS HRSC MAP PROJECTED REFDR V3.0"
DETECTOR_ID = MEX_HRSC_S1
EVENT_TYPE = "MARS-REGIONAL-MAPPING-Te-Im-Pf"
INSTRUMENT_HOST_ID = MEX
INSTRUMENT_HOST_NAME = "MARS EXPRESS"
INSTRUMENT_ID = HRSC
INSTRUMENT_NAME = "HIGH RESOLUTION STEREO CAMERA"
MISSION_NAME = "MARS EXPRESS"
MISSION_PHASE_NAME = ME_Phase_23
PROCESSING_LEVEL_ID = 3
PRODUCT_CREATION_TIME = 2016-10-27T01:50:53.000Z
PRODUCT_ID = "H9580_0000_S13.JP2"
RELEASE_ID = 0098
REVISION_ID = 0000
/* QUALITY DATA ELEMENTS */
DATA_QUALITY_ID = 1
DATA_QUALITY_DESC = "Data calculated based on original SPICE kernels"
/* TIME DATA ELEMENTS */
SPACECRAFT_CLOCK_START_COUNT = "1/0257916134.09141"
SPACECRAFT_CLOCK_STOP_COUNT = "1/0257916364.48787"
START_TIME = 2011-07-05T03:22:17.224Z
STOP_TIME = 2011-07-05T03:24:55.467Z
/* ORBITAL DATA ELEMENTS */
ASCENDING_NODE_LONGITUDE = 34.34
MAXIMUM_RESOLUTION = 31.9
FOOTPRINT_POINT_LATITUDE = (58.957,58.9524,58.9465,58.9306,58.8141 ,58.6152,58.4161,58.1174,57.9179, 57.7181,57.4184,57.2185,57.0185,56.8182 ,56.6175,56.4171,56.2163,56.0154, 55.7137,55.4117,55.2103,55.0087,54.807, 54.5046,54.2017,53.8991,53.6968,53.4947 ,53.2922,52.9883,52.7854,52.5782, 52.3756,52.1723,51.9653,51.7619,51.4566 ,51.2529,50.9476,50.7437,50.5401, 50.3362,50.1322,49.9279,49.7236,49.4188 ,49.2095,49.0098,48.8041,48.6962, 48.6964,48.6937,48.6936,48.6922,48.894, 49.0991,49.304,49.5087,49.7175,49.9222, 50.1273,50.3321,50.5368,50.8434,51.0478 ,51.354,51.6602,51.8642,52.0723,52.2761 ,52.5815,52.7891,52.9926,53.2974, 53.5006,53.7037,53.9067,54.1097,54.3126 ,54.5152,54.7178,55.0215,55.224,55.4262 ,55.6284,55.8304,56.0322,56.2339, 56.5363,56.8384,57.0396,57.2407,57.4417 ,57.6425,57.8431,58.0435,58.2438,58.544 ,58.8441,58.957)
FOOTPRINT_POINT_LONGITUDE = (280.944,280.551,280.161,279.39,279.003 ,279.034,279.065,279.11,279.139,279.168 ,279.21,279.237,279.264,279.291,279.317 ,279.343,279.368,279.393,279.429, 279.465,279.488,279.51,279.533,279.566, 279.597,279.628,279.649,279.668,279.688 ,279.717,279.735,279.754,279.772, 279.789,279.807,279.824,279.849,279.865 ,279.889,279.904,279.919,279.934, 279.949,279.963,279.977,279.998,280.011 ,280.024,280.037,280.43,280.761,281.333 ,281.73,282.077,282.073,282.067,282.061 ,282.055,282.049,282.042,282.035, 282.028,282.021,282.011,282.004,281.994 ,281.983,281.975,281.967,281.96,281.948 ,281.94,281.932,281.92,281.912,281.903, 281.895,281.886,281.877,281.868,281.859 ,281.845,281.835,281.825,281.816, 281.806,281.795,281.785,281.77,281.753, 281.743,281.731,281.72,281.709,281.697, 281.686,281.674,281.655,281.637, 280.944)
ORBIT_NUMBER = 9580
ORBITAL_ECCENTRICITY = 0.573
ORBITAL_INCLINATION = 86.87
ORBITAL_SEMIMAJOR_AXIS = 8793.27
PERIAPSIS_ALTITUDE = 374.02
PERIAPSIS_ARGUMENT_ANGLE = 124.27
PERIAPSIS_TIME = 2011-07-05T03:23:41.000Z
SPACECRAFT_ORIENTATION = (0.0,-1.0,0.0)
^MEX_ORIENTATION_DESC = "MEX_ORIENTATION_DESC.TXT"
SPACECRAFT_POINTING_MODE = ACROSSTRACK
^MEX_POINTING_DESC = "MEX_POINTING_DESC.TXT"
RIGHT_ASCENSION = -1e+32
DECLINATION = -1e+32
OFFSET_ANGLE = 0.5
SPACECRAFT_SOLAR_DISTANCE = 2.19465e+08
TARGET_NAME = MARS
/* CAMERA DATA ELEMENTS */
DETECTOR_TEMPERATURE = 17.5549
FOCAL_PLANE_TEMPERATURE = 8.5833
INST_CMPRS_NAME = "DISCRETE COSINE TRANSFORMATION (DCT)"
INST_CMPRS_RATIO = 12.0183
INST_CMPRS_QUALITY = 0
INST_CMPRS_QUANTZ_TBL_ID = 0
INSTRUMENT_TEMPERATURE = 11.0301
LENS_TEMPERATURE = 8.9911
MACROPIXEL_SIZE = 2
MISSING_FRAMES = 3
PIXEL_SUBSAMPLING_FLAG = N
SIGNAL_CHAIN_ID = 1
/* RADIOMETRIC DATA ELEMENTS */
BANDWIDTH = 180.0
CENTER_FILTER_WAVELENGTH = 677.0
RADIANCE_OFFSET = 3.04018
RADIANCE_SCALING_FACTOR = 0.0219866
REFLECTANCE_SCALING_FACTOR = 0.000552493
MEX:REFLECTANCE_OFFSET = 0.0763958
/* IMAGE OBJECT DEFINITIONS */
OBJECT = IMAGE
  INTERCHANGE_FORMAT = BINARY
  LINES = 24225
  LINE_SAMPLES = 4153
  SAMPLE_TYPE = UNSIGNED_INTEGER
  SAMPLE_BITS = 8
  BANDS = 1
  BAND_STORAGE_TYPE = BAND_SEQUENTIAL
  MAXIMUM = 255
  MEAN = 68.9976
  MINIMUM = 1
  STANDARD_DEVIATION = 17.2736
END_OBJECT = IMAGE
/* MAP OBJECT DEFINITIONS */
OBJECT = IMAGE_MAP_PROJECTION
  ^DATA_SET_MAP_PROJECTION_CATALOG= "DSMAP.CAT"
  A_AXIS_RADIUS = 3396.0
  B_AXIS_RADIUS = 3396.0
  C_AXIS_RADIUS = 3396.0
  CENTER_LATITUDE = 0.0
  CENTER_LONGITUDE = 281.0
  COORDINATE_SYSTEM_NAME = PLANETOGRAPHIC
  COORDINATE_SYSTEM_TYPE = "BODY-FIXED ROTATING"
  EASTERNMOST_LONGITUDE = 282.077
  FIRST_STANDARD_PARALLEL = "N/A"
  LINE_FIRST_PIXEL = 1
  LINE_LAST_PIXEL = 24225
  LINE_PROJECTION_OFFSET = 139615.25
  MAP_PROJECTION_ROTATION = 0.0
  MAP_PROJECTION_TYPE = SINUSOIDAL
  MAP_RESOLUTION = 2370.85521546667
  MAP_SCALE = 0.025
  MAXIMUM_LATITUDE = 58.957
  MINIMUM_LATITUDE = 48.6922
  POSITIVE_LONGITUDE_DIRECTION = EAST
  REFERENCE_LATITUDE = "N/A"
  REFERENCE_LONGITUDE = "N/A"
  SAMPLE_FIRST_PIXEL = 1
  SAMPLE_LAST_PIXEL = 4153
  SAMPLE_PROJECTION_OFFSET = 2432.25
  SECOND_STANDARD_PARALLEL = "N/A"
  WESTERNMOST_LONGITUDE = 279.003
END_OBJECT = IMAGE_MAP_PROJECTION
/* The JPEG2000 image data file associated with this label. */
OBJECT = COMPRESSED_FILE
  FILE_NAME = "H9580_0000_S13.JP2"
  RECORD_TYPE = UNDEFINED
  FILE_RECORDS = UNK
  ENCODING_TYPE = "JP2"
  INTERCHANGE_FORMAT = BINARY
  UNCOMPRESSED_FILE_NAME = "H9580_0000_S13.IMG"
  REQUIRED_STORAGE_BYTES = "100631343"
  ^DESCRIPTION = "JP2INFO.TXT"
END_OBJECT = COMPRESSED_FILE
END
