PDS_VERSION_ID = PDS3
/* FILE DATA ELEMENTS */
RECORD_TYPE = STREAM
/* POINTERS TO DATA OBJECTS */
^COMPRESSED_FILE = "H9581_0000_GR3.JP2"
/* IDENTIFICATION DATA ELEMENTS */
DATA_SET_ID = "MEX-M-HRSC-5-REFDR-MAPPROJECTED-V3.0"
DATA_SET_NAME = "MARS EXPRESS HRSC MAP PROJECTED REFDR V3.0"
DETECTOR_ID = MEX_HRSC_GREEN
EVENT_TYPE = "MARS-REGIONAL-MAPPING-Te-Im-Pf"
INSTRUMENT_HOST_ID = MEX
INSTRUMENT_HOST_NAME = "MARS EXPRESS"
INSTRUMENT_ID = HRSC
INSTRUMENT_NAME = "HIGH RESOLUTION STEREO CAMERA"
MISSION_NAME = "MARS EXPRESS"
MISSION_PHASE_NAME = ME_Phase_23
PROCESSING_LEVEL_ID = 3
PRODUCT_CREATION_TIME = 2016-10-27T01:50:53.000Z
PRODUCT_ID = "H9581_0000_GR3.JP2"
RELEASE_ID = 0098
REVISION_ID = 0000
/* QUALITY DATA ELEMENTS */
DATA_QUALITY_ID = 1
DATA_QUALITY_DESC = "Data calculated based on original SPICE kernels"
/* TIME DATA ELEMENTS */
SPACECRAFT_CLOCK_START_COUNT = "1/0257941238.09137"
SPACECRAFT_CLOCK_STOP_COUNT = "1/0257941484.18094"
START_TIME = 2011-07-05T10:21:11.782Z
STOP_TIME = 2011-07-05T10:24:04.920Z
/* ORBITAL DATA ELEMENTS */
ASCENDING_NODE_LONGITUDE = 34.31
MAXIMUM_RESOLUTION = 60.5
FOOTPRINT_POINT_LATITUDE = (63.5214,63.5015,63.4737,63.4388, 63.3932,63.1761,62.9588,62.7412,62.5236 ,62.3058,62.0879,61.8699,61.6517, 61.4335,61.2151,60.9966,60.778,60.5592, 60.2308,60.0119,59.6831,59.4639,59.2445 ,58.9154,58.586,58.3663,58.1465,57.9266 ,57.7067,57.3766,57.1566,56.9365, 56.7163,56.4959,56.2754,56.055,55.8347, 55.6142,55.3937,55.1731,54.8422,54.6215 ,54.2905,53.9595,53.7387,53.518,53.2972 ,53.0765,52.7453,52.3503,52.3698, 52.3843,52.3943,52.4092,52.528,52.8604, 53.0821,53.3037,53.5254,53.8579,54.0796 ,54.3012,54.5229,54.8553,55.1877, 55.4093,55.6308,55.9631,56.1846,56.406, 56.7381,56.9594,57.2914,57.6233,57.8444 ,58.0655,58.2865,58.5076,58.7286, 58.9494,59.1702,59.391,59.6116,59.8323, 60.0528,60.2732,60.4936,60.7139,60.9341 ,61.1542,61.3743,61.7042,62.0339, 62.3633,62.5828,62.8022,63.0214,63.2406 ,63.4597,63.5214)
FOOTPRINT_POINT_LONGITUDE = (176.947,176.432,175.782,175.052, 174.558,174.619,174.679,174.737,174.794 ,174.851,174.906,174.96,175.013,175.065 ,175.116,175.167,175.216,175.264, 175.335,175.381,175.448,175.492,175.535 ,175.599,175.66,175.7,175.739,175.778, 175.816,175.871,175.907,175.943,175.978 ,176.011,176.044,176.077,176.11,176.141 ,176.172,176.203,176.247,176.276, 176.319,176.36,176.387,176.414,176.44, 176.465,176.503,176.625,177.13,177.554, 177.876,178.421,178.703,178.682,178.667 ,178.652,178.637,178.614,178.598, 178.582,178.566,178.541,178.516,178.499 ,178.481,178.455,178.436,178.418,178.39 ,178.37,178.341,178.311,178.29,178.27, 178.248,178.227,178.205,178.182,178.16, 178.137,178.114,178.09,178.066,178.041, 178.016,177.991,177.965,177.938,177.912 ,177.87,177.828,177.785,177.756,177.726 ,177.695,177.664,177.632,176.947)
ORBIT_NUMBER = 9581
ORBITAL_ECCENTRICITY = 0.572
ORBITAL_INCLINATION = 86.88
ORBITAL_SEMIMAJOR_AXIS = 8788.32
PERIAPSIS_ALTITUDE = 374.55
PERIAPSIS_ARGUMENT_ANGLE = 124.1
PERIAPSIS_TIME = 2011-07-05T10:23:17.000Z
SPACECRAFT_ORIENTATION = (0.0,-1.0,0.0)
^MEX_ORIENTATION_DESC = "MEX_ORIENTATION_DESC.TXT"
SPACECRAFT_POINTING_MODE = ACROSSTRACK
^MEX_POINTING_DESC = "MEX_POINTING_DESC.TXT"
RIGHT_ASCENSION = -1e+32
DECLINATION = -1e+32
OFFSET_ANGLE = -0.05
SPACECRAFT_SOLAR_DISTANCE = 2.19519e+08
TARGET_NAME = MARS
/* CAMERA DATA ELEMENTS */
DETECTOR_TEMPERATURE = 18.3705
FOCAL_PLANE_TEMPERATURE = 8.3794
INST_CMPRS_NAME = "DISCRETE COSINE TRANSFORMATION (DCT)"
INST_CMPRS_RATIO = 19.9136
INST_CMPRS_QUALITY = 0
INST_CMPRS_QUANTZ_TBL_ID = 0
INSTRUMENT_TEMPERATURE = 10.2145
LENS_TEMPERATURE = 8.7872
MACROPIXEL_SIZE = 4
MISSING_FRAMES = 0
PIXEL_SUBSAMPLING_FLAG = N
SIGNAL_CHAIN_ID = 2
/* RADIOMETRIC DATA ELEMENTS */
BANDWIDTH = 88.0
CENTER_FILTER_WAVELENGTH = 538.0
RADIANCE_OFFSET = 1.03958
RADIANCE_SCALING_FACTOR = 0.00402884
REFLECTANCE_SCALING_FACTOR = 0.000167152
MEX:REFLECTANCE_OFFSET = 0.0431311
/* IMAGE OBJECT DEFINITIONS */
OBJECT = IMAGE
  INTERCHANGE_FORMAT = BINARY
  LINES = 13255
  LINE_SAMPLES = 2510
  SAMPLE_TYPE = UNSIGNED_INTEGER
  SAMPLE_BITS = 8
  BANDS = 1
  BAND_STORAGE_TYPE = BAND_SEQUENTIAL
  MAXIMUM = 255
  MEAN = 132.607
  MINIMUM = 1
  STANDARD_DEVIATION = 55.9627
END_OBJECT = IMAGE
/* MAP OBJECT DEFINITIONS */
OBJECT = IMAGE_MAP_PROJECTION
  ^DATA_SET_MAP_PROJECTION_CATALOG= "DSMAP.CAT"
  A_AXIS_RADIUS = 3396.0
  B_AXIS_RADIUS = 3396.0
  C_AXIS_RADIUS = 3396.0
  CENTER_LATITUDE = 0.0
  CENTER_LONGITUDE = 177.0
  COORDINATE_SYSTEM_NAME = PLANETOGRAPHIC
  COORDINATE_SYSTEM_TYPE = "BODY-FIXED ROTATING"
  EASTERNMOST_LONGITUDE = 178.703
  FIRST_STANDARD_PARALLEL = "N/A"
  LINE_FIRST_PIXEL = 1
  LINE_LAST_PIXEL = 13255
  LINE_PROJECTION_OFFSET = 75316.125
  MAP_PROJECTION_ROTATION = 0.0
  MAP_PROJECTION_TYPE = SINUSOIDAL
  MAP_RESOLUTION = 1185.42760773333
  MAP_SCALE = 0.05
  MAXIMUM_LATITUDE = 63.5214
  MINIMUM_LATITUDE = 52.3503
  POSITIVE_LONGITUDE_DIRECTION = EAST
  REFERENCE_LATITUDE = "N/A"
  REFERENCE_LONGITUDE = "N/A"
  SAMPLE_FIRST_PIXEL = 1
  SAMPLE_LAST_PIXEL = 2510
  SAMPLE_PROJECTION_OFFSET = 1266.125
  SECOND_STANDARD_PARALLEL = "N/A"
  WESTERNMOST_LONGITUDE = 174.558
END_OBJECT = IMAGE_MAP_PROJECTION
/* The JPEG2000 image data file associated with this label. */
OBJECT = COMPRESSED_FILE
  FILE_NAME = "H9581_0000_GR3.JP2"
  RECORD_TYPE = UNDEFINED
  FILE_RECORDS = UNK
  ENCODING_TYPE = "JP2"
  INTERCHANGE_FORMAT = BINARY
  UNCOMPRESSED_FILE_NAME = "H9581_0000_GR3.IMG"
  REQUIRED_STORAGE_BYTES = "33290130"
  ^DESCRIPTION = "JP2INFO.TXT"
END_OBJECT = COMPRESSED_FILE
END
