PDS_VERSION_ID = PDS3
/* FILE DATA ELEMENTS */
RECORD_TYPE = STREAM
/* POINTERS TO DATA OBJECTS */
^COMPRESSED_FILE = "H9581_0000_ND3.JP2"
/* IDENTIFICATION DATA ELEMENTS */
DATA_SET_ID = "MEX-M-HRSC-5-REFDR-MAPPROJECTED-V3.0"
DATA_SET_NAME = "MARS EXPRESS HRSC MAP PROJECTED REFDR V3.0"
DETECTOR_ID = MEX_HRSC_NADIR
EVENT_TYPE = "MARS-REGIONAL-MAPPING-Te-Im-Pf"
INSTRUMENT_HOST_ID = MEX
INSTRUMENT_HOST_NAME = "MARS EXPRESS"
INSTRUMENT_ID = HRSC
INSTRUMENT_NAME = "HIGH RESOLUTION STEREO CAMERA"
MISSION_NAME = "MARS EXPRESS"
MISSION_PHASE_NAME = ME_Phase_23
PROCESSING_LEVEL_ID = 3
PRODUCT_CREATION_TIME = 2016-10-27T01:50:53.000Z
PRODUCT_ID = "H9581_0000_ND3.JP2"
RELEASE_ID = 0098
REVISION_ID = 0000
/* QUALITY DATA ELEMENTS */
DATA_QUALITY_ID = 1
DATA_QUALITY_DESC = "Data calculated based on original SPICE kernels"
/* TIME DATA ELEMENTS */
SPACECRAFT_CLOCK_START_COUNT = "1/0257941238.09137"
SPACECRAFT_CLOCK_STOP_COUNT = "1/0257941484.18094"
START_TIME = 2011-07-05T10:21:17.692Z
STOP_TIME = 2011-07-05T10:24:10.653Z
/* ORBITAL DATA ELEMENTS */
ASCENDING_NODE_LONGITUDE = 34.31
MAXIMUM_RESOLUTION = 15.1
FOOTPRINT_POINT_LATITUDE = (63.5238,63.4948,63.4428,63.4153, 63.0771,62.6383,62.1992,61.7595,61.3195 ,60.879,60.6587,60.4382,60.2177,59.9971 ,59.7764,59.5556,59.3348,59.1139, 58.8929,58.6719,58.4508,58.2297,58.0084 ,57.7872,57.5659,57.3445,57.0125,56.791 ,56.4588,56.2372,56.0157,55.7941, 55.5725,55.3509,55.0185,54.7968,54.5752 ,54.3535,54.1319,53.9102,53.6886, 53.4669,53.2453,53.0237,52.8021,52.5805 ,52.3661,52.381,52.3972,52.409,52.4229, 52.6453,52.8678,53.0903,53.3128,53.5353 ,53.7578,53.9804,54.203,54.4256,54.6482 ,54.8708,55.0934,55.316,55.5387,55.7613 ,55.9839,56.2065,56.4291,56.6517, 56.8743,57.0969,57.3194,57.5419,57.7644 ,57.9869,58.2094,58.4318,58.6541, 58.8765,59.0988,59.321,59.5433,59.7654, 59.9875,60.2096,60.4316,60.6536,60.8755 ,61.0973,61.3191,61.5407,61.7624, 61.9839,62.2054,62.4268,62.6481,62.8694 ,63.3116,63.5238)
FOOTPRINT_POINT_LONGITUDE = (177.252,176.477,175.303,174.759, 174.635,174.752,174.866,174.975,175.08, 175.181,175.23,175.278,175.325,175.372, 175.417,175.462,175.506,175.549,175.591 ,175.632,175.672,175.712,175.751, 175.789,175.827,175.864,175.918,175.953 ,176.004,176.037,176.07,176.103,176.134 ,176.165,176.211,176.24,176.269,176.298 ,176.326,176.353,176.38,176.407,176.433 ,176.458,176.483,176.507,176.854, 177.262,177.756,178.164,178.711,178.697 ,178.683,178.668,178.653,178.637, 178.622,178.606,178.59,178.574,178.557, 178.541,178.524,178.506,178.489,178.471 ,178.453,178.434,178.415,178.396, 178.377,178.357,178.337,178.317,178.296 ,178.276,178.255,178.233,178.21,178.188 ,178.165,178.142,178.119,178.095,178.07 ,178.046,178.02,177.995,177.969,177.942 ,177.915,177.887,177.859,177.831, 177.802,177.772,177.742,177.712,177.649 ,177.252)
ORBIT_NUMBER = 9581
ORBITAL_ECCENTRICITY = 0.572
ORBITAL_INCLINATION = 86.88
ORBITAL_SEMIMAJOR_AXIS = 8788.32
PERIAPSIS_ALTITUDE = 374.55
PERIAPSIS_ARGUMENT_ANGLE = 124.1
PERIAPSIS_TIME = 2011-07-05T10:23:17.000Z
SPACECRAFT_ORIENTATION = (0.0,-1.0,0.0)
^MEX_ORIENTATION_DESC = "MEX_ORIENTATION_DESC.TXT"
SPACECRAFT_POINTING_MODE = ACROSSTRACK
^MEX_POINTING_DESC = "MEX_POINTING_DESC.TXT"
RIGHT_ASCENSION = -1e+32
DECLINATION = -1e+32
OFFSET_ANGLE = -0.05
SPACECRAFT_SOLAR_DISTANCE = 2.19519e+08
TARGET_NAME = MARS
/* CAMERA DATA ELEMENTS */
DETECTOR_TEMPERATURE = 18.3705
FOCAL_PLANE_TEMPERATURE = 8.3794
INST_CMPRS_NAME = "DISCRETE COSINE TRANSFORMATION (DCT)"
INST_CMPRS_RATIO = 6.95125
INST_CMPRS_QUALITY = 0
INST_CMPRS_QUANTZ_TBL_ID = 0
INSTRUMENT_TEMPERATURE = 10.2145
LENS_TEMPERATURE = 8.7872
MACROPIXEL_SIZE = 1
MISSING_FRAMES = 0
PIXEL_SUBSAMPLING_FLAG = N
SIGNAL_CHAIN_ID = 0
/* RADIOMETRIC DATA ELEMENTS */
BANDWIDTH = 177.0
CENTER_FILTER_WAVELENGTH = 677.5
RADIANCE_OFFSET = 2.06608
RADIANCE_SCALING_FACTOR = 0.0104853
REFLECTANCE_SCALING_FACTOR = 0.000268416
MEX:REFLECTANCE_OFFSET = 0.0528901
/* IMAGE OBJECT DEFINITIONS */
OBJECT = IMAGE
  INTERCHANGE_FORMAT = BINARY
  LINES = 53020
  LINE_SAMPLES = 10039
  SAMPLE_TYPE = UNSIGNED_INTEGER
  SAMPLE_BITS = 8
  BANDS = 1
  BAND_STORAGE_TYPE = BAND_SEQUENTIAL
  MAXIMUM = 255
  MEAN = 125.952
  MINIMUM = 1
  STANDARD_DEVIATION = 48.0941
END_OBJECT = IMAGE
/* MAP OBJECT DEFINITIONS */
OBJECT = IMAGE_MAP_PROJECTION
  ^DATA_SET_MAP_PROJECTION_CATALOG= "DSMAP.CAT"
  A_AXIS_RADIUS = 3396.0
  B_AXIS_RADIUS = 3396.0
  C_AXIS_RADIUS = 3396.0
  CENTER_LATITUDE = 0.0
  CENTER_LONGITUDE = 177.0
  COORDINATE_SYSTEM_NAME = PLANETOGRAPHIC
  COORDINATE_SYSTEM_TYPE = "BODY-FIXED ROTATING"
  EASTERNMOST_LONGITUDE = 178.711
  FIRST_STANDARD_PARALLEL = "N/A"
  LINE_FIRST_PIXEL = 1
  LINE_LAST_PIXEL = 53020
  LINE_PROJECTION_OFFSET = 301266.0
  MAP_PROJECTION_ROTATION = 0.0
  MAP_PROJECTION_TYPE = SINUSOIDAL
  MAP_RESOLUTION = 4741.71043093333
  MAP_SCALE = 0.0125
  MAXIMUM_LATITUDE = 63.5238
  MINIMUM_LATITUDE = 52.3661
  POSITIVE_LONGITUDE_DIRECTION = EAST
  REFERENCE_LATITUDE = "N/A"
  REFERENCE_LONGITUDE = "N/A"
  SAMPLE_FIRST_PIXEL = 1
  SAMPLE_LAST_PIXEL = 10039
  SAMPLE_PROJECTION_OFFSET = 5066.0
  SECOND_STANDARD_PARALLEL = "N/A"
  WESTERNMOST_LONGITUDE = 174.635
END_OBJECT = IMAGE_MAP_PROJECTION
/* The JPEG2000 image data file associated with this label. */
OBJECT = COMPRESSED_FILE
  FILE_NAME = "H9581_0000_ND3.JP2"
  RECORD_TYPE = UNDEFINED
  FILE_RECORDS = UNK
  ENCODING_TYPE = "JP2"
  INTERCHANGE_FORMAT = BINARY
  UNCOMPRESSED_FILE_NAME = "H9581_0000_ND3.IMG"
  REQUIRED_STORAGE_BYTES = "532297897"
  ^DESCRIPTION = "JP2INFO.TXT"
END_OBJECT = COMPRESSED_FILE
END
