PDS_VERSION_ID = PDS3
/* FILE DATA ELEMENTS */
RECORD_TYPE = STREAM
/* POINTERS TO DATA OBJECTS */
^COMPRESSED_FILE = "H9582_0000_IR3.JP2"
/* IDENTIFICATION DATA ELEMENTS */
DATA_SET_ID = "MEX-M-HRSC-5-REFDR-MAPPROJECTED-V3.0"
DATA_SET_NAME = "MARS EXPRESS HRSC MAP PROJECTED REFDR V3.0"
DETECTOR_ID = MEX_HRSC_IR
EVENT_TYPE = "MARS-REGIONAL-MAPPING-Te-Pf-Mw"
INSTRUMENT_HOST_ID = MEX
INSTRUMENT_HOST_NAME = "MARS EXPRESS"
INSTRUMENT_ID = HRSC
INSTRUMENT_NAME = "HIGH RESOLUTION STEREO CAMERA"
MISSION_NAME = "MARS EXPRESS"
MISSION_PHASE_NAME = ME_Phase_23
PROCESSING_LEVEL_ID = 3
PRODUCT_CREATION_TIME = 2016-10-27T01:50:53.000Z
PRODUCT_ID = "H9582_0000_IR3.JP2"
RELEASE_ID = 0098
REVISION_ID = 0000
/* QUALITY DATA ELEMENTS */
DATA_QUALITY_ID = 1
DATA_QUALITY_DESC = "Data calculated based on original SPICE kernels"
/* TIME DATA ELEMENTS */
SPACECRAFT_CLOCK_START_COUNT = "1/0257966758.09063"
SPACECRAFT_CLOCK_STOP_COUNT = "1/0257967034.53538"
START_TIME = 2011-07-05T17:26:07.396Z
STOP_TIME = 2011-07-05T17:29:03.281Z
/* ORBITAL DATA ELEMENTS */
ASCENDING_NODE_LONGITUDE = 34.29
MAXIMUM_RESOLUTION = 67.4
FOOTPRINT_POINT_LATITUDE = (41.7863,41.78,41.773,41.7666,41.7574, 41.5877,41.3773,41.0617,40.8506,40.6406 ,40.4302,40.2205,40.0097,39.694,39.4785 ,39.1551,38.8232,38.4997,38.2841, 38.0697,37.8519,37.6304,37.4093,37.0782 ,36.7474,36.5266,36.1882,35.963,35.7375 ,35.3988,35.1728,34.9437,34.7119, 34.4812,34.1373,33.7888,33.4356,33.198, 32.9631,32.6106,32.3692,32.1273,31.8859 ,31.646,31.2805,31.0358,30.668,30.4217, 30.4045,30.4109,30.4143,30.4163,30.4152 ,30.6614,31.0302,31.2764,31.5216, 31.7621,32.0033,32.2441,32.4859,32.8428 ,33.0793,33.434,33.6695,33.9042,34.136, 34.4831,34.714,34.9454,35.1749,35.4015, 35.6274,35.967,36.1936,36.4206,36.644, 36.8646,37.086,37.3074,37.6395,37.8611, 38.081,38.2974,38.5127,38.7288,38.9541, 39.1694,39.3856,39.7098,39.9206,40.1312 ,40.3422,40.6587,40.87,41.08,41.2915, 41.5012,41.7127,41.7863)
FOOTPRINT_POINT_LONGITUDE = (76.6947,76.2837,75.9242,75.6505, 75.3082,75.0943,75.1019,75.1129,75.1196 ,75.1266,75.1333,75.14,75.146,75.1549, 75.1608,75.1695,75.1779,75.1856,75.1905 ,75.1957,75.2008,75.2051,75.2094, 75.2156,75.2214,75.225,75.23,75.2336, 75.2369,75.2412,75.2437,75.246,75.2481, 75.2504,75.2544,75.256,75.2586,75.2592, 75.2607,75.2624,75.2628,75.2629,75.263, 75.2634,75.2631,75.2632,75.2628,75.2617 ,75.7527,76.191,76.5559,76.9385,77.2189 ,77.2153,77.21,77.2064,77.2029,77.1994, 77.1956,77.192,77.188,77.1822,77.178, 77.172,77.1683,77.1641,77.1597,77.1533, 77.1492,77.145,77.1406,77.136,77.1317, 77.1248,77.1201,77.1152,77.1103,77.1058 ,77.1008,77.0959,77.0884,77.0833, 77.0781,77.0727,77.0679,77.0627,77.0568 ,77.0518,77.0463,77.0381,77.0325,77.027 ,77.0212,77.0124,77.0063,77.0008, 76.9946,76.9891,76.9826,76.6947)
ORBIT_NUMBER = 9582
ORBITAL_ECCENTRICITY = 0.573
ORBITAL_INCLINATION = 86.89
ORBITAL_SEMIMAJOR_AXIS = 8794.81
PERIAPSIS_ALTITUDE = 373.44
PERIAPSIS_ARGUMENT_ANGLE = 123.91
PERIAPSIS_TIME = 2011-07-05T17:22:54.000Z
SPACECRAFT_ORIENTATION = (0.0,-1.0,0.0)
^MEX_ORIENTATION_DESC = "MEX_ORIENTATION_DESC.TXT"
SPACECRAFT_POINTING_MODE = NADIR
^MEX_POINTING_DESC = "MEX_POINTING_DESC.TXT"
RIGHT_ASCENSION = -1e+32
DECLINATION = -1e+32
OFFSET_ANGLE = -1e+32
SPACECRAFT_SOLAR_DISTANCE = 2.19573e+08
TARGET_NAME = MARS
/* CAMERA DATA ELEMENTS */
DETECTOR_TEMPERATURE = 16.7393
FOCAL_PLANE_TEMPERATURE = 8.1755
INST_CMPRS_NAME = "DISCRETE COSINE TRANSFORMATION (DCT)"
INST_CMPRS_RATIO = 15.716
INST_CMPRS_QUALITY = 0
INST_CMPRS_QUANTZ_TBL_ID = 0
INSTRUMENT_TEMPERATURE = 11.0301
LENS_TEMPERATURE = 8.3794
MACROPIXEL_SIZE = 4
MISSING_FRAMES = 1
PIXEL_SUBSAMPLING_FLAG = N
SIGNAL_CHAIN_ID = 2
/* RADIOMETRIC DATA ELEMENTS */
BANDWIDTH = 81.0
CENTER_FILTER_WAVELENGTH = 955.5
RADIANCE_OFFSET = 1.12083
RADIANCE_SCALING_FACTOR = 0.00544195
REFLECTANCE_SCALING_FACTOR = 0.000566035
MEX:REFLECTANCE_OFFSET = 0.116581
/* IMAGE OBJECT DEFINITIONS */
OBJECT = IMAGE
  INTERCHANGE_FORMAT = BINARY
  LINES = 13449
  LINE_SAMPLES = 2178
  SAMPLE_TYPE = UNSIGNED_INTEGER
  SAMPLE_BITS = 8
  BANDS = 1
  BAND_STORAGE_TYPE = BAND_SEQUENTIAL
  MAXIMUM = 255
  MEAN = 138.903
  MINIMUM = 1
  STANDARD_DEVIATION = 32.9794
END_OBJECT = IMAGE
/* MAP OBJECT DEFINITIONS */
OBJECT = IMAGE_MAP_PROJECTION
  ^DATA_SET_MAP_PROJECTION_CATALOG= "DSMAP.CAT"
  A_AXIS_RADIUS = 3396.0
  B_AXIS_RADIUS = 3396.0
  C_AXIS_RADIUS = 3396.0
  CENTER_LATITUDE = 0.0
  CENTER_LONGITUDE = 76.0
  COORDINATE_SYSTEM_NAME = PLANETOGRAPHIC
  COORDINATE_SYSTEM_TYPE = "BODY-FIXED ROTATING"
  EASTERNMOST_LONGITUDE = 77.2189
  FIRST_STANDARD_PARALLEL = "N/A"
  LINE_FIRST_PIXEL = 1
  LINE_LAST_PIXEL = 13449
  LINE_PROJECTION_OFFSET = 49484.375
  MAP_PROJECTION_ROTATION = 0.0
  MAP_PROJECTION_TYPE = SINUSOIDAL
  MAP_RESOLUTION = 1185.42760773333
  MAP_SCALE = 0.05
  MAXIMUM_LATITUDE = 41.7863
  MINIMUM_LATITUDE = 30.4045
  POSITIVE_LONGITUDE_DIRECTION = EAST
  REFERENCE_LATITUDE = "N/A"
  REFERENCE_LONGITUDE = "N/A"
  SAMPLE_FIRST_PIXEL = 1
  SAMPLE_LAST_PIXEL = 2178
  SAMPLE_PROJECTION_OFFSET = 855.125
  SECOND_STANDARD_PARALLEL = "N/A"
  WESTERNMOST_LONGITUDE = 75.0943
END_OBJECT = IMAGE_MAP_PROJECTION
/* The JPEG2000 image data file associated with this label. */
OBJECT = COMPRESSED_FILE
  FILE_NAME = "H9582_0000_IR3.JP2"
  RECORD_TYPE = UNDEFINED
  FILE_RECORDS = UNK
  ENCODING_TYPE = "JP2"
  INTERCHANGE_FORMAT = BINARY
  UNCOMPRESSED_FILE_NAME = "H9582_0000_IR3.IMG"
  REQUIRED_STORAGE_BYTES = "29313702"
  ^DESCRIPTION = "JP2INFO.TXT"
END_OBJECT = COMPRESSED_FILE
END
