PDS_VERSION_ID = PDS3
/* FILE DATA ELEMENTS */
RECORD_TYPE = STREAM
/* POINTERS TO DATA OBJECTS */
^COMPRESSED_FILE = "H9588_0000_ND3.JP2"
/* IDENTIFICATION DATA ELEMENTS */
DATA_SET_ID = "MEX-M-HRSC-5-REFDR-MAPPROJECTED-V3.0"
DATA_SET_NAME = "MARS EXPRESS HRSC MAP PROJECTED REFDR V3.0"
DETECTOR_ID = MEX_HRSC_NADIR
EVENT_TYPE = "MARS-REGIONAL-MAPPING-Te-Im-Pf"
INSTRUMENT_HOST_ID = MEX
INSTRUMENT_HOST_NAME = "MARS EXPRESS"
INSTRUMENT_ID = HRSC
INSTRUMENT_NAME = "HIGH RESOLUTION STEREO CAMERA"
MISSION_NAME = "MARS EXPRESS"
MISSION_PHASE_NAME = ME_Phase_23
PROCESSING_LEVEL_ID = 3
PRODUCT_CREATION_TIME = 2016-10-27T01:50:53.000Z
PRODUCT_ID = "H9588_0000_ND3.JP2"
RELEASE_ID = 0098
REVISION_ID = 0000
/* QUALITY DATA ELEMENTS */
DATA_QUALITY_ID = 1
DATA_QUALITY_DESC = "Data calculated based on original SPICE kernels"
/* TIME DATA ELEMENTS */
SPACECRAFT_CLOCK_START_COUNT = "1/0258117494.09134"
SPACECRAFT_CLOCK_STOP_COUNT = "1/0258117756.41447"
START_TIME = 2011-07-07T11:18:53.570Z
STOP_TIME = 2011-07-07T11:22:02.572Z
/* ORBITAL DATA ELEMENTS */
ASCENDING_NODE_LONGITUDE = 34.17
MAXIMUM_RESOLUTION = 15.1
FOOTPRINT_POINT_LATITUDE = (64.1528,64.1281,64.0964,64.0461, 63.6748,63.1956,62.7159,62.2357,61.755, 61.5145,61.2739,61.0332,60.7924,60.5515 ,60.3106,60.0695,59.8284,59.5872, 59.3459,59.1046,58.8632,58.6217,58.3802 ,58.1387,57.8971,57.6555,57.4138, 57.1721,56.9304,56.6886,56.3259,56.0841 ,55.8423,55.6005,55.3586,55.1168,54.875 ,54.6332,54.3913,54.1496,53.9078,53.666 ,53.4243,53.1826,52.9409,52.6993, 52.4577,51.9746,51.9818,52.0071,52.0197 ,52.2621,52.5045,52.747,52.9895,53.2321 ,53.4748,53.7174,53.9602,54.2029, 54.4457,54.6885,54.9313,55.1742,55.4171 ,55.66,55.9029,56.1458,56.3887,56.6317, 56.8746,57.1175,57.3605,57.6034,57.8463 ,58.0891,58.332,58.5748,58.8177,59.0604 ,59.3032,59.5459,59.7886,60.0312, 60.2738,60.5163,60.7588,61.0012,61.2435 ,61.4858,61.7281,61.9702,62.2123, 62.4543,62.6962,62.9381,63.1798,63.4215 ,63.9045,64.1528)
FOOTPRINT_POINT_LONGITUDE = (181.262,180.59,179.831,178.783,178.614 ,178.747,178.874,178.996,179.112, 179.168,179.224,179.278,179.331,179.382 ,179.433,179.483,179.531,179.579, 179.625,179.671,179.716,179.759,179.802 ,179.844,179.885,179.925,179.965, 180.003,180.041,180.078,180.132,180.167 ,180.201,180.235,180.268,180.3,180.331, 180.362,180.392,180.422,180.451,180.479 ,180.507,180.534,180.561,180.587, 180.613,180.662,181.457,182.315,182.84, 182.825,182.81,182.795,182.779,182.763, 182.746,182.73,182.713,182.696,182.678, 182.661,182.643,182.624,182.605,182.586 ,182.567,182.547,182.527,182.507, 182.486,182.465,182.443,182.421,182.399 ,182.376,182.353,182.33,182.306,182.281 ,182.256,182.231,182.205,182.179, 182.152,182.125,182.097,182.068,182.039 ,182.01,181.98,181.949,181.918,181.886, 181.853,181.82,181.786,181.752,181.68, 181.262)
ORBIT_NUMBER = 9588
ORBITAL_ECCENTRICITY = 0.572
ORBITAL_INCLINATION = 86.88
ORBITAL_SEMIMAJOR_AXIS = 8786.37
PERIAPSIS_ALTITUDE = 375.08
PERIAPSIS_ARGUMENT_ANGLE = 122.88
PERIAPSIS_TIME = 2011-07-07T11:20:44.000Z
SPACECRAFT_ORIENTATION = (0.0,-1.0,0.0)
^MEX_ORIENTATION_DESC = "MEX_ORIENTATION_DESC.TXT"
SPACECRAFT_POINTING_MODE = NADIR
^MEX_POINTING_DESC = "MEX_POINTING_DESC.TXT"
RIGHT_ASCENSION = -1e+32
DECLINATION = -1e+32
OFFSET_ANGLE = -1e+32
SPACECRAFT_SOLAR_DISTANCE = 2.19899e+08
TARGET_NAME = MARS
/* CAMERA DATA ELEMENTS */
DETECTOR_TEMPERATURE = 18.1666
FOCAL_PLANE_TEMPERATURE = 8.1755
INST_CMPRS_NAME = "DISCRETE COSINE TRANSFORMATION (DCT)"
INST_CMPRS_RATIO = 7.32102
INST_CMPRS_QUALITY = 0
INST_CMPRS_QUANTZ_TBL_ID = 0
INSTRUMENT_TEMPERATURE = 11.0301
LENS_TEMPERATURE = 8.5833
MACROPIXEL_SIZE = 1
MISSING_FRAMES = 0
PIXEL_SUBSAMPLING_FLAG = N
SIGNAL_CHAIN_ID = 0
/* RADIOMETRIC DATA ELEMENTS */
BANDWIDTH = 177.0
CENTER_FILTER_WAVELENGTH = 677.5
RADIANCE_OFFSET = 2.1471
RADIANCE_SCALING_FACTOR = 0.00984983
REFLECTANCE_SCALING_FACTOR = 0.000253021
MEX:REFLECTANCE_OFFSET = 0.0551544
/* IMAGE OBJECT DEFINITIONS */
OBJECT = IMAGE
  INTERCHANGE_FORMAT = BINARY
  LINES = 57894
  LINE_SAMPLES = 10531
  SAMPLE_TYPE = UNSIGNED_INTEGER
  SAMPLE_BITS = 8
  BANDS = 1
  BAND_STORAGE_TYPE = BAND_SEQUENTIAL
  MAXIMUM = 254
  MEAN = 137.18
  MINIMUM = 1
  STANDARD_DEVIATION = 53.4254
END_OBJECT = IMAGE
/* MAP OBJECT DEFINITIONS */
OBJECT = IMAGE_MAP_PROJECTION
  ^DATA_SET_MAP_PROJECTION_CATALOG= "DSMAP.CAT"
  A_AXIS_RADIUS = 3396.0
  B_AXIS_RADIUS = 3396.0
  C_AXIS_RADIUS = 3396.0
  CENTER_LATITUDE = 0.0
  CENTER_LONGITUDE = 181.0
  COORDINATE_SYSTEM_NAME = PLANETOGRAPHIC
  COORDINATE_SYSTEM_TYPE = "BODY-FIXED ROTATING"
  EASTERNMOST_LONGITUDE = 182.84
  FIRST_STANDARD_PARALLEL = "N/A"
  LINE_FIRST_PIXEL = 1
  LINE_LAST_PIXEL = 57894
  LINE_PROJECTION_OFFSET = 304240.0
  MAP_PROJECTION_ROTATION = 0.0
  MAP_PROJECTION_TYPE = SINUSOIDAL
  MAP_RESOLUTION = 4741.71043093333
  MAP_SCALE = 0.0125
  MAXIMUM_LATITUDE = 64.1528
  MINIMUM_LATITUDE = 51.9746
  POSITIVE_LONGITUDE_DIRECTION = EAST
  REFERENCE_LATITUDE = "N/A"
  REFERENCE_LONGITUDE = "N/A"
  SAMPLE_FIRST_PIXEL = 1
  SAMPLE_LAST_PIXEL = 10531
  SAMPLE_PROJECTION_OFFSET = 5178.0
  SECOND_STANDARD_PARALLEL = "N/A"
  WESTERNMOST_LONGITUDE = 178.614
END_OBJECT = IMAGE_MAP_PROJECTION
/* The JPEG2000 image data file associated with this label. */
OBJECT = COMPRESSED_FILE
  FILE_NAME = "H9588_0000_ND3.JP2"
  RECORD_TYPE = UNDEFINED
  FILE_RECORDS = UNK
  ENCODING_TYPE = "JP2"
  INTERCHANGE_FORMAT = BINARY
  UNCOMPRESSED_FILE_NAME = "H9588_0000_ND3.IMG"
  REQUIRED_STORAGE_BYTES = "609713307"
  ^DESCRIPTION = "JP2INFO.TXT"
END_OBJECT = COMPRESSED_FILE
END
