PDS_VERSION_ID = PDS3
/* FILE DATA ELEMENTS */
RECORD_TYPE = STREAM
/* POINTERS TO DATA OBJECTS */
^COMPRESSED_FILE = "H9595_0000_BL3.JP2"
/* IDENTIFICATION DATA ELEMENTS */
DATA_SET_ID = "MEX-M-HRSC-5-REFDR-MAPPROJECTED-V3.0"
DATA_SET_NAME = "MARS EXPRESS HRSC MAP PROJECTED REFDR V3.0"
DETECTOR_ID = MEX_HRSC_BLUE
EVENT_TYPE = "MARS-REGIONAL-MAPPING-Te-Im-Pf"
INSTRUMENT_HOST_ID = MEX
INSTRUMENT_HOST_NAME = "MARS EXPRESS"
INSTRUMENT_ID = HRSC
INSTRUMENT_NAME = "HIGH RESOLUTION STEREO CAMERA"
MISSION_NAME = "MARS EXPRESS"
MISSION_PHASE_NAME = ME_Phase_23
PROCESSING_LEVEL_ID = 3
PRODUCT_CREATION_TIME = 2016-10-27T01:50:53.000Z
PRODUCT_ID = "H9595_0000_BL3.JP2"
RELEASE_ID = 0098
REVISION_ID = 0000
/* QUALITY DATA ELEMENTS */
DATA_QUALITY_ID = 1
DATA_QUALITY_DESC = "Data calculated based on original SPICE kernels"
/* TIME DATA ELEMENTS */
SPACECRAFT_CLOCK_START_COUNT = "1/0258293902.09038"
SPACECRAFT_CLOCK_STOP_COUNT = "1/0258294125.33555"
START_TIME = 2011-07-09T12:19:05.240Z
STOP_TIME = 2011-07-09T12:21:33.751Z
/* ORBITAL DATA ELEMENTS */
ASCENDING_NODE_LONGITUDE = 34.04
MAXIMUM_RESOLUTION = 61
FOOTPRINT_POINT_LATITUDE = (55.0634,55.0476,55.0347,55.0118, 54.9218,54.732,54.5423,54.3526,54.1629, 53.9733,53.7836,53.5941,53.4046,53.2151 ,53.0257,52.8364,52.6471,52.4578, 52.2686,52.0795,51.8904,51.7013,51.5123 ,51.3234,51.1346,50.9458,50.7571, 50.5685,50.3799,50.1914,50.003,49.8147, 49.6264,49.4383,49.2502,49.0621,48.8742 ,48.6864,48.4986,48.3109,48.1234, 47.9359,47.5612,47.1869,46.8131,46.4396 ,46.0665,45.6939,45.6033,45.6146, 45.6218,45.6283,45.635,45.735,46.1087, 46.4826,46.8572,47.2322,47.4198,47.6075 ,47.7954,47.9833,48.1714,48.3595, 48.5477,48.736,48.9244,49.1129,49.3015, 49.4902,49.679,49.8678,50.0567,50.2458, 50.4349,50.6241,50.8133,51.0026,51.192, 51.3816,51.5711,51.7607,51.9504,52.1401 ,52.3299,52.5198,52.7098,52.8998, 53.0898,53.2799,53.4701,53.6604,53.8506 ,54.041,54.2313,54.4218,54.6122,54.8027 ,55.0885,55.0634)
FOOTPRINT_POINT_LONGITUDE = (186.226,185.691,185.301,184.686, 184.348,184.372,184.395,184.418,184.441 ,184.464,184.486,184.507,184.528, 184.549,184.57,184.59,184.61,184.629, 184.649,184.667,184.686,184.704,184.722 ,184.74,184.757,184.774,184.791,184.807 ,184.823,184.839,184.854,184.87,184.885 ,184.899,184.914,184.928,184.942, 184.955,184.969,184.982,184.995,185.008 ,185.032,185.056,185.079,185.1,185.121, 185.142,185.432,185.852,186.157,186.463 ,186.826,187.192,187.176,187.159, 187.142,187.125,187.116,187.107,187.099 ,187.09,187.08,187.071,187.062,187.052, 187.043,187.033,187.023,187.013,187.003 ,186.992,186.982,186.972,186.961,186.95 ,186.939,186.928,186.917,186.906, 186.894,186.882,186.871,186.859,186.846 ,186.834,186.822,186.809,186.796, 186.783,186.77,186.757,186.743,186.73, 186.716,186.702,186.688,186.673,186.651 ,186.226)
ORBIT_NUMBER = 9595
ORBITAL_ECCENTRICITY = 0.572
ORBITAL_INCLINATION = 86.88
ORBITAL_SEMIMAJOR_AXIS = 8784.53
PERIAPSIS_ALTITUDE = 375.55
PERIAPSIS_ARGUMENT_ANGLE = 121.67
PERIAPSIS_TIME = 2011-07-09T12:18:10.000Z
SPACECRAFT_ORIENTATION = (0.0,-1.0,0.0)
^MEX_ORIENTATION_DESC = "MEX_ORIENTATION_DESC.TXT"
SPACECRAFT_POINTING_MODE = NADIR
^MEX_POINTING_DESC = "MEX_POINTING_DESC.TXT"
RIGHT_ASCENSION = -1e+32
DECLINATION = -1e+32
OFFSET_ANGLE = -1e+32
SPACECRAFT_SOLAR_DISTANCE = 2.20282e+08
TARGET_NAME = MARS
/* CAMERA DATA ELEMENTS */
DETECTOR_TEMPERATURE = 17.9627
FOCAL_PLANE_TEMPERATURE = 7.7677
INST_CMPRS_NAME = "DISCRETE COSINE TRANSFORMATION (DCT)"
INST_CMPRS_RATIO = 6.67617
INST_CMPRS_QUALITY = 0
INST_CMPRS_QUANTZ_TBL_ID = 0
INSTRUMENT_TEMPERATURE = 11.0301
LENS_TEMPERATURE = 8.1755
MACROPIXEL_SIZE = 4
MISSING_FRAMES = 0
PIXEL_SUBSAMPLING_FLAG = N
SIGNAL_CHAIN_ID = 2
/* RADIOMETRIC DATA ELEMENTS */
BANDWIDTH = 76.0
CENTER_FILTER_WAVELENGTH = 444.0
RADIANCE_OFFSET = 0.900765
RADIANCE_SCALING_FACTOR = 0.000872201
REFLECTANCE_SCALING_FACTOR = 4.34841e-05
MEX:REFLECTANCE_OFFSET = 0.0449082
/* IMAGE OBJECT DEFINITIONS */
OBJECT = IMAGE
  INTERCHANGE_FORMAT = BINARY
  LINES = 11264
  LINE_SAMPLES = 2135
  SAMPLE_TYPE = UNSIGNED_INTEGER
  SAMPLE_BITS = 8
  BANDS = 1
  BAND_STORAGE_TYPE = BAND_SEQUENTIAL
  MAXIMUM = 254
  MEAN = 129.919
  MINIMUM = 2
  STANDARD_DEVIATION = 36.94
END_OBJECT = IMAGE
/* MAP OBJECT DEFINITIONS */
OBJECT = IMAGE_MAP_PROJECTION
  ^DATA_SET_MAP_PROJECTION_CATALOG= "DSMAP.CAT"
  A_AXIS_RADIUS = 3396.0
  B_AXIS_RADIUS = 3396.0
  C_AXIS_RADIUS = 3396.0
  CENTER_LATITUDE = 0.0
  CENTER_LONGITUDE = 186.0
  COORDINATE_SYSTEM_NAME = PLANETOGRAPHIC
  COORDINATE_SYSTEM_TYPE = "BODY-FIXED ROTATING"
  EASTERNMOST_LONGITUDE = 187.192
  FIRST_STANDARD_PARALLEL = "N/A"
  LINE_FIRST_PIXEL = 1
  LINE_LAST_PIXEL = 11264
  LINE_PROJECTION_OFFSET = 65311.875
  MAP_PROJECTION_ROTATION = 0.0
  MAP_PROJECTION_TYPE = SINUSOIDAL
  MAP_RESOLUTION = 1185.42760773333
  MAP_SCALE = 0.05
  MAXIMUM_LATITUDE = 55.0885
  MINIMUM_LATITUDE = 45.6033
  POSITIVE_LONGITUDE_DIRECTION = EAST
  REFERENCE_LATITUDE = "N/A"
  REFERENCE_LONGITUDE = "N/A"
  SAMPLE_FIRST_PIXEL = 1
  SAMPLE_LAST_PIXEL = 2135
  SAMPLE_PROJECTION_OFFSET = 1149.125
  SECOND_STANDARD_PARALLEL = "N/A"
  WESTERNMOST_LONGITUDE = 184.348
END_OBJECT = IMAGE_MAP_PROJECTION
/* The JPEG2000 image data file associated with this label. */
OBJECT = COMPRESSED_FILE
  FILE_NAME = "H9595_0000_BL3.JP2"
  RECORD_TYPE = UNDEFINED
  FILE_RECORDS = UNK
  ENCODING_TYPE = "JP2"
  INTERCHANGE_FORMAT = BINARY
  UNCOMPRESSED_FILE_NAME = "H9595_0000_BL3.IMG"
  REQUIRED_STORAGE_BYTES = "24069990"
  ^DESCRIPTION = "JP2INFO.TXT"
END_OBJECT = COMPRESSED_FILE
END
