PDS_VERSION_ID = PDS3
/* FILE DATA ELEMENTS */
RECORD_TYPE = STREAM
/* POINTERS TO DATA OBJECTS */
^COMPRESSED_FILE = "H9597_0000_IR3.JP2"
/* IDENTIFICATION DATA ELEMENTS */
DATA_SET_ID = "MEX-M-HRSC-5-REFDR-MAPPROJECTED-V3.0"
DATA_SET_NAME = "MARS EXPRESS HRSC MAP PROJECTED REFDR V3.0"
DETECTOR_ID = MEX_HRSC_IR
EVENT_TYPE = "MARS-REGIONAL-MAPPING-Fl-Pf-Eo"
INSTRUMENT_HOST_ID = MEX
INSTRUMENT_HOST_NAME = "MARS EXPRESS"
INSTRUMENT_ID = HRSC
INSTRUMENT_NAME = "HIGH RESOLUTION STEREO CAMERA"
MISSION_NAME = "MARS EXPRESS"
MISSION_PHASE_NAME = ME_Phase_23
PROCESSING_LEVEL_ID = 3
PRODUCT_CREATION_TIME = 2016-10-27T01:50:53.000Z
PRODUCT_ID = "H9597_0000_IR3.JP2"
RELEASE_ID = 0098
REVISION_ID = 0000
/* QUALITY DATA ELEMENTS */
DATA_QUALITY_ID = 1
DATA_QUALITY_DESC = "Data calculated based on original SPICE kernels"
/* TIME DATA ELEMENTS */
SPACECRAFT_CLOCK_START_COUNT = "1/0258344190.09068"
SPACECRAFT_CLOCK_STOP_COUNT = "1/0258344459.57979"
START_TIME = 2011-07-10T02:16:39.260Z
STOP_TIME = 2011-07-10T02:19:52.717Z
/* ORBITAL DATA ELEMENTS */
ASCENDING_NODE_LONGITUDE = 34.01
MAXIMUM_RESOLUTION = 126.7
FOOTPRINT_POINT_LATITUDE = (59.7315,59.7201,59.7042,59.6895, 59.6618,59.6401,59.4146,59.1698,58.9253 ,58.6803,58.4351,58.1898,57.9444, 57.6987,57.4526,57.0835,56.8374,56.5909 ,56.3443,56.0976,55.8505,55.48,55.2328, 54.9855,54.7377,54.4902,54.2426,53.9948 ,53.7471,53.4989,53.1267,52.7542, 52.5059,52.2571,52.0088,51.76,51.5113, 51.1379,50.889,50.6406,50.3919,50.0185, 49.7695,49.5204,49.2714,49.022,48.6478, 48.3983,48.1496,47.7756,47.5265,47.2766 ,47.1093,47.1289,47.1386,47.1457, 47.2799,47.5301,47.7802,48.1553,48.4054 ,48.7804,49.1553,49.5303,49.9051, 50.1551,50.5299,50.7798,51.0294,51.279, 51.5288,51.7781,52.0277,52.2769,52.5263 ,52.9003,53.2739,53.5231,53.7719, 54.0203,54.2684,54.5185,54.8914,55.1402 ,55.3885,55.6367,55.8848,56.2568, 56.6286,56.8763,57.1236,57.4945,57.742, 57.9891,58.3595,58.6061,58.9759,59.2221 ,59.591,59.7315)
FOOTPRINT_POINT_LONGITUDE = (341.385,341.034,340.59,340.217,339.588 ,339.145,339.106,339.153,339.198, 339.243,339.286,339.329,339.37,339.411, 339.451,339.51,339.548,339.585,339.621, 339.657,339.692,339.743,339.776,339.809 ,339.84,339.871,339.902,339.932,339.961 ,339.989,340.031,340.072,340.098, 340.123,340.148,340.173,340.197,340.232 ,340.255,340.277,340.299,340.331, 340.351,340.372,340.391,340.41,340.438, 340.456,340.474,340.5,340.517,340.533, 340.826,341.452,341.832,342.155,342.561 ,342.55,342.538,342.521,342.509,342.491 ,342.472,342.453,342.434,342.421,342.4, 342.386,342.372,342.358,342.344,342.329 ,342.314,342.299,342.283,342.26,342.235 ,342.219,342.202,342.185,342.168, 342.149,342.122,342.103,342.085,342.065 ,342.046,342.016,341.985,341.964, 341.943,341.91,341.888,341.865,341.83, 341.807,341.77,341.745,341.707,341.385)
ORBIT_NUMBER = 9597
ORBITAL_ECCENTRICITY = 0.572
ORBITAL_INCLINATION = 86.89
ORBITAL_SEMIMAJOR_AXIS = 8784.96
PERIAPSIS_ALTITUDE = 375.59
PERIAPSIS_ARGUMENT_ANGLE = 121.3
PERIAPSIS_TIME = 2011-07-10T02:17:23.000Z
SPACECRAFT_ORIENTATION = (0.0,-1.0,0.0)
^MEX_ORIENTATION_DESC = "MEX_ORIENTATION_DESC.TXT"
SPACECRAFT_POINTING_MODE = NADIR
^MEX_POINTING_DESC = "MEX_POINTING_DESC.TXT"
RIGHT_ASCENSION = -1e+32
DECLINATION = -1e+32
OFFSET_ANGLE = -1e+32
SPACECRAFT_SOLAR_DISTANCE = 2.20391e+08
TARGET_NAME = MARS
/* CAMERA DATA ELEMENTS */
DETECTOR_TEMPERATURE = 17.5549
FOCAL_PLANE_TEMPERATURE = 8.1755
INST_CMPRS_NAME = "DISCRETE COSINE TRANSFORMATION (DCT)"
INST_CMPRS_RATIO = 35.0731
INST_CMPRS_QUALITY = 0
INST_CMPRS_QUANTZ_TBL_ID = 0
INSTRUMENT_TEMPERATURE = 11.234
LENS_TEMPERATURE = 8.5833
MACROPIXEL_SIZE = 8
MISSING_FRAMES = 0
PIXEL_SUBSAMPLING_FLAG = N
SIGNAL_CHAIN_ID = 2
/* RADIOMETRIC DATA ELEMENTS */
BANDWIDTH = 81.0
CENTER_FILTER_WAVELENGTH = 955.5
RADIANCE_OFFSET = 0.87377
RADIANCE_SCALING_FACTOR = 0.0021859
REFLECTANCE_SCALING_FACTOR = 0.000229059
MEX:REFLECTANCE_OFFSET = 0.0915617
/* IMAGE OBJECT DEFINITIONS */
OBJECT = IMAGE
  INTERCHANGE_FORMAT = BINARY
  LINES = 7438
  LINE_SAMPLES = 1220
  SAMPLE_TYPE = UNSIGNED_INTEGER
  SAMPLE_BITS = 8
  BANDS = 1
  BAND_STORAGE_TYPE = BAND_SEQUENTIAL
  MAXIMUM = 255
  MEAN = 91.4251
  MINIMUM = 1
  STANDARD_DEVIATION = 37.7249
END_OBJECT = IMAGE
/* MAP OBJECT DEFINITIONS */
OBJECT = IMAGE_MAP_PROJECTION
  ^DATA_SET_MAP_PROJECTION_CATALOG= "DSMAP.CAT"
  A_AXIS_RADIUS = 3396.0
  B_AXIS_RADIUS = 3396.0
  C_AXIS_RADIUS = 3396.0
  CENTER_LATITUDE = 0.0
  CENTER_LONGITUDE = 341.0
  COORDINATE_SYSTEM_NAME = PLANETOGRAPHIC
  COORDINATE_SYSTEM_TYPE = "BODY-FIXED ROTATING"
  EASTERNMOST_LONGITUDE = 342.561
  FIRST_STANDARD_PARALLEL = "N/A"
  LINE_FIRST_PIXEL = 1
  LINE_LAST_PIXEL = 7438
  LINE_PROJECTION_OFFSET = 35364.6875
  MAP_PROJECTION_ROTATION = 0.0
  MAP_PROJECTION_TYPE = SINUSOIDAL
  MAP_RESOLUTION = 592.713803866667
  MAP_SCALE = 0.1
  MAXIMUM_LATITUDE = 59.7315
  MINIMUM_LATITUDE = 47.1093
  POSITIVE_LONGITUDE_DIRECTION = EAST
  REFERENCE_LATITUDE = "N/A"
  REFERENCE_LONGITUDE = "N/A"
  SAMPLE_FIRST_PIXEL = 1
  SAMPLE_LAST_PIXEL = 1220
  SAMPLE_PROJECTION_OFFSET = 584.8125
  SECOND_STANDARD_PARALLEL = "N/A"
  WESTERNMOST_LONGITUDE = 339.106
END_OBJECT = IMAGE_MAP_PROJECTION
/* The JPEG2000 image data file associated with this label. */
OBJECT = COMPRESSED_FILE
  FILE_NAME = "H9597_0000_IR3.JP2"
  RECORD_TYPE = UNDEFINED
  FILE_RECORDS = UNK
  ENCODING_TYPE = "JP2"
  INTERCHANGE_FORMAT = BINARY
  UNCOMPRESSED_FILE_NAME = "H9597_0000_IR3.IMG"
  REQUIRED_STORAGE_BYTES = "9092660"
  ^DESCRIPTION = "JP2INFO.TXT"
END_OBJECT = COMPRESSED_FILE
END
