PDS_VERSION_ID = PDS3
/* FILE DATA ELEMENTS */
RECORD_TYPE = STREAM
/* POINTERS TO DATA OBJECTS */
^COMPRESSED_FILE = "H9600_0000_P23.JP2"
/* IDENTIFICATION DATA ELEMENTS */
DATA_SET_ID = "MEX-M-HRSC-5-REFDR-MAPPROJECTED-V3.0"
DATA_SET_NAME = "MARS EXPRESS HRSC MAP PROJECTED REFDR V3.0"
DETECTOR_ID = MEX_HRSC_P2
EVENT_TYPE = "MARS-REGIONAL-MAPPING-Te-Fl-Pf"
INSTRUMENT_HOST_ID = MEX
INSTRUMENT_HOST_NAME = "MARS EXPRESS"
INSTRUMENT_ID = HRSC
INSTRUMENT_NAME = "HIGH RESOLUTION STEREO CAMERA"
MISSION_NAME = "MARS EXPRESS"
MISSION_PHASE_NAME = ME_Phase_23
PROCESSING_LEVEL_ID = 3
PRODUCT_CREATION_TIME = 2016-10-27T01:50:53.000Z
PRODUCT_ID = "H9600_0000_P23.JP2"
RELEASE_ID = 0098
REVISION_ID = 0000
/* QUALITY DATA ELEMENTS */
DATA_QUALITY_ID = 1
DATA_QUALITY_DESC = "Data calculated based on original SPICE kernels"
/* TIME DATA ELEMENTS */
SPACECRAFT_CLOCK_START_COUNT = "1/0258419857.07281"
SPACECRAFT_CLOCK_STOP_COUNT = "1/0258420128.15589"
START_TIME = 2011-07-10T23:18:38.446Z
STOP_TIME = 2011-07-10T23:21:53.005Z
/* ORBITAL DATA ELEMENTS */
ASCENDING_NODE_LONGITUDE = 33.95
MAXIMUM_RESOLUTION = 32.4
FOOTPRINT_POINT_LATITUDE = (51.6456,51.6282,51.6105,51.5997, 51.4174,51.1834,50.9518,50.7194,50.3727 ,50.1409,49.9099,49.6791,49.4481,49.102 ,48.8714,48.6408,48.4116,48.182,47.9526 ,47.6085,47.2643,46.9205,46.5686, 46.2194,45.9859,45.7527,45.5191,45.2864 ,45.0484,44.8102,44.4533,44.2161, 43.8603,43.4974,43.2551,43.013,42.7714, 42.5293,42.158,41.9088,41.6566,41.4189, 41.1714,40.7948,40.544,40.2889,40.0382, 39.7665,39.771,39.7796,39.784,39.7872, 39.7912,40.047,40.3015,40.5513,40.8032, 41.0536,41.3061,41.5517,41.9206,42.1673 ,42.5372,42.7785,43.0207,43.271,43.5155 ,43.7588,43.9986,44.2361,44.4745, 44.7128,44.9518,45.1908,45.4274,45.6606 ,45.8947,46.2463,46.4806,46.8321, 47.0654,47.2949,47.639,47.8689,48.0995, 48.33,48.5608,48.7917,49.0227,49.2538, 49.4849,49.7167,49.949,50.1814,50.4138, 50.6463,50.8791,51.229,51.4622,51.6456)
FOOTPRINT_POINT_LONGITUDE = (35.2098,34.5272,33.928,33.5973,33.2714 ,33.2936,33.3136,33.3339,33.3623, 33.3814,33.3997,33.4174,33.4352,33.461, 33.4778,33.4944,33.5097,33.5251,33.5402 ,33.5625,33.5844,33.6051,33.6256, 33.6438,33.6563,33.6684,33.6807,33.6922 ,33.7034,33.7146,33.7308,33.7409, 33.7559,33.7703,33.7797,33.7888,33.7975 ,33.8065,33.8202,33.8299,33.8415, 33.8435,33.8507,33.8611,33.8678,33.8773 ,33.8826,34.0098,34.2582,34.7745, 35.1051,35.4973,36.0208,36.0127,36.0054 ,35.9967,35.9888,35.9797,35.9717, 35.9628,35.949,35.9399,35.9258,35.9164, 35.9071,35.9023,35.8938,35.8842,35.8744 ,35.8645,35.8549,35.8449,35.835,35.8247 ,35.8144,35.8039,35.7937,35.778,35.7671 ,35.7501,35.7389,35.728,35.7109,35.6994 ,35.688,35.6762,35.6643,35.6522,35.6397 ,35.627,35.6139,35.601,35.588,35.5747, 35.5611,35.5472,35.5332,35.5118,35.4972 ,35.2098)
ORBIT_NUMBER = 9600
ORBITAL_ECCENTRICITY = 0.572
ORBITAL_INCLINATION = 86.88
ORBITAL_SEMIMAJOR_AXIS = 8788.6
PERIAPSIS_ALTITUDE = 376.04
PERIAPSIS_ARGUMENT_ANGLE = 120.8
PERIAPSIS_TIME = 2011-07-10T23:16:19.000Z
SPACECRAFT_ORIENTATION = (0.0,-1.0,0.0)
^MEX_ORIENTATION_DESC = "MEX_ORIENTATION_DESC.TXT"
SPACECRAFT_POINTING_MODE = NADIR
^MEX_POINTING_DESC = "MEX_POINTING_DESC.TXT"
RIGHT_ASCENSION = -1e+32
DECLINATION = -1e+32
OFFSET_ANGLE = -1e+32
SPACECRAFT_SOLAR_DISTANCE = 2.20556e+08
TARGET_NAME = MARS
/* CAMERA DATA ELEMENTS */
DETECTOR_TEMPERATURE = 18.3705
FOCAL_PLANE_TEMPERATURE = 7.9716
INST_CMPRS_NAME = "DISCRETE COSINE TRANSFORMATION (DCT)"
INST_CMPRS_RATIO = 7.0998
INST_CMPRS_QUALITY = 0
INST_CMPRS_QUANTZ_TBL_ID = 0
INSTRUMENT_TEMPERATURE = 11.0301
LENS_TEMPERATURE = 8.5833
MACROPIXEL_SIZE = 2
MISSING_FRAMES = 0
PIXEL_SUBSAMPLING_FLAG = N
SIGNAL_CHAIN_ID = 3
/* RADIOMETRIC DATA ELEMENTS */
BANDWIDTH = 177.0
CENTER_FILTER_WAVELENGTH = 676.5
RADIANCE_OFFSET = 3.68492
RADIANCE_SCALING_FACTOR = 0.020231
REFLECTANCE_SCALING_FACTOR = 0.000521813
MEX:REFLECTANCE_OFFSET = 0.0950445
/* IMAGE OBJECT DEFINITIONS */
OBJECT = IMAGE
  INTERCHANGE_FORMAT = BINARY
  LINES = 28327
  LINE_SAMPLES = 4380
  SAMPLE_TYPE = UNSIGNED_INTEGER
  SAMPLE_BITS = 8
  BANDS = 1
  BAND_STORAGE_TYPE = BAND_SEQUENTIAL
  MAXIMUM = 255
  MEAN = 89.0579
  MINIMUM = 1
  STANDARD_DEVIATION = 31.2839
END_OBJECT = IMAGE
/* MAP OBJECT DEFINITIONS */
OBJECT = IMAGE_MAP_PROJECTION
  ^DATA_SET_MAP_PROJECTION_CATALOG= "DSMAP.CAT"
  A_AXIS_RADIUS = 3396.0
  B_AXIS_RADIUS = 3396.0
  C_AXIS_RADIUS = 3396.0
  CENTER_LATITUDE = 0.0
  CENTER_LONGITUDE = 35.0
  COORDINATE_SYSTEM_NAME = PLANETOGRAPHIC
  COORDINATE_SYSTEM_TYPE = "BODY-FIXED ROTATING"
  EASTERNMOST_LONGITUDE = 36.0208
  FIRST_STANDARD_PARALLEL = "N/A"
  LINE_FIRST_PIXEL = 1
  LINE_LAST_PIXEL = 28327
  LINE_PROJECTION_OFFSET = 122582.75
  MAP_PROJECTION_ROTATION = 0.0
  MAP_PROJECTION_TYPE = SINUSOIDAL
  MAP_RESOLUTION = 2370.85521546667
  MAP_SCALE = 0.025
  MAXIMUM_LATITUDE = 51.6456
  MINIMUM_LATITUDE = 39.7665
  POSITIVE_LONGITUDE_DIRECTION = EAST
  REFERENCE_LATITUDE = "N/A"
  REFERENCE_LONGITUDE = "N/A"
  SAMPLE_FIRST_PIXEL = 1
  SAMPLE_LAST_PIXEL = 4380
  SAMPLE_PROJECTION_OFFSET = 2562.75
  SECOND_STANDARD_PARALLEL = "N/A"
  WESTERNMOST_LONGITUDE = 33.2714
END_OBJECT = IMAGE_MAP_PROJECTION
/* The JPEG2000 image data file associated with this label. */
OBJECT = COMPRESSED_FILE
  FILE_NAME = "H9600_0000_P23.JP2"
  RECORD_TYPE = UNDEFINED
  FILE_RECORDS = UNK
  ENCODING_TYPE = "JP2"
  INTERCHANGE_FORMAT = BINARY
  UNCOMPRESSED_FILE_NAME = "H9600_0000_P23.IMG"
  REQUIRED_STORAGE_BYTES = "124098540"
  ^DESCRIPTION = "JP2INFO.TXT"
END_OBJECT = COMPRESSED_FILE
END
