PDS_VERSION_ID = PDS3
/* FILE DATA ELEMENTS */
RECORD_TYPE = STREAM
/* POINTERS TO DATA OBJECTS */
^COMPRESSED_FILE = "H9602_0000_BL3.JP2"
/* IDENTIFICATION DATA ELEMENTS */
DATA_SET_ID = "MEX-M-HRSC-5-REFDR-MAPPROJECTED-V3.0"
DATA_SET_NAME = "MARS EXPRESS HRSC MAP PROJECTED REFDR V3.0"
DETECTOR_ID = MEX_HRSC_BLUE
EVENT_TYPE = "MARS-REGIONAL-MAPPING-Te-Im-Pf"
INSTRUMENT_HOST_ID = MEX
INSTRUMENT_HOST_NAME = "MARS EXPRESS"
INSTRUMENT_ID = HRSC
INSTRUMENT_NAME = "HIGH RESOLUTION STEREO CAMERA"
MISSION_NAME = "MARS EXPRESS"
MISSION_PHASE_NAME = ME_Phase_23
PROCESSING_LEVEL_ID = 3
PRODUCT_CREATION_TIME = 2016-10-27T04:11:22.000Z
PRODUCT_ID = "H9602_0000_BL3.JP2"
RELEASE_ID = 0099
REVISION_ID = 0000
/* QUALITY DATA ELEMENTS */
DATA_QUALITY_ID = 1
DATA_QUALITY_DESC = "Data calculated based on original SPICE kernels"
/* TIME DATA ELEMENTS */
SPACECRAFT_CLOCK_START_COUNT = "1/0258470189.07285"
SPACECRAFT_CLOCK_STOP_COUNT = "1/0258470407.14503"
START_TIME = 2011-07-11T13:17:12.516Z
STOP_TIME = 2011-07-11T13:19:34.135Z
/* ORBITAL DATA ELEMENTS */
ASCENDING_NODE_LONGITUDE = 33.9
MAXIMUM_RESOLUTION = 61.7
FOOTPRINT_POINT_LATITUDE = (53.6649,53.6512,53.6392,53.6224, 53.6105,53.5259,53.3469,53.1679,52.989, 52.8101,52.6313,52.4525,52.2738,52.0952 ,51.8273,51.6488,51.3812,51.2028, 51.0245,50.8464,50.6682,50.4902,50.3122 ,50.1343,49.9565,49.7787,49.601,49.4234 ,49.2459,49.0685,48.8912,48.7139, 48.5367,48.3596,48.1826,47.8289,47.4755 ,47.1226,46.77,46.4178,46.0661,45.797, 45.6167,45.4365,45.2564,45.0765,44.8967 ,44.7169,44.6909,44.7013,44.7079, 44.7156,44.7209,44.7275,44.9077,45.088, 45.2684,45.449,45.6296,45.8104,46.0811, 46.4338,46.7869,47.1405,47.3174,47.4944 ,47.6715,47.8487,48.0261,48.2035,48.381 ,48.5586,48.7364,49.003,49.181,49.359, 49.5371,49.7152,49.8935,50.0719,50.2503 ,50.4288,50.6074,50.786,50.9648,51.1436 ,51.3224,51.5014,51.6804,51.8595, 52.0387,52.2179,52.3972,52.5766,52.756, 52.9355,53.115,53.2946,53.4742,53.6649)
FOOTPRINT_POINT_LONGITUDE = (190.601,190.077,189.673,189.17,188.848 ,188.516,188.536,188.556,188.575, 188.593,188.612,188.63,188.648,188.665, 188.691,188.708,188.733,188.749,188.765 ,188.781,188.796,188.811,188.826, 188.841,188.855,188.869,188.883,188.897 ,188.91,188.923,188.936,188.949,188.961 ,188.973,188.985,189.009,189.031, 189.053,189.074,189.094,189.113,189.128 ,189.137,189.146,189.155,189.164, 189.172,189.181,189.471,189.878,190.168 ,190.556,190.866,191.26,191.253,191.245 ,191.238,191.23,191.223,191.215,191.203 ,191.187,191.171,191.155,191.146, 191.138,191.129,191.121,191.112,191.103 ,191.094,191.085,191.076,191.062, 191.053,191.043,191.034,191.024,191.014 ,191.004,190.994,190.984,190.973, 190.963,190.952,190.942,190.931,190.92, 190.908,190.897,190.886,190.874,190.863 ,190.851,190.839,190.826,190.814, 190.802,190.789,190.601)
ORBIT_NUMBER = 9602
ORBITAL_ECCENTRICITY = 0.572
ORBITAL_INCLINATION = 86.89
ORBITAL_SEMIMAJOR_AXIS = 8782.86
PERIAPSIS_ALTITUDE = 376.06
PERIAPSIS_ARGUMENT_ANGLE = 120.45
PERIAPSIS_TIME = 2011-07-11T13:15:36.000Z
SPACECRAFT_ORIENTATION = (0.0,-1.0,0.0)
^MEX_ORIENTATION_DESC = "MEX_ORIENTATION_DESC.TXT"
SPACECRAFT_POINTING_MODE = NADIR
^MEX_POINTING_DESC = "MEX_POINTING_DESC.TXT"
RIGHT_ASCENSION = -1e+32
DECLINATION = -1e+32
OFFSET_ANGLE = -1e+32
SPACECRAFT_SOLAR_DISTANCE = 2.20666e+08
TARGET_NAME = MARS
/* CAMERA DATA ELEMENTS */
DETECTOR_TEMPERATURE = 18.7783
FOCAL_PLANE_TEMPERATURE = 8.1755
INST_CMPRS_NAME = "DISCRETE COSINE TRANSFORMATION (DCT)"
INST_CMPRS_RATIO = 6.68767
INST_CMPRS_QUALITY = 0
INST_CMPRS_QUANTZ_TBL_ID = 0
INSTRUMENT_TEMPERATURE = 11.234
LENS_TEMPERATURE = 8.3794
MACROPIXEL_SIZE = 4
MISSING_FRAMES = 0
PIXEL_SUBSAMPLING_FLAG = N
SIGNAL_CHAIN_ID = 2
/* RADIOMETRIC DATA ELEMENTS */
BANDWIDTH = 76.0
CENTER_FILTER_WAVELENGTH = 444.0
RADIANCE_OFFSET = 0.882477
RADIANCE_SCALING_FACTOR = 0.00148619
REFLECTANCE_SCALING_FACTOR = 7.43537e-05
MEX:REFLECTANCE_OFFSET = 0.0441502
/* IMAGE OBJECT DEFINITIONS */
OBJECT = IMAGE
  INTERCHANGE_FORMAT = BINARY
  LINES = 10684
  LINE_SAMPLES = 2126
  SAMPLE_TYPE = UNSIGNED_INTEGER
  SAMPLE_BITS = 8
  BANDS = 1
  BAND_STORAGE_TYPE = BAND_SEQUENTIAL
  MAXIMUM = 255
  MEAN = 141.447
  MINIMUM = 1
  STANDARD_DEVIATION = 44.0181
END_OBJECT = IMAGE
/* MAP OBJECT DEFINITIONS */
OBJECT = IMAGE_MAP_PROJECTION
  ^DATA_SET_MAP_PROJECTION_CATALOG= "DSMAP.CAT"
  A_AXIS_RADIUS = 3396.0
  B_AXIS_RADIUS = 3396.0
  C_AXIS_RADIUS = 3396.0
  CENTER_LATITUDE = 0.0
  CENTER_LONGITUDE = 190.0
  COORDINATE_SYSTEM_NAME = PLANETOGRAPHIC
  COORDINATE_SYSTEM_TYPE = "BODY-FIXED ROTATING"
  EASTERNMOST_LONGITUDE = 191.26
  FIRST_STANDARD_PARALLEL = "N/A"
  LINE_FIRST_PIXEL = 1
  LINE_LAST_PIXEL = 10684
  LINE_PROJECTION_OFFSET = 63643.125
  MAP_PROJECTION_ROTATION = 0.0
  MAP_PROJECTION_TYPE = SINUSOIDAL
  MAP_RESOLUTION = 1185.42760773333
  MAP_SCALE = 0.05
  MAXIMUM_LATITUDE = 53.6649
  MINIMUM_LATITUDE = 44.6909
  POSITIVE_LONGITUDE_DIRECTION = EAST
  REFERENCE_LATITUDE = "N/A"
  REFERENCE_LONGITUDE = "N/A"
  SAMPLE_FIRST_PIXEL = 1
  SAMPLE_LAST_PIXEL = 2126
  SAMPLE_PROJECTION_OFFSET = 1064.375
  SECOND_STANDARD_PARALLEL = "N/A"
  WESTERNMOST_LONGITUDE = 188.516
END_OBJECT = IMAGE_MAP_PROJECTION
/* The JPEG2000 image data file associated with this label. */
OBJECT = COMPRESSED_FILE
  FILE_NAME = "H9602_0000_BL3.JP2"
  RECORD_TYPE = UNDEFINED
  FILE_RECORDS = UNK
  ENCODING_TYPE = "JP2"
  INTERCHANGE_FORMAT = BINARY
  UNCOMPRESSED_FILE_NAME = "H9602_0000_BL3.IMG"
  REQUIRED_STORAGE_BYTES = "22735444"
  ^DESCRIPTION = "JP2INFO.TXT"
END_OBJECT = COMPRESSED_FILE
END
