PDS_VERSION_ID = PDS3
/* FILE DATA ELEMENTS */
RECORD_TYPE = STREAM
/* POINTERS TO DATA OBJECTS */
^COMPRESSED_FILE = "H9602_0000_IR3.JP2"
/* IDENTIFICATION DATA ELEMENTS */
DATA_SET_ID = "MEX-M-HRSC-5-REFDR-MAPPROJECTED-V3.0"
DATA_SET_NAME = "MARS EXPRESS HRSC MAP PROJECTED REFDR V3.0"
DETECTOR_ID = MEX_HRSC_IR
EVENT_TYPE = "MARS-REGIONAL-MAPPING-Te-Im-Pf"
INSTRUMENT_HOST_ID = MEX
INSTRUMENT_HOST_NAME = "MARS EXPRESS"
INSTRUMENT_ID = HRSC
INSTRUMENT_NAME = "HIGH RESOLUTION STEREO CAMERA"
MISSION_NAME = "MARS EXPRESS"
MISSION_PHASE_NAME = ME_Phase_23
PROCESSING_LEVEL_ID = 3
PRODUCT_CREATION_TIME = 2016-10-27T04:11:22.000Z
PRODUCT_ID = "H9602_0000_IR3.JP2"
RELEASE_ID = 0099
REVISION_ID = 0000
/* QUALITY DATA ELEMENTS */
DATA_QUALITY_ID = 1
DATA_QUALITY_DESC = "Data calculated based on original SPICE kernels"
/* TIME DATA ELEMENTS */
SPACECRAFT_CLOCK_START_COUNT = "1/0258470189.07285"
SPACECRAFT_CLOCK_STOP_COUNT = "1/0258470407.14503"
START_TIME = 2011-07-11T13:16:38.037Z
STOP_TIME = 2011-07-11T13:18:56.444Z
/* ORBITAL DATA ELEMENTS */
ASCENDING_NODE_LONGITUDE = 33.9
MAXIMUM_RESOLUTION = 63.7
FOOTPRINT_POINT_LATITUDE = (53.7576,53.7501,53.7364,53.7225, 53.7106,53.6944,53.596,53.2418,52.976, 52.6216,52.4443,52.2669,51.9122,51.7348 ,51.4688,51.2913,51.0251,50.8475, 50.6699,50.4923,50.3147,50.0483,49.8707 ,49.693,49.5153,49.3375,49.1597,48.9819 ,48.8042,48.6264,48.4487,48.1821, 48.0044,47.8265,47.6488,47.471,47.2932, 47.0265,46.8489,46.6711,46.4933,46.2266 ,46.0488,45.871,45.6045,45.4267,45.249, 45.0714,44.8937,44.7161,44.657,44.668, 44.6751,44.6823,44.6911,44.7872,44.9653 ,45.1434,45.3216,45.5887,45.7669, 45.9451,46.1234,46.3909,46.5691,46.8366 ,47.1039,47.3713,47.6389,47.8173, 47.9956,48.1739,48.3522,48.5303,48.7085 ,48.8871,49.0651,49.3326,49.5109, 49.6892,49.8673,50.1346,50.3128,50.4911 ,50.6693,50.8474,51.0256,51.2037,51.382 ,51.649,51.827,52.005,52.183,52.45, 52.717,52.895,53.0728,53.2509,53.4288, 53.7576)
FOOTPRINT_POINT_LONGITUDE = (190.71,190.409,189.927,189.506,189.186 ,188.786,188.518,188.558,188.587, 188.625,188.643,188.661,188.697,188.714 ,188.74,188.756,188.781,188.797,188.812 ,188.828,188.843,188.866,188.88,188.895 ,188.909,188.923,188.936,188.95,188.963 ,188.976,188.989,189.008,189.02,189.032 ,189.044,189.056,189.067,189.084, 189.095,189.106,189.116,189.131,189.142 ,189.151,189.166,189.175,189.184, 189.194,189.202,189.211,189.458,189.815 ,190.079,190.38,190.832,191.23,191.223, 191.217,191.21,191.199,191.192,191.184, 191.177,191.166,191.158,191.146,191.135 ,191.123,191.11,191.102,191.094,191.085 ,191.077,191.068,191.06,191.051,191.042 ,191.028,191.019,191.01,191.0,190.986, 190.976,190.966,190.956,190.946,190.936 ,190.926,190.915,190.9,190.889,190.878, 190.867,190.85,190.833,190.821,190.81, 190.798,190.786,190.71)
ORBIT_NUMBER = 9602
ORBITAL_ECCENTRICITY = 0.572
ORBITAL_INCLINATION = 86.89
ORBITAL_SEMIMAJOR_AXIS = 8782.86
PERIAPSIS_ALTITUDE = 376.06
PERIAPSIS_ARGUMENT_ANGLE = 120.45
PERIAPSIS_TIME = 2011-07-11T13:15:36.000Z
SPACECRAFT_ORIENTATION = (0.0,-1.0,0.0)
^MEX_ORIENTATION_DESC = "MEX_ORIENTATION_DESC.TXT"
SPACECRAFT_POINTING_MODE = NADIR
^MEX_POINTING_DESC = "MEX_POINTING_DESC.TXT"
RIGHT_ASCENSION = -1e+32
DECLINATION = -1e+32
OFFSET_ANGLE = -1e+32
SPACECRAFT_SOLAR_DISTANCE = 2.20666e+08
TARGET_NAME = MARS
/* CAMERA DATA ELEMENTS */
DETECTOR_TEMPERATURE = 17.351
FOCAL_PLANE_TEMPERATURE = 8.1755
INST_CMPRS_NAME = "DISCRETE COSINE TRANSFORMATION (DCT)"
INST_CMPRS_RATIO = 7.40824
INST_CMPRS_QUALITY = 0
INST_CMPRS_QUANTZ_TBL_ID = 0
INSTRUMENT_TEMPERATURE = 11.234
LENS_TEMPERATURE = 8.3794
MACROPIXEL_SIZE = 4
MISSING_FRAMES = 0
PIXEL_SUBSAMPLING_FLAG = N
SIGNAL_CHAIN_ID = 2
/* RADIOMETRIC DATA ELEMENTS */
BANDWIDTH = 81.0
CENTER_FILTER_WAVELENGTH = 955.5
RADIANCE_OFFSET = 1.10757
RADIANCE_SCALING_FACTOR = 0.00348293
REFLECTANCE_SCALING_FACTOR = 0.000365887
MEX:REFLECTANCE_OFFSET = 0.116352
/* IMAGE OBJECT DEFINITIONS */
OBJECT = IMAGE
  INTERCHANGE_FORMAT = BINARY
  LINES = 10684
  LINE_SAMPLES = 2126
  SAMPLE_TYPE = UNSIGNED_INTEGER
  SAMPLE_BITS = 8
  BANDS = 1
  BAND_STORAGE_TYPE = BAND_SEQUENTIAL
  MAXIMUM = 255
  MEAN = 136.106
  MINIMUM = 1
  STANDARD_DEVIATION = 54.7401
END_OBJECT = IMAGE
/* MAP OBJECT DEFINITIONS */
OBJECT = IMAGE_MAP_PROJECTION
  ^DATA_SET_MAP_PROJECTION_CATALOG= "DSMAP.CAT"
  A_AXIS_RADIUS = 3396.0
  B_AXIS_RADIUS = 3396.0
  C_AXIS_RADIUS = 3396.0
  CENTER_LATITUDE = 0.0
  CENTER_LONGITUDE = 190.0
  COORDINATE_SYSTEM_NAME = PLANETOGRAPHIC
  COORDINATE_SYSTEM_TYPE = "BODY-FIXED ROTATING"
  EASTERNMOST_LONGITUDE = 191.23
  FIRST_STANDARD_PARALLEL = "N/A"
  LINE_FIRST_PIXEL = 1
  LINE_LAST_PIXEL = 10684
  LINE_PROJECTION_OFFSET = 63643.125
  MAP_PROJECTION_ROTATION = 0.0
  MAP_PROJECTION_TYPE = SINUSOIDAL
  MAP_RESOLUTION = 1185.42760773333
  MAP_SCALE = 0.05
  MAXIMUM_LATITUDE = 53.7576
  MINIMUM_LATITUDE = 44.657
  POSITIVE_LONGITUDE_DIRECTION = EAST
  REFERENCE_LATITUDE = "N/A"
  REFERENCE_LONGITUDE = "N/A"
  SAMPLE_FIRST_PIXEL = 1
  SAMPLE_LAST_PIXEL = 2126
  SAMPLE_PROJECTION_OFFSET = 1064.375
  SECOND_STANDARD_PARALLEL = "N/A"
  WESTERNMOST_LONGITUDE = 188.518
END_OBJECT = IMAGE_MAP_PROJECTION
/* The JPEG2000 image data file associated with this label. */
OBJECT = COMPRESSED_FILE
  FILE_NAME = "H9602_0000_IR3.JP2"
  RECORD_TYPE = UNDEFINED
  FILE_RECORDS = UNK
  ENCODING_TYPE = "JP2"
  INTERCHANGE_FORMAT = BINARY
  UNCOMPRESSED_FILE_NAME = "H9602_0000_IR3.IMG"
  REQUIRED_STORAGE_BYTES = "22735444"
  ^DESCRIPTION = "JP2INFO.TXT"
END_OBJECT = COMPRESSED_FILE
END
