PDS_VERSION_ID = PDS3
/* FILE DATA ELEMENTS */
RECORD_TYPE = STREAM
/* POINTERS TO DATA OBJECTS */
^COMPRESSED_FILE = "H9603_0000_IR3.JP2"
/* IDENTIFICATION DATA ELEMENTS */
DATA_SET_ID = "MEX-M-HRSC-5-REFDR-MAPPROJECTED-V3.0"
DATA_SET_NAME = "MARS EXPRESS HRSC MAP PROJECTED REFDR V3.0"
DETECTOR_ID = MEX_HRSC_IR
EVENT_TYPE = "MARS-REGIONAL-MAPPING-Vo-Fl-Pf"
INSTRUMENT_HOST_ID = MEX
INSTRUMENT_HOST_NAME = "MARS EXPRESS"
INSTRUMENT_ID = HRSC
INSTRUMENT_NAME = "HIGH RESOLUTION STEREO CAMERA"
MISSION_NAME = "MARS EXPRESS"
MISSION_PHASE_NAME = ME_Phase_23
PROCESSING_LEVEL_ID = 3
PRODUCT_CREATION_TIME = 2016-10-27T04:11:22.000Z
PRODUCT_ID = "H9603_0000_IR3.JP2"
RELEASE_ID = 0099
REVISION_ID = 0000
/* QUALITY DATA ELEMENTS */
DATA_QUALITY_ID = 1
DATA_QUALITY_DESC = "Data calculated based on original SPICE kernels"
/* TIME DATA ELEMENTS */
SPACECRAFT_CLOCK_START_COUNT = "1/0258495378.09035"
SPACECRAFT_CLOCK_STOP_COUNT = "1/0258495688.25491"
START_TIME = 2011-07-11T20:16:27.260Z
STOP_TIME = 2011-07-11T20:20:08.048Z
/* ORBITAL DATA ELEMENTS */
ASCENDING_NODE_LONGITUDE = 33.89
MAXIMUM_RESOLUTION = 127.1
FOOTPRINT_POINT_LATITUDE = (53.2713,53.2635,53.2524,53.2419, 53.2219,53.1214,52.8441,52.5671,52.1508 ,51.7345,51.3179,50.9013,50.6235, 50.2068,49.7902,49.3732,49.0951,48.8169 ,48.5389,48.2612,47.983,47.7049,47.4269 ,47.1494,46.8712,46.5932,46.1762, 45.7593,45.3423,44.9258,44.5095,44.2319 ,43.8156,43.5376,43.2527,42.968,42.6831 ,42.3985,42.1137,41.8294,41.5379,41.246 ,40.9545,40.5176,40.225,39.7771,39.4784 ,39.1801,38.8822,38.8687,38.8769, 38.8817,38.8865,38.8912,38.8953,39.1939 ,39.4926,39.7915,40.0908,40.3882, 40.8265,41.1186,41.4109,41.8499,42.2778 ,42.5631,42.8484,43.1342,43.4197, 43.7023,43.9806,44.3981,44.6763,45.0938 ,45.5116,45.7903,46.0691,46.3473, 46.6253,46.904,47.1829,47.4619,47.8802, 48.2987,48.7168,49.1356,49.415,49.6937, 50.1119,50.3907,50.8089,51.2268,51.5057 ,51.7841,52.0628,52.3413,52.6203, 52.8987,53.1767,53.2713)
FOOTPRINT_POINT_LONGITUDE = (88.2607,87.963,87.5859,87.2686,86.7338 ,86.3086,86.3384,86.3676,86.4098, 86.4506,86.4899,86.5277,86.5522,86.5878 ,86.6221,86.655,86.6762,86.6968,86.7169 ,86.7367,86.7558,86.7743,86.7924, 86.8103,86.8273,86.8439,86.868,86.891, 86.9129,86.9341,86.9543,86.9672,86.9858 ,86.9976,87.0094,87.0208,87.0317, 87.0424,87.0525,87.0624,87.0721,87.0813 ,87.0903,87.1031,87.1111,87.1227, 87.1298,87.1366,87.1432,87.4583,87.8315 ,88.0928,88.4103,88.84,89.1328,89.1249, 89.117,89.1088,89.1003,89.0919,89.0789, 89.0702,89.0613,89.0475,89.0338,89.0244 ,89.0149,89.005,88.9951,88.9851,88.975, 88.9596,88.9492,88.9333,88.9167,88.9054 ,88.8938,88.8824,88.8709,88.8588, 88.8464,88.8337,88.8144,88.7944,88.7741 ,88.7528,88.7382,88.7236,88.7012, 88.6859,88.6624,88.6383,88.6217,88.6051 ,88.5878,88.5703,88.5522,88.534,88.5157 ,88.2607)
ORBIT_NUMBER = 9603
ORBITAL_ECCENTRICITY = 0.573
ORBITAL_INCLINATION = 86.89
ORBITAL_SEMIMAJOR_AXIS = 8789.26
PERIAPSIS_ALTITUDE = 375.15
PERIAPSIS_ARGUMENT_ANGLE = 120.26
PERIAPSIS_TIME = 2011-07-11T20:15:15.000Z
SPACECRAFT_ORIENTATION = (0.0,-1.0,0.0)
^MEX_ORIENTATION_DESC = "MEX_ORIENTATION_DESC.TXT"
SPACECRAFT_POINTING_MODE = NADIR
^MEX_POINTING_DESC = "MEX_POINTING_DESC.TXT"
RIGHT_ASCENSION = -1e+32
DECLINATION = -1e+32
OFFSET_ANGLE = -1e+32
SPACECRAFT_SOLAR_DISTANCE = 2.20722e+08
TARGET_NAME = MARS
/* CAMERA DATA ELEMENTS */
DETECTOR_TEMPERATURE = 17.1471
FOCAL_PLANE_TEMPERATURE = 7.9716
INST_CMPRS_NAME = "DISCRETE COSINE TRANSFORMATION (DCT)"
INST_CMPRS_RATIO = 31.8271
INST_CMPRS_QUALITY = 0
INST_CMPRS_QUANTZ_TBL_ID = 0
INSTRUMENT_TEMPERATURE = 10.2145
LENS_TEMPERATURE = 8.7872
MACROPIXEL_SIZE = 8
MISSING_FRAMES = 0
PIXEL_SUBSAMPLING_FLAG = N
SIGNAL_CHAIN_ID = 2
/* RADIOMETRIC DATA ELEMENTS */
BANDWIDTH = 81.0
CENTER_FILTER_WAVELENGTH = 955.5
RADIANCE_OFFSET = 0.850047
RADIANCE_SCALING_FACTOR = 0.00415324
REFLECTANCE_SCALING_FACTOR = 0.00043652
MEX:REFLECTANCE_OFFSET = 0.089343
/* IMAGE OBJECT DEFINITIONS */
OBJECT = IMAGE
  INTERCHANGE_FORMAT = BINARY
  LINES = 8495
  LINE_SAMPLES = 1165
  SAMPLE_TYPE = UNSIGNED_INTEGER
  SAMPLE_BITS = 8
  BANDS = 1
  BAND_STORAGE_TYPE = BAND_SEQUENTIAL
  MAXIMUM = 255
  MEAN = 61.3933
  MINIMUM = 3
  STANDARD_DEVIATION = 37.327
END_OBJECT = IMAGE
/* MAP OBJECT DEFINITIONS */
OBJECT = IMAGE_MAP_PROJECTION
  ^DATA_SET_MAP_PROJECTION_CATALOG= "DSMAP.CAT"
  A_AXIS_RADIUS = 3396.0
  B_AXIS_RADIUS = 3396.0
  C_AXIS_RADIUS = 3396.0
  CENTER_LATITUDE = 0.0
  CENTER_LONGITUDE = 88.0
  COORDINATE_SYSTEM_NAME = PLANETOGRAPHIC
  COORDINATE_SYSTEM_TYPE = "BODY-FIXED ROTATING"
  EASTERNMOST_LONGITUDE = 89.1328
  FIRST_STANDARD_PARALLEL = "N/A"
  LINE_FIRST_PIXEL = 1
  LINE_LAST_PIXEL = 8495
  LINE_PROJECTION_OFFSET = 31538.9375
  MAP_PROJECTION_ROTATION = 0.0
  MAP_PROJECTION_TYPE = SINUSOIDAL
  MAP_RESOLUTION = 592.713803866667
  MAP_SCALE = 0.1
  MAXIMUM_LATITUDE = 53.2713
  MINIMUM_LATITUDE = 38.8687
  POSITIVE_LONGITUDE_DIRECTION = EAST
  REFERENCE_LATITUDE = "N/A"
  REFERENCE_LONGITUDE = "N/A"
  SAMPLE_FIRST_PIXEL = 1
  SAMPLE_LAST_PIXEL = 1165
  SAMPLE_PROJECTION_OFFSET = 616.6875
  SECOND_STANDARD_PARALLEL = "N/A"
  WESTERNMOST_LONGITUDE = 86.3086
END_OBJECT = IMAGE_MAP_PROJECTION
/* The JPEG2000 image data file associated with this label. */
OBJECT = COMPRESSED_FILE
  FILE_NAME = "H9603_0000_IR3.JP2"
  RECORD_TYPE = UNDEFINED
  FILE_RECORDS = UNK
  ENCODING_TYPE = "JP2"
  INTERCHANGE_FORMAT = BINARY
  UNCOMPRESSED_FILE_NAME = "H9603_0000_IR3.IMG"
  REQUIRED_STORAGE_BYTES = "9914150"
  ^DESCRIPTION = "JP2INFO.TXT"
END_OBJECT = COMPRESSED_FILE
END
