PDS_VERSION_ID = PDS3
/* FILE DATA ELEMENTS */
RECORD_TYPE = STREAM
/* POINTERS TO DATA OBJECTS */
^COMPRESSED_FILE = "H9603_0000_ND3.JP2"
/* IDENTIFICATION DATA ELEMENTS */
DATA_SET_ID = "MEX-M-HRSC-5-REFDR-MAPPROJECTED-V3.0"
DATA_SET_NAME = "MARS EXPRESS HRSC MAP PROJECTED REFDR V3.0"
DETECTOR_ID = MEX_HRSC_NADIR
EVENT_TYPE = "MARS-REGIONAL-MAPPING-Vo-Fl-Pf"
INSTRUMENT_HOST_ID = MEX
INSTRUMENT_HOST_NAME = "MARS EXPRESS"
INSTRUMENT_ID = HRSC
INSTRUMENT_NAME = "HIGH RESOLUTION STEREO CAMERA"
MISSION_NAME = "MARS EXPRESS"
MISSION_PHASE_NAME = ME_Phase_23
PROCESSING_LEVEL_ID = 3
PRODUCT_CREATION_TIME = 2016-10-27T04:11:22.000Z
PRODUCT_ID = "H9603_0000_ND3.JP2"
RELEASE_ID = 0099
REVISION_ID = 0000
/* QUALITY DATA ELEMENTS */
DATA_QUALITY_ID = 1
DATA_QUALITY_DESC = "Data calculated based on original SPICE kernels"
/* TIME DATA ELEMENTS */
SPACECRAFT_CLOCK_START_COUNT = "1/0258495378.09035"
SPACECRAFT_CLOCK_STOP_COUNT = "1/0258495688.25491"
START_TIME = 2011-07-11T20:16:55.691Z
STOP_TIME = 2011-07-11T20:20:42.689Z
/* ORBITAL DATA ELEMENTS */
ASCENDING_NODE_LONGITUDE = 33.89
MAXIMUM_RESOLUTION = 15.4
FOOTPRINT_POINT_LATITUDE = (53.2069,53.194,53.1769,53.1491,52.8626 ,52.5824,52.3022,52.0222,51.7422, 51.4624,51.1827,50.9031,50.6237,50.3444 ,50.0653,49.7863,49.5074,49.2288, 48.9503,48.6719,48.3938,48.1158,47.838, 47.283,46.7287,46.1754,45.6229,45.3414, 45.0583,44.7754,44.4928,44.2105,43.9284 ,43.6405,43.3516,43.063,42.7747,42.4866 ,42.1942,41.8995,41.605,41.311,41.0173, 40.7167,40.4164,40.1165,39.8169,39.5117 ,39.2057,38.9001,38.8905,38.8974, 38.9064,38.9112,39.2175,39.5243,39.8308 ,40.1311,40.4318,40.7328,41.1818, 41.4764,41.7714,42.0667,42.5082,42.7969 ,43.086,43.3753,43.665,43.9541,44.2369, 44.52,44.8034,45.087,45.3708,45.6536, 46.2075,46.7625,47.3182,47.5964,47.8748 ,48.1534,48.4322,48.7112,48.9904, 49.2697,49.5493,49.829,50.1088,50.3889, 50.669,50.9494,51.2299,51.5105,51.7912, 52.0721,52.3532,52.6343,52.9155, 53.2069)
FOOTPRINT_POINT_LONGITUDE = (88.2562,87.7687,87.2178,86.4557, 86.2992,86.3282,86.3565,86.384,86.4108, 86.4369,86.4624,86.4872,86.5113,86.5349 ,86.5579,86.5802,86.6021,86.6231, 86.6434,86.6634,86.6831,86.7019,86.7202 ,86.7555,86.7887,86.8198,86.8492, 86.8634,86.8775,86.891,86.904,86.9165, 86.9287,86.9406,86.952,86.9632,86.9738, 86.9842,86.9942,87.0038,87.0131,87.022, 87.0304,87.0388,87.0466,87.0542,87.0613 ,87.0678,87.0742,87.0802,87.5325, 87.9223,88.6001,89.1651,89.1563,89.1474 ,89.1384,89.1293,89.1201,89.1106, 89.0964,89.0867,89.0768,89.0669,89.0516 ,89.0415,89.031,89.0205,89.0096,88.9987 ,88.9877,88.9767,88.9654,88.954,88.9423 ,88.9304,88.9064,88.8823,88.8566, 88.8432,88.8298,88.816,88.802,88.7879, 88.7733,88.7582,88.7431,88.7279,88.7123 ,88.6963,88.68,88.6636,88.6468,88.6293, 88.612,88.5941,88.5758,88.5569,88.538, 88.2562)
ORBIT_NUMBER = 9603
ORBITAL_ECCENTRICITY = 0.573
ORBITAL_INCLINATION = 86.89
ORBITAL_SEMIMAJOR_AXIS = 8789.26
PERIAPSIS_ALTITUDE = 375.15
PERIAPSIS_ARGUMENT_ANGLE = 120.26
PERIAPSIS_TIME = 2011-07-11T20:15:15.000Z
SPACECRAFT_ORIENTATION = (0.0,-1.0,0.0)
^MEX_ORIENTATION_DESC = "MEX_ORIENTATION_DESC.TXT"
SPACECRAFT_POINTING_MODE = NADIR
^MEX_POINTING_DESC = "MEX_POINTING_DESC.TXT"
RIGHT_ASCENSION = -1e+32
DECLINATION = -1e+32
OFFSET_ANGLE = -1e+32
SPACECRAFT_SOLAR_DISTANCE = 2.20722e+08
TARGET_NAME = MARS
/* CAMERA DATA ELEMENTS */
DETECTOR_TEMPERATURE = 17.9627
FOCAL_PLANE_TEMPERATURE = 7.9716
INST_CMPRS_NAME = "DISCRETE COSINE TRANSFORMATION (DCT)"
INST_CMPRS_RATIO = 8.99122
INST_CMPRS_QUALITY = 0
INST_CMPRS_QUANTZ_TBL_ID = 0
INSTRUMENT_TEMPERATURE = 10.2145
LENS_TEMPERATURE = 8.7872
MACROPIXEL_SIZE = 1
MISSING_FRAMES = 0
PIXEL_SUBSAMPLING_FLAG = N
SIGNAL_CHAIN_ID = 0
/* RADIOMETRIC DATA ELEMENTS */
BANDWIDTH = 177.0
CENTER_FILTER_WAVELENGTH = 677.5
RADIANCE_OFFSET = 3.15271
RADIANCE_SCALING_FACTOR = 0.0152011
REFLECTANCE_SCALING_FACTOR = 0.000393415
MEX:REFLECTANCE_OFFSET = 0.0815942
/* IMAGE OBJECT DEFINITIONS */
OBJECT = IMAGE
  INTERCHANGE_FORMAT = BINARY
  LINES = 67956
  LINE_SAMPLES = 9313
  SAMPLE_TYPE = UNSIGNED_INTEGER
  SAMPLE_BITS = 8
  BANDS = 1
  BAND_STORAGE_TYPE = BAND_SEQUENTIAL
  MAXIMUM = 255
  MEAN = 76.1616
  MINIMUM = 1
  STANDARD_DEVIATION = 36.0884
END_OBJECT = IMAGE
/* MAP OBJECT DEFINITIONS */
OBJECT = IMAGE_MAP_PROJECTION
  ^DATA_SET_MAP_PROJECTION_CATALOG= "DSMAP.CAT"
  A_AXIS_RADIUS = 3396.0
  B_AXIS_RADIUS = 3396.0
  C_AXIS_RADIUS = 3396.0
  CENTER_LATITUDE = 0.0
  CENTER_LONGITUDE = 88.0
  COORDINATE_SYSTEM_NAME = PLANETOGRAPHIC
  COORDINATE_SYSTEM_TYPE = "BODY-FIXED ROTATING"
  EASTERNMOST_LONGITUDE = 89.1651
  FIRST_STANDARD_PARALLEL = "N/A"
  LINE_FIRST_PIXEL = 1
  LINE_LAST_PIXEL = 67956
  LINE_PROJECTION_OFFSET = 252315.0
  MAP_PROJECTION_ROTATION = 0.0
  MAP_PROJECTION_TYPE = SINUSOIDAL
  MAP_RESOLUTION = 4741.71043093333
  MAP_SCALE = 0.0125
  MAXIMUM_LATITUDE = 53.2069
  MINIMUM_LATITUDE = 38.8905
  POSITIVE_LONGITUDE_DIRECTION = EAST
  REFERENCE_LATITUDE = "N/A"
  REFERENCE_LONGITUDE = "N/A"
  SAMPLE_FIRST_PIXEL = 1
  SAMPLE_LAST_PIXEL = 9313
  SAMPLE_PROJECTION_OFFSET = 4937.0
  SECOND_STANDARD_PARALLEL = "N/A"
  WESTERNMOST_LONGITUDE = 86.2992
END_OBJECT = IMAGE_MAP_PROJECTION
/* The JPEG2000 image data file associated with this label. */
OBJECT = COMPRESSED_FILE
  FILE_NAME = "H9603_0000_ND3.JP2"
  RECORD_TYPE = UNDEFINED
  FILE_RECORDS = UNK
  ENCODING_TYPE = "JP2"
  INTERCHANGE_FORMAT = BINARY
  UNCOMPRESSED_FILE_NAME = "H9603_0000_ND3.IMG"
  REQUIRED_STORAGE_BYTES = "632902167"
  ^DESCRIPTION = "JP2INFO.TXT"
END_OBJECT = COMPRESSED_FILE
END
