PDS_VERSION_ID = PDS3
/* FILE DATA ELEMENTS */
RECORD_TYPE = STREAM
/* POINTERS TO DATA OBJECTS */
^COMPRESSED_FILE = "H9608_0000_P13.JP2"
/* IDENTIFICATION DATA ELEMENTS */
DATA_SET_ID = "MEX-M-HRSC-5-REFDR-MAPPROJECTED-V3.0"
DATA_SET_NAME = "MARS EXPRESS HRSC MAP PROJECTED REFDR V3.0"
DETECTOR_ID = MEX_HRSC_P1
EVENT_TYPE = "MARS-REGIONAL-MAPPING-Vo-Te-Pf"
INSTRUMENT_HOST_ID = MEX
INSTRUMENT_HOST_NAME = "MARS EXPRESS"
INSTRUMENT_ID = HRSC
INSTRUMENT_NAME = "HIGH RESOLUTION STEREO CAMERA"
MISSION_NAME = "MARS EXPRESS"
MISSION_PHASE_NAME = ME_Phase_23
PROCESSING_LEVEL_ID = 3
PRODUCT_CREATION_TIME = 2016-10-27T04:11:22.000Z
PRODUCT_ID = "H9608_0000_P13.JP2"
RELEASE_ID = 0099
REVISION_ID = 0000
/* QUALITY DATA ELEMENTS */
DATA_QUALITY_ID = 1
DATA_QUALITY_DESC = "Data calculated based on original SPICE kernels"
/* TIME DATA ELEMENTS */
SPACECRAFT_CLOCK_START_COUNT = "1/0258621125.07288"
SPACECRAFT_CLOCK_STOP_COUNT = "1/0258621353.05868"
START_TIME = 2011-07-13T07:12:20.288Z
STOP_TIME = 2011-07-13T07:14:55.311Z
/* ORBITAL DATA ELEMENTS */
ASCENDING_NODE_LONGITUDE = 33.8
MAXIMUM_RESOLUTION = 31.2
FOOTPRINT_POINT_LATITUDE = (63.6152,63.5938,63.5637,63.5432, 63.5239,63.5005,63.319,63.1237,62.9282, 62.7327,62.537,62.3412,62.0471,61.851, 61.5565,61.3601,61.1635,60.8685,60.5732 ,60.3763,60.0809,59.8835,59.686,59.4887 ,59.2911,59.0936,58.797,58.5992,58.4014 ,58.1044,57.9063,57.7081,57.5098, 57.2122,57.0138,56.7161,56.5175,56.2198 ,56.021,55.7229,55.524,55.3251,55.1261, 54.9272,54.7282,54.4296,54.2304,53.932, 53.733,53.5215,53.5398,53.556,53.566, 53.5792,53.5904,53.8902,54.0902,54.29, 54.4899,54.6898,54.9896,55.1895,55.3892 ,55.5891,55.7888,56.0883,56.2878, 56.5871,56.7866,56.9861,57.1854,57.3847 ,57.5841,57.7836,57.9829,58.2813, 58.4803,58.7787,58.9776,59.1764,59.3751 ,59.5738,59.7723,59.9708,60.2685, 60.4667,60.764,61.0611,61.259,61.4569, 61.6548,61.8524,62.05,62.3462,62.5435, 62.8394,63.0365,63.332,63.529,63.6152)
FOOTPRINT_POINT_LONGITUDE = (295.639,295.055,294.335,293.892, 293.505,293.063,293.02,293.073,293.124, 293.175,293.225,293.274,293.345,293.392 ,293.461,293.506,293.55,293.615,293.678 ,293.719,293.779,293.819,293.857, 293.895,293.933,293.969,294.023,294.059 ,294.093,294.144,294.177,294.21,294.242 ,294.289,294.319,294.365,294.394, 294.437,294.465,294.507,294.534,294.56, 294.586,294.612,294.637,294.674,294.698 ,294.734,294.757,294.913,295.372, 295.832,296.161,296.622,297.047,297.026 ,297.011,296.997,296.982,296.967, 296.944,296.928,296.912,296.896,296.88, 296.855,296.838,296.813,296.795,296.777 ,296.76,296.741,296.723,296.704,296.685 ,296.656,296.636,296.606,296.585, 296.565,296.543,296.522,296.5,296.478, 296.444,296.422,296.387,296.351,296.326 ,296.302,296.276,296.251,296.225, 296.185,296.158,296.117,296.089,296.046 ,296.017,295.639)
ORBIT_NUMBER = 9608
ORBITAL_ECCENTRICITY = 0.572
ORBITAL_INCLINATION = 86.88
ORBITAL_SEMIMAJOR_AXIS = 8783.85
PERIAPSIS_ALTITUDE = 376.66
PERIAPSIS_ARGUMENT_ANGLE = 119.43
PERIAPSIS_TIME = 2011-07-13T07:13:31.000Z
SPACECRAFT_ORIENTATION = (0.0,-1.0,0.0)
^MEX_ORIENTATION_DESC = "MEX_ORIENTATION_DESC.TXT"
SPACECRAFT_POINTING_MODE = NADIR
^MEX_POINTING_DESC = "MEX_POINTING_DESC.TXT"
RIGHT_ASCENSION = -1e+32
DECLINATION = -1e+32
OFFSET_ANGLE = -1e+32
SPACECRAFT_SOLAR_DISTANCE = 2.20998e+08
TARGET_NAME = MARS
/* CAMERA DATA ELEMENTS */
DETECTOR_TEMPERATURE = 17.1471
FOCAL_PLANE_TEMPERATURE = 7.7677
INST_CMPRS_NAME = "DISCRETE COSINE TRANSFORMATION (DCT)"
INST_CMPRS_RATIO = 15.5848
INST_CMPRS_QUALITY = 0
INST_CMPRS_QUANTZ_TBL_ID = 0
INSTRUMENT_TEMPERATURE = 11.0301
LENS_TEMPERATURE = 8.1755
MACROPIXEL_SIZE = 2
MISSING_FRAMES = 0
PIXEL_SUBSAMPLING_FLAG = N
SIGNAL_CHAIN_ID = 3
/* RADIOMETRIC DATA ELEMENTS */
BANDWIDTH = 174.0
CENTER_FILTER_WAVELENGTH = 675.0
RADIANCE_OFFSET = 3.28243
RADIANCE_SCALING_FACTOR = 0.00697249
REFLECTANCE_SCALING_FACTOR = 0.000183168
MEX:REFLECTANCE_OFFSET = 0.0862298
/* IMAGE OBJECT DEFINITIONS */
OBJECT = IMAGE
  INTERCHANGE_FORMAT = BINARY
  LINES = 23778
  LINE_SAMPLES = 4887
  SAMPLE_TYPE = UNSIGNED_INTEGER
  SAMPLE_BITS = 8
  BANDS = 1
  BAND_STORAGE_TYPE = BAND_SEQUENTIAL
  MAXIMUM = 255
  MEAN = 127.941
  MINIMUM = 1
  STANDARD_DEVIATION = 45.9952
END_OBJECT = IMAGE
/* MAP OBJECT DEFINITIONS */
OBJECT = IMAGE_MAP_PROJECTION
  ^DATA_SET_MAP_PROJECTION_CATALOG= "DSMAP.CAT"
  A_AXIS_RADIUS = 3396.0
  B_AXIS_RADIUS = 3396.0
  C_AXIS_RADIUS = 3396.0
  CENTER_LATITUDE = 0.0
  CENTER_LONGITUDE = 295.0
  COORDINATE_SYSTEM_NAME = PLANETOGRAPHIC
  COORDINATE_SYSTEM_TYPE = "BODY-FIXED ROTATING"
  EASTERNMOST_LONGITUDE = 297.047
  FIRST_STANDARD_PARALLEL = "N/A"
  LINE_FIRST_PIXEL = 1
  LINE_LAST_PIXEL = 23778
  LINE_PROJECTION_OFFSET = 150660.75
  MAP_PROJECTION_ROTATION = 0.0
  MAP_PROJECTION_TYPE = SINUSOIDAL
  MAP_RESOLUTION = 2370.85521546667
  MAP_SCALE = 0.025
  MAXIMUM_LATITUDE = 63.6152
  MINIMUM_LATITUDE = 53.5215
  POSITIVE_LONGITUDE_DIRECTION = EAST
  REFERENCE_LATITUDE = "N/A"
  REFERENCE_LONGITUDE = "N/A"
  SAMPLE_FIRST_PIXEL = 1
  SAMPLE_LAST_PIXEL = 4887
  SAMPLE_PROJECTION_OFFSET = 2042.25
  SECOND_STANDARD_PARALLEL = "N/A"
  WESTERNMOST_LONGITUDE = 293.02
END_OBJECT = IMAGE_MAP_PROJECTION
/* The JPEG2000 image data file associated with this label. */
OBJECT = COMPRESSED_FILE
  FILE_NAME = "H9608_0000_P13.JP2"
  RECORD_TYPE = UNDEFINED
  FILE_RECORDS = UNK
  ENCODING_TYPE = "JP2"
  INTERCHANGE_FORMAT = BINARY
  UNCOMPRESSED_FILE_NAME = "H9608_0000_P13.IMG"
  REQUIRED_STORAGE_BYTES = "116227521"
  ^DESCRIPTION = "JP2INFO.TXT"
END_OBJECT = COMPRESSED_FILE
END
