PDS_VERSION_ID = PDS3
/* FILE DATA ELEMENTS */
RECORD_TYPE = STREAM
/* POINTERS TO DATA OBJECTS */
^COMPRESSED_FILE = "H9618_0000_BL3.JP2"
/* IDENTIFICATION DATA ELEMENTS */
DATA_SET_ID = "MEX-M-HRSC-5-REFDR-MAPPROJECTED-V3.0"
DATA_SET_NAME = "MARS EXPRESS HRSC MAP PROJECTED REFDR V3.0"
DETECTOR_ID = MEX_HRSC_BLUE
EVENT_TYPE = "MARS-REGIONAL-MAPPING-Im-Fl"
INSTRUMENT_HOST_ID = MEX
INSTRUMENT_HOST_NAME = "MARS EXPRESS"
INSTRUMENT_ID = HRSC
INSTRUMENT_NAME = "HIGH RESOLUTION STEREO CAMERA"
MISSION_NAME = "MARS EXPRESS"
MISSION_PHASE_NAME = ME_Phase_23
PROCESSING_LEVEL_ID = 3
PRODUCT_CREATION_TIME = 2016-10-27T04:11:22.000Z
PRODUCT_ID = "H9618_0000_BL3.JP2"
RELEASE_ID = 0099
REVISION_ID = 0000
/* QUALITY DATA ELEMENTS */
DATA_QUALITY_ID = 1
DATA_QUALITY_DESC = "Data calculated based on original SPICE kernels"
/* TIME DATA ELEMENTS */
SPACECRAFT_CLOCK_START_COUNT = "1/0258873305.07304"
SPACECRAFT_CLOCK_STOP_COUNT = "1/0258873558.07866"
START_TIME = 2011-07-16T05:15:59.699Z
STOP_TIME = 2011-07-16T05:18:23.783Z
/* ORBITAL DATA ELEMENTS */
ASCENDING_NODE_LONGITUDE = 33.61
MAXIMUM_RESOLUTION = 78.2
FOOTPRINT_POINT_LATITUDE = (39.6106,39.6075,39.6024,39.5976, 39.5916,39.5951,39.2823,38.811,38.4132, 38.0958,37.8544,37.6927,37.5312,37.3698 ,37.2086,36.9635,36.7992,36.6351,36.471 ,36.3071,36.1412,35.9744,35.8078, 35.6414,35.4752,35.306,35.1366,34.9676, 34.7988,34.6291,34.4574,34.2858,34.1143 ,33.9431,33.7697,33.5956,33.4218, 33.1611,32.9844,32.8079,32.6317,32.366, 32.1871,32.0084,31.8299,31.5588,31.3777 ,31.1968,31.1909,31.1934,31.1954, 31.1962,31.1962,31.1949,31.1936,31.4672 ,31.6491,31.8304,32.0095,32.2785, 32.4578,32.6344,32.8115,32.9883,33.2527 ,33.4269,33.6014,33.776,33.9504,34.1222 ,34.2942,34.4664,34.7242,34.8938,35.063 ,35.2329,35.4029,35.5712,35.7379, 35.9049,36.0719,36.3223,36.4866,36.6513 ,36.816,36.9807,37.2266,37.3883,37.5499 ,37.7118,37.8742,38.1164,38.2756, 38.4349,38.5943,38.8337,38.9934,39.3064 ,39.6201,39.6106)
FOOTPRINT_POINT_LONGITUDE = (354.605,354.264,353.844,353.524, 353.183,352.707,352.713,352.72,352.727, 352.731,352.734,352.736,352.738,352.739 ,352.741,352.743,352.744,352.746, 352.747,352.749,352.75,352.75,352.751, 352.752,352.752,352.753,352.754,352.754 ,352.754,352.755,352.754,352.754, 352.754,352.754,352.753,352.753,352.752 ,352.751,352.75,352.749,352.748,352.746 ,352.745,352.743,352.742,352.739, 352.737,352.735,352.934,353.246,353.67, 354.093,354.472,354.805,355.05,355.12, 355.116,355.113,355.109,355.103,355.099 ,355.095,355.091,355.087,355.081, 355.077,355.074,355.07,355.066,355.062, 355.058,355.054,355.048,355.045,355.04, 355.036,355.033,355.029,355.024,355.02, 355.016,355.009,355.005,355.001,354.997 ,354.993,354.986,354.982,354.977, 354.972,354.968,354.961,354.956,354.952 ,354.947,354.94,354.935,354.925,354.916 ,354.605)
ORBIT_NUMBER = 9618
ORBITAL_ECCENTRICITY = 0.572
ORBITAL_INCLINATION = 86.88
ORBITAL_SEMIMAJOR_AXIS = 8781.12
PERIAPSIS_ALTITUDE = 377.64
PERIAPSIS_ARGUMENT_ANGLE = 117.67
PERIAPSIS_TIME = 2011-07-16T05:09:53.000Z
SPACECRAFT_ORIENTATION = (0.0,-1.0,0.0)
^MEX_ORIENTATION_DESC = "MEX_ORIENTATION_DESC.TXT"
SPACECRAFT_POINTING_MODE = NADIR
^MEX_POINTING_DESC = "MEX_POINTING_DESC.TXT"
RIGHT_ASCENSION = -1e+32
DECLINATION = -1e+32
OFFSET_ANGLE = -1e+32
SPACECRAFT_SOLAR_DISTANCE = 2.21554e+08
TARGET_NAME = MARS
/* CAMERA DATA ELEMENTS */
DETECTOR_TEMPERATURE = 18.1666
FOCAL_PLANE_TEMPERATURE = 7.9716
INST_CMPRS_NAME = "DISCRETE COSINE TRANSFORMATION (DCT)"
INST_CMPRS_RATIO = 14.4559
INST_CMPRS_QUALITY = 0
INST_CMPRS_QUANTZ_TBL_ID = 0
INSTRUMENT_TEMPERATURE = 11.0301
LENS_TEMPERATURE = 8.5833
MACROPIXEL_SIZE = 4
MISSING_FRAMES = 0
PIXEL_SUBSAMPLING_FLAG = N
SIGNAL_CHAIN_ID = 2
/* RADIOMETRIC DATA ELEMENTS */
BANDWIDTH = 76.0
CENTER_FILTER_WAVELENGTH = 444.0
RADIANCE_OFFSET = 0.655932
RADIANCE_SCALING_FACTOR = 0.00185595
REFLECTANCE_SCALING_FACTOR = 9.36014e-05
MEX:REFLECTANCE_OFFSET = 0.0330807
/* IMAGE OBJECT DEFINITIONS */
OBJECT = IMAGE
  INTERCHANGE_FORMAT = BINARY
  LINES = 4996
  LINE_SAMPLES = 1226
  SAMPLE_TYPE = UNSIGNED_INTEGER
  SAMPLE_BITS = 8
  BANDS = 1
  BAND_STORAGE_TYPE = BAND_SEQUENTIAL
  MAXIMUM = 255
  MEAN = 112.9
  MINIMUM = 1
  STANDARD_DEVIATION = 28.8433
END_OBJECT = IMAGE
/* MAP OBJECT DEFINITIONS */
OBJECT = IMAGE_MAP_PROJECTION
  ^DATA_SET_MAP_PROJECTION_CATALOG= "DSMAP.CAT"
  A_AXIS_RADIUS = 3396.0
  B_AXIS_RADIUS = 3396.0
  C_AXIS_RADIUS = 3396.0
  CENTER_LATITUDE = 0.0
  CENTER_LONGITUDE = 354.0
  COORDINATE_SYSTEM_NAME = PLANETOGRAPHIC
  COORDINATE_SYSTEM_TYPE = "BODY-FIXED ROTATING"
  EASTERNMOST_LONGITUDE = 355.12
  FIRST_STANDARD_PARALLEL = "N/A"
  LINE_FIRST_PIXEL = 1
  LINE_LAST_PIXEL = 4996
  LINE_PROJECTION_OFFSET = 23484.125
  MAP_PROJECTION_ROTATION = 0.0
  MAP_PROJECTION_TYPE = SINUSOIDAL
  MAP_RESOLUTION = 592.713803866667
  MAP_SCALE = 0.1
  MAXIMUM_LATITUDE = 39.6201
  MINIMUM_LATITUDE = 31.1909
  POSITIVE_LONGITUDE_DIRECTION = EAST
  REFERENCE_LATITUDE = "N/A"
  REFERENCE_LONGITUDE = "N/A"
  SAMPLE_FIRST_PIXEL = 1
  SAMPLE_LAST_PIXEL = 1226
  SAMPLE_PROJECTION_OFFSET = 652.125
  SECOND_STANDARD_PARALLEL = "N/A"
  WESTERNMOST_LONGITUDE = 352.707
END_OBJECT = IMAGE_MAP_PROJECTION
/* The JPEG2000 image data file associated with this label. */
OBJECT = COMPRESSED_FILE
  FILE_NAME = "H9618_0000_BL3.JP2"
  RECORD_TYPE = UNDEFINED
  FILE_RECORDS = UNK
  ENCODING_TYPE = "JP2"
  INTERCHANGE_FORMAT = BINARY
  UNCOMPRESSED_FILE_NAME = "H9618_0000_BL3.IMG"
  REQUIRED_STORAGE_BYTES = "6143486"
  ^DESCRIPTION = "JP2INFO.TXT"
END_OBJECT = COMPRESSED_FILE
END
