PDS_VERSION_ID = PDS3
/* FILE DATA ELEMENTS */
RECORD_TYPE = STREAM
/* POINTERS TO DATA OBJECTS */
^COMPRESSED_FILE = "H9618_0000_P13.JP2"
/* IDENTIFICATION DATA ELEMENTS */
DATA_SET_ID = "MEX-M-HRSC-5-REFDR-MAPPROJECTED-V3.0"
DATA_SET_NAME = "MARS EXPRESS HRSC MAP PROJECTED REFDR V3.0"
DETECTOR_ID = MEX_HRSC_P1
EVENT_TYPE = "MARS-REGIONAL-MAPPING-Im-Fl"
INSTRUMENT_HOST_ID = MEX
INSTRUMENT_HOST_NAME = "MARS EXPRESS"
INSTRUMENT_ID = HRSC
INSTRUMENT_NAME = "HIGH RESOLUTION STEREO CAMERA"
MISSION_NAME = "MARS EXPRESS"
MISSION_PHASE_NAME = ME_Phase_23
PROCESSING_LEVEL_ID = 3
PRODUCT_CREATION_TIME = 2016-10-27T04:11:22.000Z
PRODUCT_ID = "H9618_0000_P13.JP2"
RELEASE_ID = 0099
REVISION_ID = 0000
/* QUALITY DATA ELEMENTS */
DATA_QUALITY_ID = 1
DATA_QUALITY_DESC = "Data calculated based on original SPICE kernels"
/* TIME DATA ELEMENTS */
SPACECRAFT_CLOCK_START_COUNT = "1/0258873305.07304"
SPACECRAFT_CLOCK_STOP_COUNT = "1/0258873558.07866"
START_TIME = 2011-07-16T05:15:22.661Z
STOP_TIME = 2011-07-16T05:17:37.660Z
/* ORBITAL DATA ELEMENTS */
ASCENDING_NODE_LONGITUDE = 33.61
MAXIMUM_RESOLUTION = 38.4
FOOTPRINT_POINT_LATITUDE = (39.6588,39.6565,39.6526,39.6489, 39.6401,39.633,39.6272,39.4167,39.1041, 38.8696,38.5545,38.3151,38.1556,37.9961 ,37.7569,37.5976,37.4347,37.272,37.1093 ,36.9467,36.7841,36.6218,36.4572, 36.2927,36.1275,35.9614,35.7957,35.6303 ,35.462,35.2932,35.0409,34.8725,34.7043 ,34.4475,34.2756,34.104,33.9328,33.7613 ,33.4995,33.3246,33.1505,32.9763, 32.7113,32.5337,32.3563,32.0902,31.8198 ,31.6396,31.3693,31.1876,31.1694, 31.1729,31.1761,31.1778,31.1788,31.1794 ,31.1808,31.2724,31.5426,31.7228, 31.9036,32.0845,32.2625,32.4417,32.7085 ,32.9751,33.2377,33.4128,33.5872, 33.7634,33.9347,34.106,34.278,34.4497, 34.7063,34.9612,35.1298,35.2979,35.4665 ,35.6355,35.8016,35.9681,36.2177, 36.3831,36.631,36.8748,37.0378,37.2009, 37.3642,37.528,37.6906,38.0093,38.1691, 38.329,38.4891,38.7288,39.0427,39.3562, 39.5913,39.6588)
FOOTPRINT_POINT_LONGITUDE = (354.642,354.402,354.081,353.841, 353.381,353.081,352.861,352.749,352.756 ,352.76,352.766,352.77,352.773,352.775, 352.779,352.781,352.783,352.785,352.787 ,352.789,352.79,352.792,352.794,352.796 ,352.798,352.799,352.8,352.801,352.802, 352.803,352.805,352.805,352.806,352.807 ,352.807,352.808,352.808,352.808, 352.808,352.807,352.807,352.807,352.806 ,352.806,352.805,352.804,352.802, 352.801,352.799,352.798,353.103,353.345 ,353.542,353.804,354.066,354.46,354.701 ,355.057,355.053,355.05,355.047,355.044 ,355.04,355.037,355.032,355.027,355.022 ,355.018,355.015,355.011,355.008, 355.005,355.002,354.998,354.994,354.987 ,354.984,354.981,354.978,354.974,354.97 ,354.966,354.96,354.956,354.951,354.946 ,354.942,354.938,354.934,354.929, 354.924,354.917,354.913,354.909,354.904 ,354.898,354.889,354.88,354.874, 354.642)
ORBIT_NUMBER = 9618
ORBITAL_ECCENTRICITY = 0.572
ORBITAL_INCLINATION = 86.88
ORBITAL_SEMIMAJOR_AXIS = 8781.12
PERIAPSIS_ALTITUDE = 377.64
PERIAPSIS_ARGUMENT_ANGLE = 117.67
PERIAPSIS_TIME = 2011-07-16T05:09:53.000Z
SPACECRAFT_ORIENTATION = (0.0,-1.0,0.0)
^MEX_ORIENTATION_DESC = "MEX_ORIENTATION_DESC.TXT"
SPACECRAFT_POINTING_MODE = NADIR
^MEX_POINTING_DESC = "MEX_POINTING_DESC.TXT"
RIGHT_ASCENSION = -1e+32
DECLINATION = -1e+32
OFFSET_ANGLE = -1e+32
SPACECRAFT_SOLAR_DISTANCE = 2.21554e+08
TARGET_NAME = MARS
/* CAMERA DATA ELEMENTS */
DETECTOR_TEMPERATURE = 17.351
FOCAL_PLANE_TEMPERATURE = 7.9716
INST_CMPRS_NAME = "DISCRETE COSINE TRANSFORMATION (DCT)"
INST_CMPRS_RATIO = 10.01
INST_CMPRS_QUALITY = 0
INST_CMPRS_QUANTZ_TBL_ID = 0
INSTRUMENT_TEMPERATURE = 11.0301
LENS_TEMPERATURE = 8.5833
MACROPIXEL_SIZE = 2
MISSING_FRAMES = 0
PIXEL_SUBSAMPLING_FLAG = N
SIGNAL_CHAIN_ID = 3
/* RADIOMETRIC DATA ELEMENTS */
BANDWIDTH = 174.0
CENTER_FILTER_WAVELENGTH = 675.0
RADIANCE_OFFSET = 4.28912
RADIANCE_SCALING_FACTOR = 0.0250299
REFLECTANCE_SCALING_FACTOR = 0.000660853
MEX:REFLECTANCE_OFFSET = 0.113244
/* IMAGE OBJECT DEFINITIONS */
OBJECT = IMAGE
  INTERCHANGE_FORMAT = BINARY
  LINES = 9991
  LINE_SAMPLES = 2451
  SAMPLE_TYPE = UNSIGNED_INTEGER
  SAMPLE_BITS = 8
  BANDS = 1
  BAND_STORAGE_TYPE = BAND_SEQUENTIAL
  MAXIMUM = 255
  MEAN = 109.724
  MINIMUM = 1
  STANDARD_DEVIATION = 36.0526
END_OBJECT = IMAGE
/* MAP OBJECT DEFINITIONS */
OBJECT = IMAGE_MAP_PROJECTION
  ^DATA_SET_MAP_PROJECTION_CATALOG= "DSMAP.CAT"
  A_AXIS_RADIUS = 3396.0
  B_AXIS_RADIUS = 3396.0
  C_AXIS_RADIUS = 3396.0
  CENTER_LATITUDE = 0.0
  CENTER_LONGITUDE = 354.0
  COORDINATE_SYSTEM_NAME = PLANETOGRAPHIC
  COORDINATE_SYSTEM_TYPE = "BODY-FIXED ROTATING"
  EASTERNMOST_LONGITUDE = 355.057
  FIRST_STANDARD_PARALLEL = "N/A"
  LINE_FIRST_PIXEL = 1
  LINE_LAST_PIXEL = 9991
  LINE_PROJECTION_OFFSET = 46968.75
  MAP_PROJECTION_ROTATION = 0.0
  MAP_PROJECTION_TYPE = SINUSOIDAL
  MAP_RESOLUTION = 1185.42760773333
  MAP_SCALE = 0.05
  MAXIMUM_LATITUDE = 39.6588
  MINIMUM_LATITUDE = 31.1694
  POSITIVE_LONGITUDE_DIRECTION = EAST
  REFERENCE_LATITUDE = "N/A"
  REFERENCE_LONGITUDE = "N/A"
  SAMPLE_FIRST_PIXEL = 1
  SAMPLE_LAST_PIXEL = 2451
  SAMPLE_PROJECTION_OFFSET = 1304.75
  SECOND_STANDARD_PARALLEL = "N/A"
  WESTERNMOST_LONGITUDE = 352.749
END_OBJECT = IMAGE_MAP_PROJECTION
/* The JPEG2000 image data file associated with this label. */
OBJECT = COMPRESSED_FILE
  FILE_NAME = "H9618_0000_P13.JP2"
  RECORD_TYPE = UNDEFINED
  FILE_RECORDS = UNK
  ENCODING_TYPE = "JP2"
  INTERCHANGE_FORMAT = BINARY
  UNCOMPRESSED_FILE_NAME = "H9618_0000_P13.IMG"
  REQUIRED_STORAGE_BYTES = "24507549"
  ^DESCRIPTION = "JP2INFO.TXT"
END_OBJECT = COMPRESSED_FILE
END
