PDS_VERSION_ID = PDS3
/* FILE DATA ELEMENTS */
RECORD_TYPE = STREAM
/* POINTERS TO DATA OBJECTS */
^COMPRESSED_FILE = "H9619_0000_RE3.JP2"
/* IDENTIFICATION DATA ELEMENTS */
DATA_SET_ID = "MEX-M-HRSC-5-REFDR-MAPPROJECTED-V3.0"
DATA_SET_NAME = "MARS EXPRESS HRSC MAP PROJECTED REFDR V3.0"
DETECTOR_ID = MEX_HRSC_RED
EVENT_TYPE = "MARS-REGIONAL-MAPPING-Te-Im-Pf"
INSTRUMENT_HOST_ID = MEX
INSTRUMENT_HOST_NAME = "MARS EXPRESS"
INSTRUMENT_ID = HRSC
INSTRUMENT_NAME = "HIGH RESOLUTION STEREO CAMERA"
MISSION_NAME = "MARS EXPRESS"
MISSION_PHASE_NAME = ME_Phase_23
PROCESSING_LEVEL_ID = 3
PRODUCT_CREATION_TIME = 2016-10-27T04:11:22.000Z
PRODUCT_ID = "H9619_0000_RE3.JP2"
RELEASE_ID = 0099
REVISION_ID = 0000
/* QUALITY DATA ELEMENTS */
DATA_QUALITY_ID = 1
DATA_QUALITY_DESC = "Data calculated based on original SPICE kernels"
/* TIME DATA ELEMENTS */
SPACECRAFT_CLOCK_START_COUNT = "1/0258898129.07286"
SPACECRAFT_CLOCK_STOP_COUNT = "1/0258898390.47988"
START_TIME = 2011-07-16T12:09:56.009Z
STOP_TIME = 2011-07-16T12:13:04.992Z
/* ORBITAL DATA ELEMENTS */
ASCENDING_NODE_LONGITUDE = 33.59
MAXIMUM_RESOLUTION = 63.6
FOOTPRINT_POINT_LATITUDE = (62.6536,62.6276,62.6128,62.5969, 62.5478,62.3096,62.0718,61.7148,61.4769 ,61.1202,60.8826,60.645,60.2888,60.0513 ,59.814,59.5768,59.3396,59.1027,58.8659 ,58.6293,58.2745,58.0383,57.8022, 57.5663,57.2129,56.9775,56.7423,56.5073 ,56.2722,56.0375,55.8028,55.5684, 55.3342,55.1003,54.8663,54.6329,54.3997 ,54.1666,53.9337,53.7011,53.4681, 53.2361,53.004,52.772,52.5404,52.3091, 52.078,51.8471,51.5015,51.2708,51.0345, 50.8635,50.8705,50.8793,50.8836,50.888, 50.8914,51.1282,51.4799,51.7111,51.9426 ,52.1745,52.4069,52.7554,52.9881, 53.3381,53.6882,53.9219,54.1558,54.39, 54.6246,54.8593,55.094,55.4472,55.8004, 56.0361,56.39,56.6261,56.9809,57.2175, 57.5732,57.8103,58.1668,58.4043,58.7616 ,58.9997,59.3573,59.5957,59.8339,60.073 ,60.4316,60.7908,61.0302,61.2696, 61.6292,61.8688,62.1087,62.4688,62.7089 ,62.6536)
FOOTPRINT_POINT_LONGITUDE = (248.415,247.581,247.159,246.732, 246.158,246.231,246.303,246.408,246.476 ,246.576,246.641,246.704,246.797, 246.858,246.917,246.975,247.032,247.087 ,247.142,247.195,247.273,247.324, 247.373,247.422,247.492,247.538,247.583 ,247.627,247.671,247.713,247.755, 247.796,247.835,247.874,247.913,247.95, 247.987,248.023,248.058,248.092,248.127 ,248.16,248.192,248.225,248.256,248.286 ,248.316,248.346,248.388,248.416, 248.445,248.688,249.065,249.658,250.005 ,250.477,250.803,250.781,250.747, 250.724,250.701,250.677,250.653,250.617 ,250.592,250.554,250.515,250.488, 250.461,250.434,250.406,250.378,250.349 ,250.305,250.26,250.229,250.182,250.15, 250.101,250.067,250.016,249.981,249.927 ,249.891,249.835,249.796,249.738, 249.698,249.657,249.616,249.552,249.487 ,249.442,249.396,249.326,249.279,249.23 ,249.155,249.104,248.415)
ORBIT_NUMBER = 9619
ORBITAL_ECCENTRICITY = 0.572
ORBITAL_INCLINATION = 86.88
ORBITAL_SEMIMAJOR_AXIS = 8782.15
PERIAPSIS_ALTITUDE = 376.99
PERIAPSIS_ARGUMENT_ANGLE = 117.49
PERIAPSIS_TIME = 2011-07-16T12:09:34.000Z
SPACECRAFT_ORIENTATION = (0.0,-1.0,0.0)
^MEX_ORIENTATION_DESC = "MEX_ORIENTATION_DESC.TXT"
SPACECRAFT_POINTING_MODE = ACROSSTRACK
^MEX_POINTING_DESC = "MEX_POINTING_DESC.TXT"
RIGHT_ASCENSION = -1e+32
DECLINATION = -1e+32
OFFSET_ANGLE = -0.808
SPACECRAFT_SOLAR_DISTANCE = 2.21609e+08
TARGET_NAME = MARS
/* CAMERA DATA ELEMENTS */
DETECTOR_TEMPERATURE = 18.3705
FOCAL_PLANE_TEMPERATURE = 8.1755
INST_CMPRS_NAME = "DISCRETE COSINE TRANSFORMATION (DCT)"
INST_CMPRS_RATIO = 23.067
INST_CMPRS_QUALITY = 0
INST_CMPRS_QUANTZ_TBL_ID = 0
INSTRUMENT_TEMPERATURE = 11.0301
LENS_TEMPERATURE = 8.5833
MACROPIXEL_SIZE = 4
MISSING_FRAMES = 0
PIXEL_SUBSAMPLING_FLAG = N
SIGNAL_CHAIN_ID = 2
/* RADIOMETRIC DATA ELEMENTS */
BANDWIDTH = 48.0
CENTER_FILTER_WAVELENGTH = 748.0
RADIANCE_OFFSET = 0.786162
RADIANCE_SCALING_FACTOR = 0.00347379
REFLECTANCE_SCALING_FACTOR = 0.000389321
MEX:REFLECTANCE_OFFSET = 0.0881082
/* IMAGE OBJECT DEFINITIONS */
OBJECT = IMAGE
  INTERCHANGE_FORMAT = BINARY
  LINES = 14183
  LINE_SAMPLES = 2888
  SAMPLE_TYPE = UNSIGNED_INTEGER
  SAMPLE_BITS = 8
  BANDS = 1
  BAND_STORAGE_TYPE = BAND_SEQUENTIAL
  MAXIMUM = 255
  MEAN = 128.929
  MINIMUM = 1
  STANDARD_DEVIATION = 43.8058
END_OBJECT = IMAGE
/* MAP OBJECT DEFINITIONS */
OBJECT = IMAGE_MAP_PROJECTION
  ^DATA_SET_MAP_PROJECTION_CATALOG= "DSMAP.CAT"
  A_AXIS_RADIUS = 3396.0
  B_AXIS_RADIUS = 3396.0
  C_AXIS_RADIUS = 3396.0
  CENTER_LATITUDE = 0.0
  CENTER_LONGITUDE = 249.0
  COORDINATE_SYSTEM_NAME = PLANETOGRAPHIC
  COORDINATE_SYSTEM_TYPE = "BODY-FIXED ROTATING"
  EASTERNMOST_LONGITUDE = 250.803
  FIRST_STANDARD_PARALLEL = "N/A"
  LINE_FIRST_PIXEL = 1
  LINE_LAST_PIXEL = 14183
  LINE_PROJECTION_OFFSET = 74448.375
  MAP_PROJECTION_ROTATION = 0.0
  MAP_PROJECTION_TYPE = SINUSOIDAL
  MAP_RESOLUTION = 1185.42760773333
  MAP_SCALE = 0.05
  MAXIMUM_LATITUDE = 62.7089
  MINIMUM_LATITUDE = 50.8635
  POSITIVE_LONGITUDE_DIRECTION = EAST
  REFERENCE_LATITUDE = "N/A"
  REFERENCE_LONGITUDE = "N/A"
  SAMPLE_FIRST_PIXEL = 1
  SAMPLE_LAST_PIXEL = 2888
  SAMPLE_PROJECTION_OFFSET = 1561.375
  SECOND_STANDARD_PARALLEL = "N/A"
  WESTERNMOST_LONGITUDE = 246.158
END_OBJECT = IMAGE_MAP_PROJECTION
/* The JPEG2000 image data file associated with this label. */
OBJECT = COMPRESSED_FILE
  FILE_NAME = "H9619_0000_RE3.JP2"
  RECORD_TYPE = UNDEFINED
  FILE_RECORDS = UNK
  ENCODING_TYPE = "JP2"
  INTERCHANGE_FORMAT = BINARY
  UNCOMPRESSED_FILE_NAME = "H9619_0000_RE3.IMG"
  REQUIRED_STORAGE_BYTES = "40983608"
  ^DESCRIPTION = "JP2INFO.TXT"
END_OBJECT = COMPRESSED_FILE
END
