PDS_VERSION_ID = PDS3
/* FILE DATA ELEMENTS */
RECORD_TYPE = STREAM
/* POINTERS TO DATA OBJECTS */
^COMPRESSED_FILE = "H9625_0000_BL3.JP2"
/* IDENTIFICATION DATA ELEMENTS */
DATA_SET_ID = "MEX-M-HRSC-5-REFDR-MAPPROJECTED-V3.0"
DATA_SET_NAME = "MARS EXPRESS HRSC MAP PROJECTED REFDR V3.0"
DETECTOR_ID = MEX_HRSC_BLUE
EVENT_TYPE = "MARS-REGIONAL-MAPPING-Fl-Pf"
INSTRUMENT_HOST_ID = MEX
INSTRUMENT_HOST_NAME = "MARS EXPRESS"
INSTRUMENT_ID = HRSC
INSTRUMENT_NAME = "HIGH RESOLUTION STEREO CAMERA"
MISSION_NAME = "MARS EXPRESS"
MISSION_PHASE_NAME = ME_Phase_23
PROCESSING_LEVEL_ID = 3
PRODUCT_CREATION_TIME = 2016-10-27T04:11:22.000Z
PRODUCT_ID = "H9625_0000_BL3.JP2"
RELEASE_ID = 0099
REVISION_ID = 0000
/* QUALITY DATA ELEMENTS */
DATA_QUALITY_ID = 1
DATA_QUALITY_DESC = "Data calculated based on original SPICE kernels"
/* TIME DATA ELEMENTS */
SPACECRAFT_CLOCK_START_COUNT = "1/0259049234.09066"
SPACECRAFT_CLOCK_STOP_COUNT = "1/0259049437.26073"
START_TIME = 2011-07-18T06:07:57.384Z
STOP_TIME = 2011-07-18T06:10:06.934Z
/* ORBITAL DATA ELEMENTS */
ASCENDING_NODE_LONGITUDE = 33.48
MAXIMUM_RESOLUTION = 122.5
FOOTPRINT_POINT_LATITUDE = (61.7794,61.7635,61.7459,61.73,61.7151, 61.6935,61.6155,61.4503,61.2025,60.9547 ,60.7896,60.6245,60.4593,60.2116, 60.0465,59.8814,59.7163,59.4688,59.3038 ,59.1388,58.9739,58.8089,58.644,58.4792 ,58.3143,58.1495,57.9023,57.7376, 57.5729,57.326,57.1613,56.9968,56.8322, 56.6678,56.4212,56.2569,56.0926,55.9283 ,55.7641,55.6,55.4359,55.2718,55.1078, 54.9439,54.78,54.4524,54.1251,53.7979, 53.4711,53.4799,53.4959,53.513,53.5244, 53.5423,53.8703,54.0345,54.1987,54.3629 ,54.5273,54.6917,54.8562,55.0207, 55.1853,55.3499,55.5146,55.6794,55.8442 ,56.0091,56.174,56.339,56.504,56.6691, 56.8342,56.9995,57.1647,57.33,57.4954, 57.7435,57.909,58.0745,58.24,58.4056, 58.5713,58.737,58.9855,59.2342,59.4, 59.5659,59.7318,59.8977,60.1466,60.3126 ,60.4786,60.6447,60.8938,61.0599,61.226 ,61.3922,61.6415,61.7794)
FOOTPRINT_POINT_LONGITUDE = (357.093,356.622,356.151,355.754, 355.408,354.938,354.618,354.654,354.708 ,354.76,354.795,354.828,354.861,354.91, 354.943,354.974,355.005,355.051,355.081 ,355.11,355.139,355.168,355.196,355.224 ,355.251,355.278,355.318,355.344, 355.369,355.407,355.432,355.456,355.48, 355.503,355.538,355.561,355.583,355.605 ,355.626,355.648,355.669,355.689,355.71 ,355.73,355.75,355.788,355.826,355.862, 355.897,356.223,356.662,357.188,357.583 ,358.235,358.21,358.197,358.185,358.172 ,358.159,358.146,358.132,358.119, 358.105,358.091,358.077,358.063,358.048 ,358.034,358.019,358.004,357.989, 357.974,357.958,357.943,357.927,357.911 ,357.895,357.87,357.853,357.837,357.819 ,357.802,357.785,357.767,357.74,357.712 ,357.693,357.674,357.655,357.635, 357.606,357.586,357.565,357.544,357.513 ,357.492,357.47,357.448,357.414, 357.093)
ORBIT_NUMBER = 9625
ORBITAL_ECCENTRICITY = 0.572
ORBITAL_INCLINATION = 86.88
ORBITAL_SEMIMAJOR_AXIS = 8779.92
PERIAPSIS_ALTITUDE = 378.37
PERIAPSIS_ARGUMENT_ANGLE = 116.46
PERIAPSIS_TIME = 2011-07-18T06:07:26.000Z
SPACECRAFT_ORIENTATION = (0.0,-1.0,0.0)
^MEX_ORIENTATION_DESC = "MEX_ORIENTATION_DESC.TXT"
SPACECRAFT_POINTING_MODE = NADIR
^MEX_POINTING_DESC = "MEX_POINTING_DESC.TXT"
RIGHT_ASCENSION = -1e+32
DECLINATION = -1e+32
OFFSET_ANGLE = -1e+32
SPACECRAFT_SOLAR_DISTANCE = 2.21944e+08
TARGET_NAME = MARS
/* CAMERA DATA ELEMENTS */
DETECTOR_TEMPERATURE = 17.9627
FOCAL_PLANE_TEMPERATURE = 7.7677
INST_CMPRS_NAME = "DISCRETE COSINE TRANSFORMATION (DCT)"
INST_CMPRS_RATIO = 17.2763
INST_CMPRS_QUALITY = 0
INST_CMPRS_QUANTZ_TBL_ID = 0
INSTRUMENT_TEMPERATURE = 10.8262
LENS_TEMPERATURE = 8.1755
MACROPIXEL_SIZE = 8
MISSING_FRAMES = 0
PIXEL_SUBSAMPLING_FLAG = N
SIGNAL_CHAIN_ID = 2
/* RADIOMETRIC DATA ELEMENTS */
BANDWIDTH = 76.0
CENTER_FILTER_WAVELENGTH = 444.0
RADIANCE_OFFSET = 1.00418
RADIANCE_SCALING_FACTOR = 0.00149598
REFLECTANCE_SCALING_FACTOR = 7.57133e-05
MEX:REFLECTANCE_OFFSET = 0.0508226
/* IMAGE OBJECT DEFINITIONS */
OBJECT = IMAGE
  INTERCHANGE_FORMAT = BINARY
  LINES = 4938
  LINE_SAMPLES = 1101
  SAMPLE_TYPE = UNSIGNED_INTEGER
  SAMPLE_BITS = 8
  BANDS = 1
  BAND_STORAGE_TYPE = BAND_SEQUENTIAL
  MAXIMUM = 255
  MEAN = 170.583
  MINIMUM = 1
  STANDARD_DEVIATION = 66.8597
END_OBJECT = IMAGE
/* MAP OBJECT DEFINITIONS */
OBJECT = IMAGE_MAP_PROJECTION
  ^DATA_SET_MAP_PROJECTION_CATALOG= "DSMAP.CAT"
  A_AXIS_RADIUS = 3396.0
  B_AXIS_RADIUS = 3396.0
  C_AXIS_RADIUS = 3396.0
  CENTER_LATITUDE = 0.0
  CENTER_LONGITUDE = 357.0
  COORDINATE_SYSTEM_NAME = PLANETOGRAPHIC
  COORDINATE_SYSTEM_TYPE = "BODY-FIXED ROTATING"
  EASTERNMOST_LONGITUDE = 358.235
  FIRST_STANDARD_PARALLEL = "N/A"
  LINE_FIRST_PIXEL = 1
  LINE_LAST_PIXEL = 4938
  LINE_PROJECTION_OFFSET = 36631.1875
  MAP_PROJECTION_ROTATION = 0.0
  MAP_PROJECTION_TYPE = SINUSOIDAL
  MAP_RESOLUTION = 592.713803866667
  MAP_SCALE = 0.1
  MAXIMUM_LATITUDE = 61.7794
  MINIMUM_LATITUDE = 53.4711
  POSITIVE_LONGITUDE_DIRECTION = EAST
  REFERENCE_LATITUDE = "N/A"
  REFERENCE_LONGITUDE = "N/A"
  SAMPLE_FIRST_PIXEL = 1
  SAMPLE_LAST_PIXEL = 1101
  SAMPLE_PROJECTION_OFFSET = 679.1875
  SECOND_STANDARD_PARALLEL = "N/A"
  WESTERNMOST_LONGITUDE = 354.618
END_OBJECT = IMAGE_MAP_PROJECTION
/* The JPEG2000 image data file associated with this label. */
OBJECT = COMPRESSED_FILE
  FILE_NAME = "H9625_0000_BL3.JP2"
  RECORD_TYPE = UNDEFINED
  FILE_RECORDS = UNK
  ENCODING_TYPE = "JP2"
  INTERCHANGE_FORMAT = BINARY
  UNCOMPRESSED_FILE_NAME = "H9625_0000_BL3.IMG"
  REQUIRED_STORAGE_BYTES = "5455455"
  ^DESCRIPTION = "JP2INFO.TXT"
END_OBJECT = COMPRESSED_FILE
END
