PDS_VERSION_ID = PDS3
/* FILE DATA ELEMENTS */
RECORD_TYPE = STREAM
/* POINTERS TO DATA OBJECTS */
^COMPRESSED_FILE = "H9625_0000_GR3.JP2"
/* IDENTIFICATION DATA ELEMENTS */
DATA_SET_ID = "MEX-M-HRSC-5-REFDR-MAPPROJECTED-V3.0"
DATA_SET_NAME = "MARS EXPRESS HRSC MAP PROJECTED REFDR V3.0"
DETECTOR_ID = MEX_HRSC_GREEN
EVENT_TYPE = "MARS-REGIONAL-MAPPING-Fl-Pf"
INSTRUMENT_HOST_ID = MEX
INSTRUMENT_HOST_NAME = "MARS EXPRESS"
INSTRUMENT_ID = HRSC
INSTRUMENT_NAME = "HIGH RESOLUTION STEREO CAMERA"
MISSION_NAME = "MARS EXPRESS"
MISSION_PHASE_NAME = ME_Phase_23
PROCESSING_LEVEL_ID = 3
PRODUCT_CREATION_TIME = 2016-10-27T04:11:22.000Z
PRODUCT_ID = "H9625_0000_GR3.JP2"
RELEASE_ID = 0099
REVISION_ID = 0000
/* QUALITY DATA ELEMENTS */
DATA_QUALITY_ID = 1
DATA_QUALITY_DESC = "Data calculated based on original SPICE kernels"
/* TIME DATA ELEMENTS */
SPACECRAFT_CLOCK_START_COUNT = "1/0259049234.09066"
SPACECRAFT_CLOCK_STOP_COUNT = "1/0259049437.26073"
START_TIME = 2011-07-18T06:07:46.017Z
STOP_TIME = 2011-07-18T06:09:54.304Z
/* ORBITAL DATA ELEMENTS */
ASCENDING_NODE_LONGITUDE = 33.48
MAXIMUM_RESOLUTION = 122.2
FOOTPRINT_POINT_LATITUDE = (61.7921,61.7795,61.7648,61.749,61.7342 ,61.7162,61.6712,61.5098,61.2677, 61.0256,60.8642,60.7027,60.5411,60.2989 ,60.0568,59.8953,59.7338,59.5723, 59.4107,59.1684,59.0069,58.8454,58.6838 ,58.5223,58.3608,58.1993,58.0378, 57.7955,57.5533,57.3111,57.1496,56.9075 ,56.7461,56.5846,56.4233,56.1812, 56.0198,55.8585,55.6971,55.5359,55.3746 ,55.2134,55.0522,54.891,54.5687,54.2465 ,54.005,53.6831,53.4779,53.5009,53.5196 ,53.5302,53.5421,53.5537,53.7152, 53.8767,54.0383,54.2808,54.4424,54.6041 ,54.8467,55.0085,55.1703,55.3322, 55.4941,55.656,55.899,56.142,56.304, 56.4661,56.6282,56.7903,56.9524,57.1146 ,57.2767,57.4389,57.6012,57.8445, 58.0068,58.169,58.3313,58.4936,58.6559, 58.8183,59.0618,59.3053,59.5489,59.7112 ,59.8736,60.036,60.2796,60.5231,60.6855 ,60.8479,61.0915,61.2539,61.4163, 61.5787,61.741,61.7921)
FOOTPRINT_POINT_LONGITUDE = (357.014,356.642,356.245,355.849, 355.503,355.108,354.605,354.641,354.694 ,354.746,354.78,354.813,354.846,354.894 ,354.942,354.973,355.004,355.034, 355.064,355.107,355.136,355.164,355.192 ,355.219,355.247,355.273,355.299, 355.338,355.376,355.413,355.438,355.473 ,355.497,355.52,355.543,355.576,355.598 ,355.619,355.641,355.662,355.682, 355.703,355.723,355.743,355.781,355.819 ,355.846,355.882,355.904,356.488, 357.032,357.38,357.816,358.223,358.211, 358.199,358.187,358.168,358.155,358.143 ,358.123,358.11,358.097,358.083,358.07, 358.056,358.035,358.013,357.999,357.984 ,357.969,357.954,357.939,357.924, 357.909,357.893,357.877,357.853,357.836 ,357.82,357.803,357.786,357.769,357.752 ,357.725,357.698,357.671,357.652, 357.633,357.614,357.585,357.555,357.535 ,357.515,357.483,357.462,357.441, 357.419,357.397,357.014)
ORBIT_NUMBER = 9625
ORBITAL_ECCENTRICITY = 0.572
ORBITAL_INCLINATION = 86.88
ORBITAL_SEMIMAJOR_AXIS = 8779.92
PERIAPSIS_ALTITUDE = 378.37
PERIAPSIS_ARGUMENT_ANGLE = 116.46
PERIAPSIS_TIME = 2011-07-18T06:07:26.000Z
SPACECRAFT_ORIENTATION = (0.0,-1.0,0.0)
^MEX_ORIENTATION_DESC = "MEX_ORIENTATION_DESC.TXT"
SPACECRAFT_POINTING_MODE = NADIR
^MEX_POINTING_DESC = "MEX_POINTING_DESC.TXT"
RIGHT_ASCENSION = -1e+32
DECLINATION = -1e+32
OFFSET_ANGLE = -1e+32
SPACECRAFT_SOLAR_DISTANCE = 2.21944e+08
TARGET_NAME = MARS
/* CAMERA DATA ELEMENTS */
DETECTOR_TEMPERATURE = 17.9627
FOCAL_PLANE_TEMPERATURE = 7.7677
INST_CMPRS_NAME = "DISCRETE COSINE TRANSFORMATION (DCT)"
INST_CMPRS_RATIO = 16.2763
INST_CMPRS_QUALITY = 0
INST_CMPRS_QUANTZ_TBL_ID = 0
INSTRUMENT_TEMPERATURE = 10.8262
LENS_TEMPERATURE = 8.1755
MACROPIXEL_SIZE = 8
MISSING_FRAMES = 0
PIXEL_SUBSAMPLING_FLAG = N
SIGNAL_CHAIN_ID = 2
/* RADIOMETRIC DATA ELEMENTS */
BANDWIDTH = 88.0
CENTER_FILTER_WAVELENGTH = 538.0
RADIANCE_OFFSET = 1.80989
RADIANCE_SCALING_FACTOR = 0.0038891
REFLECTANCE_SCALING_FACTOR = 0.00016494
MEX:REFLECTANCE_OFFSET = 0.0767589
/* IMAGE OBJECT DEFINITIONS */
OBJECT = IMAGE
  INTERCHANGE_FORMAT = BINARY
  LINES = 4938
  LINE_SAMPLES = 1101
  SAMPLE_TYPE = UNSIGNED_INTEGER
  SAMPLE_BITS = 8
  BANDS = 1
  BAND_STORAGE_TYPE = BAND_SEQUENTIAL
  MAXIMUM = 255
  MEAN = 111.074
  MINIMUM = 1
  STANDARD_DEVIATION = 42.5563
END_OBJECT = IMAGE
/* MAP OBJECT DEFINITIONS */
OBJECT = IMAGE_MAP_PROJECTION
  ^DATA_SET_MAP_PROJECTION_CATALOG= "DSMAP.CAT"
  A_AXIS_RADIUS = 3396.0
  B_AXIS_RADIUS = 3396.0
  C_AXIS_RADIUS = 3396.0
  CENTER_LATITUDE = 0.0
  CENTER_LONGITUDE = 357.0
  COORDINATE_SYSTEM_NAME = PLANETOGRAPHIC
  COORDINATE_SYSTEM_TYPE = "BODY-FIXED ROTATING"
  EASTERNMOST_LONGITUDE = 358.223
  FIRST_STANDARD_PARALLEL = "N/A"
  LINE_FIRST_PIXEL = 1
  LINE_LAST_PIXEL = 4938
  LINE_PROJECTION_OFFSET = 36631.1875
  MAP_PROJECTION_ROTATION = 0.0
  MAP_PROJECTION_TYPE = SINUSOIDAL
  MAP_RESOLUTION = 592.713803866667
  MAP_SCALE = 0.1
  MAXIMUM_LATITUDE = 61.7921
  MINIMUM_LATITUDE = 53.4779
  POSITIVE_LONGITUDE_DIRECTION = EAST
  REFERENCE_LATITUDE = "N/A"
  REFERENCE_LONGITUDE = "N/A"
  SAMPLE_FIRST_PIXEL = 1
  SAMPLE_LAST_PIXEL = 1101
  SAMPLE_PROJECTION_OFFSET = 679.1875
  SECOND_STANDARD_PARALLEL = "N/A"
  WESTERNMOST_LONGITUDE = 354.605
END_OBJECT = IMAGE_MAP_PROJECTION
/* The JPEG2000 image data file associated with this label. */
OBJECT = COMPRESSED_FILE
  FILE_NAME = "H9625_0000_GR3.JP2"
  RECORD_TYPE = UNDEFINED
  FILE_RECORDS = UNK
  ENCODING_TYPE = "JP2"
  INTERCHANGE_FORMAT = BINARY
  UNCOMPRESSED_FILE_NAME = "H9625_0000_GR3.IMG"
  REQUIRED_STORAGE_BYTES = "5455455"
  ^DESCRIPTION = "JP2INFO.TXT"
END_OBJECT = COMPRESSED_FILE
END
