PDS_VERSION_ID = PDS3
/* FILE DATA ELEMENTS */
RECORD_TYPE = STREAM
/* POINTERS TO DATA OBJECTS */
^COMPRESSED_FILE = "H9632_0000_GR3.JP2"
/* IDENTIFICATION DATA ELEMENTS */
DATA_SET_ID = "MEX-M-HRSC-5-REFDR-MAPPROJECTED-V3.0"
DATA_SET_NAME = "MARS EXPRESS HRSC MAP PROJECTED REFDR V3.0"
DETECTOR_ID = MEX_HRSC_GREEN
EVENT_TYPE = "MARS-REGIONAL-MAPPING-Im-Fl"
INSTRUMENT_HOST_ID = MEX
INSTRUMENT_HOST_NAME = "MARS EXPRESS"
INSTRUMENT_ID = HRSC
INSTRUMENT_NAME = "HIGH RESOLUTION STEREO CAMERA"
MISSION_NAME = "MARS EXPRESS"
MISSION_PHASE_NAME = ME_Phase_23
PROCESSING_LEVEL_ID = 3
PRODUCT_CREATION_TIME = 2016-10-27T04:11:22.000Z
PRODUCT_ID = "H9632_0000_GR3.JP2"
RELEASE_ID = 0099
REVISION_ID = 0000
/* QUALITY DATA ELEMENTS */
DATA_QUALITY_ID = 1
DATA_QUALITY_DESC = "Data calculated based on original SPICE kernels"
/* TIME DATA ELEMENTS */
SPACECRAFT_CLOCK_START_COUNT = "1/0259225980.08268"
SPACECRAFT_CLOCK_STOP_COUNT = "1/0259226253.35272"
START_TIME = 2011-07-20T07:13:50.177Z
STOP_TIME = 2011-07-20T07:15:49.704Z
/* ORBITAL DATA ELEMENTS */
ASCENDING_NODE_LONGITUDE = 33.35
MAXIMUM_RESOLUTION = 96.9
FOOTPRINT_POINT_LATITUDE = (31.235,31.2362,31.237,31.2377,31.238, 31.2379,31.2376,31.2371,31.2363,31.2347 ,31.2332,31.2314,31.2296,31.0928, 30.8367,30.4525,30.1932,29.9339,29.7386 ,29.4758,29.2135,28.9475,28.6817, 28.4808,28.3463,28.2117,28.077,27.9414, 27.8052,27.6009,27.4651,27.2616,27.1257 ,26.9904,26.8554,26.7207,26.5856, 26.4508,26.316,26.1814,26.047,25.9127, 25.7786,25.6447,25.444,25.1101,24.8434, 24.5781,24.4929,24.4928,24.4924,24.4914 ,24.4905,24.4891,24.4876,24.4857, 24.4821,24.4795,24.4756,24.4732,24.539, 24.8059,24.9396,25.0733,25.2073,25.3413 ,25.4756,25.61,25.7446,25.8792,26.014, 26.1489,26.284,26.4193,26.5547,26.6904, 26.8261,26.962,27.098,27.2342,27.3705, 27.5069,27.6434,27.7801,27.9168,28.0531 ,28.1878,28.3227,28.4578,28.5932, 28.8599,29.1939,29.3916,29.6552,29.8525 ,30.1127,30.4385,30.6954,30.9527, 31.235)
FOOTPRINT_POINT_LONGITUDE = (3.00233,2.79823,2.63974,2.43591, 2.25469,2.02798,1.84698,1.6886,1.50756, 1.25858,1.07735,0.895761,0.736915, 0.643477,0.639877,0.63396,0.630074, 0.625929,0.622621,0.61821,0.613571, 0.608336,0.603028,0.599033,0.596464, 0.593251,0.589666,0.586628,0.583637, 0.578719,0.575677,0.57081,0.566838, 0.563539,0.560764,0.55822,0.554423, 0.550753,0.547003,0.543144,0.539391, 0.535633,0.531873,0.528117,0.522051, 0.511658,0.50265,0.49536,0.694142, 0.948885,1.12682,1.40623,1.58402, 1.81252,1.99016,2.19352,2.49869,2.67683 ,2.93112,3.08384,3.21876,3.21513, 3.21343,3.21172,3.20995,3.20815,3.20632 ,3.20437,3.20238,3.20059,3.19875, 3.19683,3.19497,3.19292,3.19077,3.18836 ,3.18628,3.18406,3.18198,3.17965, 3.17749,3.17535,3.17319,3.17078,3.16886 ,3.16719,3.16539,3.1633,3.16123,3.15886 ,3.15455,3.14871,3.14497,3.14064, 3.13716,3.13243,3.12632,3.12149,3.11644 ,3.00233)
ORBIT_NUMBER = 9632
ORBITAL_ECCENTRICITY = 0.572
ORBITAL_INCLINATION = 86.88
ORBITAL_SEMIMAJOR_AXIS = 8778.75
PERIAPSIS_ALTITUDE = 379.09
PERIAPSIS_ARGUMENT_ANGLE = 115.25
PERIAPSIS_TIME = 2011-07-20T07:04:58.000Z
SPACECRAFT_ORIENTATION = (0.0,-1.0,0.0)
^MEX_ORIENTATION_DESC = "MEX_ORIENTATION_DESC.TXT"
SPACECRAFT_POINTING_MODE = NADIR
^MEX_POINTING_DESC = "MEX_POINTING_DESC.TXT"
RIGHT_ASCENSION = -1e+32
DECLINATION = -1e+32
OFFSET_ANGLE = -1e+32
SPACECRAFT_SOLAR_DISTANCE = 2.22337e+08
TARGET_NAME = MARS
/* CAMERA DATA ELEMENTS */
DETECTOR_TEMPERATURE = 18.3705
FOCAL_PLANE_TEMPERATURE = 8.1755
INST_CMPRS_NAME = "DISCRETE COSINE TRANSFORMATION (DCT)"
INST_CMPRS_RATIO = 17.8803
INST_CMPRS_QUALITY = 0
INST_CMPRS_QUANTZ_TBL_ID = 0
INSTRUMENT_TEMPERATURE = 11.234
LENS_TEMPERATURE = 8.5833
MACROPIXEL_SIZE = 4
MISSING_FRAMES = 0
PIXEL_SUBSAMPLING_FLAG = N
SIGNAL_CHAIN_ID = 2
/* RADIOMETRIC DATA ELEMENTS */
BANDWIDTH = 88.0
CENTER_FILTER_WAVELENGTH = 538.0
RADIANCE_OFFSET = 1.93414
RADIANCE_SCALING_FACTOR = 0.00500279
REFLECTANCE_SCALING_FACTOR = 0.000212926
MEX:REFLECTANCE_OFFSET = 0.0823199
/* IMAGE OBJECT DEFINITIONS */
OBJECT = IMAGE
  INTERCHANGE_FORMAT = BINARY
  LINES = 4003
  LINE_SAMPLES = 1540
  SAMPLE_TYPE = UNSIGNED_INTEGER
  SAMPLE_BITS = 8
  BANDS = 1
  BAND_STORAGE_TYPE = BAND_SEQUENTIAL
  MAXIMUM = 255
  MEAN = 100.62
  MINIMUM = 1
  STANDARD_DEVIATION = 32.1597
END_OBJECT = IMAGE
/* MAP OBJECT DEFINITIONS */
OBJECT = IMAGE_MAP_PROJECTION
  ^DATA_SET_MAP_PROJECTION_CATALOG= "DSMAP.CAT"
  A_AXIS_RADIUS = 3396.0
  B_AXIS_RADIUS = 3396.0
  C_AXIS_RADIUS = 3396.0
  CENTER_LATITUDE = 0.0
  CENTER_LONGITUDE = 2.0
  COORDINATE_SYSTEM_NAME = PLANETOGRAPHIC
  COORDINATE_SYSTEM_TYPE = "BODY-FIXED ROTATING"
  EASTERNMOST_LONGITUDE = 3.21876
  FIRST_STANDARD_PARALLEL = "N/A"
  LINE_FIRST_PIXEL = 1
  LINE_LAST_PIXEL = 4003
  LINE_PROJECTION_OFFSET = 18513.125
  MAP_PROJECTION_ROTATION = 0.0
  MAP_PROJECTION_TYPE = SINUSOIDAL
  MAP_RESOLUTION = 592.713803866667
  MAP_SCALE = 0.1
  MAXIMUM_LATITUDE = 31.238
  MINIMUM_LATITUDE = 24.4732
  POSITIVE_LONGITUDE_DIRECTION = EAST
  REFERENCE_LATITUDE = "N/A"
  REFERENCE_LONGITUDE = "N/A"
  SAMPLE_FIRST_PIXEL = 1
  SAMPLE_LAST_PIXEL = 1540
  SAMPLE_PROJECTION_OFFSET = 849.375
  SECOND_STANDARD_PARALLEL = "N/A"
  WESTERNMOST_LONGITUDE = 0.49536
END_OBJECT = IMAGE_MAP_PROJECTION
/* The JPEG2000 image data file associated with this label. */
OBJECT = COMPRESSED_FILE
  FILE_NAME = "H9632_0000_GR3.JP2"
  RECORD_TYPE = UNDEFINED
  FILE_RECORDS = UNK
  ENCODING_TYPE = "JP2"
  INTERCHANGE_FORMAT = BINARY
  UNCOMPRESSED_FILE_NAME = "H9632_0000_GR3.IMG"
  REQUIRED_STORAGE_BYTES = "6184640"
  ^DESCRIPTION = "JP2INFO.TXT"
END_OBJECT = COMPRESSED_FILE
END
