PDS_VERSION_ID = PDS3
/* FILE DATA ELEMENTS */
RECORD_TYPE = STREAM
/* POINTERS TO DATA OBJECTS */
^COMPRESSED_FILE = "H9637_0000_BL3.JP2"
/* IDENTIFICATION DATA ELEMENTS */
DATA_SET_ID = "MEX-M-HRSC-5-REFDR-MAPPROJECTED-V3.0"
DATA_SET_NAME = "MARS EXPRESS HRSC MAP PROJECTED REFDR V3.0"
DETECTOR_ID = MEX_HRSC_BLUE
EVENT_TYPE = "MARS-REGIONAL-MAPPING-Te-Im-Pf"
INSTRUMENT_HOST_ID = MEX
INSTRUMENT_HOST_NAME = "MARS EXPRESS"
INSTRUMENT_ID = HRSC
INSTRUMENT_NAME = "HIGH RESOLUTION STEREO CAMERA"
MISSION_NAME = "MARS EXPRESS"
MISSION_PHASE_NAME = ME_Phase_23
PROCESSING_LEVEL_ID = 3
PRODUCT_CREATION_TIME = 2016-10-27T04:11:22.000Z
PRODUCT_ID = "H9637_0000_BL3.JP2"
RELEASE_ID = 0099
REVISION_ID = 0000
/* QUALITY DATA ELEMENTS */
DATA_QUALITY_ID = 1
DATA_QUALITY_DESC = "Data calculated based on original SPICE kernels"
/* TIME DATA ELEMENTS */
SPACECRAFT_CLOCK_START_COUNT = "1/0259351565.07291"
SPACECRAFT_CLOCK_STOP_COUNT = "1/0259351784.03364"
START_TIME = 2011-07-21T18:06:51.911Z
STOP_TIME = 2011-07-21T18:09:04.149Z
/* ORBITAL DATA ELEMENTS */
ASCENDING_NODE_LONGITUDE = 33.25
MAXIMUM_RESOLUTION = 67.1
FOOTPRINT_POINT_LATITUDE = (51.8874,51.8792,51.8701,51.86,51.8489, 51.8369,51.8246,51.5269,51.2202,50.9138 ,50.6784,50.3646,50.0511,49.738,49.4253 ,49.2668,49.1067,48.9467,48.7869, 48.6271,48.4674,48.3078,48.1483,47.989, 47.8265,47.6633,47.5003,47.3374,47.1747 ,47.0121,46.8495,46.6871,46.5212, 46.3551,46.1891,46.0233,45.8576,45.692, 45.5266,45.2736,45.1046,44.9358,44.767, 44.5985,44.43,44.2592,44.0872,43.9153, 43.7436,43.7364,43.7476,43.7576,43.7645 ,43.7699,43.7732,43.9484,44.1208, 44.2934,44.465,44.634,44.8031,44.9723, 45.1418,45.3113,45.5653,45.7313,45.8974 ,46.0636,46.2299,46.3965,46.5631, 46.7298,46.8928,47.0558,47.219,47.3823, 47.5457,47.7092,47.8728,48.0362,48.1961 ,48.3561,48.5161,48.6764,48.8367, 48.9971,49.1576,49.3183,49.4776,49.7913 ,49.9483,50.1055,50.2627,50.42,50.5774, 50.7349,51.0483,51.3559,51.6637, 51.8874)
FOOTPRINT_POINT_LONGITUDE = (210.321,209.984,209.646,209.307, 208.968,208.628,208.307,208.136,208.165 ,208.194,208.215,208.243,208.269, 208.295,208.321,208.333,208.345,208.357 ,208.369,208.381,208.393,208.404, 208.415,208.426,208.437,208.448,208.458 ,208.469,208.479,208.489,208.499, 208.509,208.519,208.528,208.538,208.547 ,208.556,208.565,208.574,208.587, 208.595,208.603,208.611,208.619,208.627 ,208.635,208.642,208.65,208.657,208.961 ,209.397,209.852,210.219,210.564, 210.823,210.972,210.964,210.955,210.947 ,210.938,210.929,210.921,210.912, 210.903,210.89,210.881,210.872,210.863, 210.853,210.844,210.835,210.825,210.816 ,210.806,210.797,210.787,210.777, 210.767,210.757,210.747,210.737,210.727 ,210.717,210.707,210.696,210.686, 210.675,210.665,210.654,210.632,210.621 ,210.61,210.599,210.588,210.577,210.565 ,210.542,210.519,210.495,210.321)
ORBIT_NUMBER = 9637
ORBITAL_ECCENTRICITY = 0.572
ORBITAL_INCLINATION = 86.89
ORBITAL_SEMIMAJOR_AXIS = 8775.28
PERIAPSIS_ALTITUDE = 378.73
PERIAPSIS_ARGUMENT_ANGLE = 114.4
PERIAPSIS_TIME = 2011-07-21T18:03:12.000Z
SPACECRAFT_ORIENTATION = (0.0,-1.0,0.0)
^MEX_ORIENTATION_DESC = "MEX_ORIENTATION_DESC.TXT"
SPACECRAFT_POINTING_MODE = ACROSSTRACK
^MEX_POINTING_DESC = "MEX_POINTING_DESC.TXT"
RIGHT_ASCENSION = -1e+32
DECLINATION = -1e+32
OFFSET_ANGLE = -0.269
SPACECRAFT_SOLAR_DISTANCE = 2.22618e+08
TARGET_NAME = MARS
/* CAMERA DATA ELEMENTS */
DETECTOR_TEMPERATURE = 18.3705
FOCAL_PLANE_TEMPERATURE = 8.5833
INST_CMPRS_NAME = "DISCRETE COSINE TRANSFORMATION (DCT)"
INST_CMPRS_RATIO = 6.76016
INST_CMPRS_QUALITY = 0
INST_CMPRS_QUANTZ_TBL_ID = 0
INSTRUMENT_TEMPERATURE = 11.4379
LENS_TEMPERATURE = 8.7872
MACROPIXEL_SIZE = 4
MISSING_FRAMES = 0
PIXEL_SUBSAMPLING_FLAG = N
SIGNAL_CHAIN_ID = 2
/* RADIOMETRIC DATA ELEMENTS */
BANDWIDTH = 76.0
CENTER_FILTER_WAVELENGTH = 444.0
RADIANCE_OFFSET = 0.762151
RADIANCE_SCALING_FACTOR = 0.00110018
REFLECTANCE_SCALING_FACTOR = 5.602e-05
MEX:REFLECTANCE_OFFSET = 0.0388079
/* IMAGE OBJECT DEFINITIONS */
OBJECT = IMAGE
  INTERCHANGE_FORMAT = BINARY
  LINES = 9701
  LINE_SAMPLES = 2230
  SAMPLE_TYPE = UNSIGNED_INTEGER
  SAMPLE_BITS = 8
  BANDS = 1
  BAND_STORAGE_TYPE = BAND_SEQUENTIAL
  MAXIMUM = 253
  MEAN = 111.121
  MINIMUM = 1
  STANDARD_DEVIATION = 47.8751
END_OBJECT = IMAGE
/* MAP OBJECT DEFINITIONS */
OBJECT = IMAGE_MAP_PROJECTION
  ^DATA_SET_MAP_PROJECTION_CATALOG= "DSMAP.CAT"
  A_AXIS_RADIUS = 3396.0
  B_AXIS_RADIUS = 3396.0
  C_AXIS_RADIUS = 3396.0
  CENTER_LATITUDE = 0.0
  CENTER_LONGITUDE = 210.0
  COORDINATE_SYSTEM_NAME = PLANETOGRAPHIC
  COORDINATE_SYSTEM_TYPE = "BODY-FIXED ROTATING"
  EASTERNMOST_LONGITUDE = 210.972
  FIRST_STANDARD_PARALLEL = "N/A"
  LINE_FIRST_PIXEL = 1
  LINE_LAST_PIXEL = 9701
  LINE_PROJECTION_OFFSET = 61525.125
  MAP_PROJECTION_ROTATION = 0.0
  MAP_PROJECTION_TYPE = SINUSOIDAL
  MAP_RESOLUTION = 1185.42760773333
  MAP_SCALE = 0.05
  MAXIMUM_LATITUDE = 51.8874
  MINIMUM_LATITUDE = 43.7364
  POSITIVE_LONGITUDE_DIRECTION = EAST
  REFERENCE_LATITUDE = "N/A"
  REFERENCE_LONGITUDE = "N/A"
  SAMPLE_FIRST_PIXEL = 1
  SAMPLE_LAST_PIXEL = 2230
  SAMPLE_PROJECTION_OFFSET = 1399.375
  SECOND_STANDARD_PARALLEL = "N/A"
  WESTERNMOST_LONGITUDE = 208.136
END_OBJECT = IMAGE_MAP_PROJECTION
/* The JPEG2000 image data file associated with this label. */
OBJECT = COMPRESSED_FILE
  FILE_NAME = "H9637_0000_BL3.JP2"
  RECORD_TYPE = UNDEFINED
  FILE_RECORDS = UNK
  ENCODING_TYPE = "JP2"
  INTERCHANGE_FORMAT = BINARY
  UNCOMPRESSED_FILE_NAME = "H9637_0000_BL3.IMG"
  REQUIRED_STORAGE_BYTES = "21655530"
  ^DESCRIPTION = "JP2INFO.TXT"
END_OBJECT = COMPRESSED_FILE
END
