PDS_VERSION_ID = PDS3
/* FILE DATA ELEMENTS */
RECORD_TYPE = STREAM
/* POINTERS TO DATA OBJECTS */
^COMPRESSED_FILE = "H9644_0000_GR3.JP2"
/* IDENTIFICATION DATA ELEMENTS */
DATA_SET_ID = "MEX-M-HRSC-5-REFDR-MAPPROJECTED-V3.0"
DATA_SET_NAME = "MARS EXPRESS HRSC MAP PROJECTED REFDR V3.0"
DETECTOR_ID = MEX_HRSC_GREEN
EVENT_TYPE = "MARS-LOCAL-MAPPING-Te-Im-Pf"
INSTRUMENT_HOST_ID = MEX
INSTRUMENT_HOST_NAME = "MARS EXPRESS"
INSTRUMENT_ID = HRSC
INSTRUMENT_NAME = "HIGH RESOLUTION STEREO CAMERA"
MISSION_NAME = "MARS EXPRESS"
MISSION_PHASE_NAME = ME_Phase_23
PROCESSING_LEVEL_ID = 3
PRODUCT_CREATION_TIME = 2016-10-27T04:11:22.000Z
PRODUCT_ID = "H9644_0000_GR3.JP2"
RELEASE_ID = 0099
REVISION_ID = 0000
/* QUALITY DATA ELEMENTS */
DATA_QUALITY_ID = 1
DATA_QUALITY_DESC = "Data calculated based on original SPICE kernels"
/* TIME DATA ELEMENTS */
SPACECRAFT_CLOCK_START_COUNT = "1/0259527742.09043"
SPACECRAFT_CLOCK_STOP_COUNT = "1/0259527927.14867"
START_TIME = 2011-07-23T19:02:54.529Z
STOP_TIME = 2011-07-23T19:04:39.818Z
/* ORBITAL DATA ELEMENTS */
ASCENDING_NODE_LONGITUDE = 33.11
MAXIMUM_RESOLUTION = 63
FOOTPRINT_POINT_LATITUDE = (58.1158,58.1054,58.09,58.0773,58.0599, 58.0481,57.9467,57.8139,57.6812,57.4822 ,57.3494,57.2168,57.0841,56.9516, 56.7527,56.62,56.4875,56.355,56.1563, 56.0239,55.8915,55.7591,55.6268,55.4944 ,55.3621,55.23,55.0314,54.898,54.7656, 54.6334,54.5012,54.3692,54.1712,53.9077 ,53.711,53.3814,53.1177,52.9155,52.7128 ,52.5775,52.4424,52.3074,52.1724, 52.0374,51.9025,51.7677,51.5654,51.3443 ,51.3544,51.3695,51.3818,51.3914, 51.4039,51.4108,51.5459,51.6812,51.8164 ,51.9517,52.0871,52.2902,52.4257, 52.5613,52.6968,52.8325,52.9681,53.1715 ,53.3038,53.4362,53.6349,53.8996, 54.1636,54.2959,54.4283,54.5609,54.6938 ,54.8268,54.9602,55.0928,55.2254, 55.3582,55.5573,55.69,55.8229,56.0223, 56.1552,56.2882,56.4212,56.6209,56.754, 56.8872,57.0204,57.1536,57.2868,57.42, 57.5532,57.6865,57.8198,57.9532,58.0866 ,58.1158)
FOOTPRINT_POINT_LONGITUDE = (214.056,213.71,213.248,212.903,212.466 ,212.19,211.814,211.835,211.855,211.885 ,211.905,211.924,211.943,211.963, 211.991,212.009,212.027,212.045,212.072 ,212.089,212.107,212.124,212.141, 212.157,212.174,212.19,212.213,212.226, 212.241,212.256,212.271,212.286,212.308 ,212.338,212.362,212.397,212.423, 212.443,212.462,212.475,212.488,212.5, 212.513,212.525,212.537,212.549,212.566 ,212.672,212.937,213.378,213.776, 214.129,214.66,214.955,214.946,214.937, 214.928,214.918,214.909,214.895,214.885 ,214.876,214.866,214.856,214.847, 214.832,214.822,214.811,214.795,214.775 ,214.757,214.748,214.738,214.727, 214.715,214.702,214.689,214.678,214.667 ,214.656,214.639,214.628,214.616, 214.599,214.587,214.575,214.562,214.544 ,214.531,214.518,214.505,214.492, 214.479,214.466,214.453,214.44,214.426, 214.412,214.398,214.056)
ORBIT_NUMBER = 9644
ORBITAL_ECCENTRICITY = 0.572
ORBITAL_INCLINATION = 86.89
ORBITAL_SEMIMAJOR_AXIS = 8773.9
PERIAPSIS_ALTITUDE = 379.2
PERIAPSIS_ARGUMENT_ANGLE = 113.19
PERIAPSIS_TIME = 2011-07-23T19:00:46.000Z
SPACECRAFT_ORIENTATION = (0.0,-1.0,0.0)
^MEX_ORIENTATION_DESC = "MEX_ORIENTATION_DESC.TXT"
SPACECRAFT_POINTING_MODE = NADIR
^MEX_POINTING_DESC = "MEX_POINTING_DESC.TXT"
RIGHT_ASCENSION = -1e+32
DECLINATION = -1e+32
OFFSET_ANGLE = -1e+32
SPACECRAFT_SOLAR_DISTANCE = 2.23013e+08
TARGET_NAME = MARS
/* CAMERA DATA ELEMENTS */
DETECTOR_TEMPERATURE = 18.1666
FOCAL_PLANE_TEMPERATURE = 7.9716
INST_CMPRS_NAME = "DISCRETE COSINE TRANSFORMATION (DCT)"
INST_CMPRS_RATIO = 16.1796
INST_CMPRS_QUALITY = 0
INST_CMPRS_QUANTZ_TBL_ID = 0
INSTRUMENT_TEMPERATURE = 11.0301
LENS_TEMPERATURE = 8.5833
MACROPIXEL_SIZE = 4
MISSING_FRAMES = 0
PIXEL_SUBSAMPLING_FLAG = N
SIGNAL_CHAIN_ID = 2
/* RADIOMETRIC DATA ELEMENTS */
BANDWIDTH = 88.0
CENTER_FILTER_WAVELENGTH = 538.0
RADIANCE_OFFSET = 1.86965
RADIANCE_SCALING_FACTOR = 0.00214822
REFLECTANCE_SCALING_FACTOR = 9.19872e-05
MEX:REFLECTANCE_OFFSET = 0.0800589
/* IMAGE OBJECT DEFINITIONS */
OBJECT = IMAGE
  INTERCHANGE_FORMAT = BINARY
  LINES = 8030
  LINE_SAMPLES = 2234
  SAMPLE_TYPE = UNSIGNED_INTEGER
  SAMPLE_BITS = 8
  BANDS = 1
  BAND_STORAGE_TYPE = BAND_SEQUENTIAL
  MAXIMUM = 255
  MEAN = 129.05
  MINIMUM = 1
  STANDARD_DEVIATION = 40.4688
END_OBJECT = IMAGE
/* MAP OBJECT DEFINITIONS */
OBJECT = IMAGE_MAP_PROJECTION
  ^DATA_SET_MAP_PROJECTION_CATALOG= "DSMAP.CAT"
  A_AXIS_RADIUS = 3396.0
  B_AXIS_RADIUS = 3396.0
  C_AXIS_RADIUS = 3396.0
  CENTER_LATITUDE = 0.0
  CENTER_LONGITUDE = 213.0
  COORDINATE_SYSTEM_NAME = PLANETOGRAPHIC
  COORDINATE_SYSTEM_TYPE = "BODY-FIXED ROTATING"
  EASTERNMOST_LONGITUDE = 214.955
  FIRST_STANDARD_PARALLEL = "N/A"
  LINE_FIRST_PIXEL = 1
  LINE_LAST_PIXEL = 8030
  LINE_PROJECTION_OFFSET = 68894.375
  MAP_PROJECTION_ROTATION = 0.0
  MAP_PROJECTION_TYPE = SINUSOIDAL
  MAP_RESOLUTION = 1185.42760773333
  MAP_SCALE = 0.05
  MAXIMUM_LATITUDE = 58.1158
  MINIMUM_LATITUDE = 51.3443
  POSITIVE_LONGITUDE_DIRECTION = EAST
  REFERENCE_LATITUDE = "N/A"
  REFERENCE_LONGITUDE = "N/A"
  SAMPLE_FIRST_PIXEL = 1
  SAMPLE_LAST_PIXEL = 2234
  SAMPLE_PROJECTION_OFFSET = 773.125
  SECOND_STANDARD_PARALLEL = "N/A"
  WESTERNMOST_LONGITUDE = 211.814
END_OBJECT = IMAGE_MAP_PROJECTION
/* The JPEG2000 image data file associated with this label. */
OBJECT = COMPRESSED_FILE
  FILE_NAME = "H9644_0000_GR3.JP2"
  RECORD_TYPE = UNDEFINED
  FILE_RECORDS = UNK
  ENCODING_TYPE = "JP2"
  INTERCHANGE_FORMAT = BINARY
  UNCOMPRESSED_FILE_NAME = "H9644_0000_GR3.IMG"
  REQUIRED_STORAGE_BYTES = "17961360"
  ^DESCRIPTION = "JP2INFO.TXT"
END_OBJECT = COMPRESSED_FILE
END
