PDS_VERSION_ID = PDS3
/* FILE DATA ELEMENTS */
RECORD_TYPE = STREAM
/* POINTERS TO DATA OBJECTS */
^COMPRESSED_FILE = "H9644_0000_IR3.JP2"
/* IDENTIFICATION DATA ELEMENTS */
DATA_SET_ID = "MEX-M-HRSC-5-REFDR-MAPPROJECTED-V3.0"
DATA_SET_NAME = "MARS EXPRESS HRSC MAP PROJECTED REFDR V3.0"
DETECTOR_ID = MEX_HRSC_IR
EVENT_TYPE = "MARS-LOCAL-MAPPING-Te-Im-Pf"
INSTRUMENT_HOST_ID = MEX
INSTRUMENT_HOST_NAME = "MARS EXPRESS"
INSTRUMENT_ID = HRSC
INSTRUMENT_NAME = "HIGH RESOLUTION STEREO CAMERA"
MISSION_NAME = "MARS EXPRESS"
MISSION_PHASE_NAME = ME_Phase_23
PROCESSING_LEVEL_ID = 3
PRODUCT_CREATION_TIME = 2016-10-27T04:11:22.000Z
PRODUCT_ID = "H9644_0000_IR3.JP2"
RELEASE_ID = 0099
REVISION_ID = 0000
/* QUALITY DATA ELEMENTS */
DATA_QUALITY_ID = 1
DATA_QUALITY_DESC = "Data calculated based on original SPICE kernels"
/* TIME DATA ELEMENTS */
SPACECRAFT_CLOCK_START_COUNT = "1/0259527742.09043"
SPACECRAFT_CLOCK_STOP_COUNT = "1/0259527927.14867"
START_TIME = 2011-07-23T19:02:31.164Z
STOP_TIME = 2011-07-23T19:04:14.784Z
/* ORBITAL DATA ELEMENTS */
ASCENDING_NODE_LONGITUDE = 33.11
MAXIMUM_RESOLUTION = 65
FOOTPRINT_POINT_LATITUDE = (58.1937,58.1838,58.1659,58.1479, 58.1328,58.1121,58.0999,57.8752,57.7427 ,57.6108,57.4782,57.2799,57.0812, 56.8829,56.7507,56.6179,56.4854,56.2871 ,56.1547,55.9561,55.8237,55.6917, 55.5592,55.4268,55.2946,55.1627,54.9606 ,54.8236,54.6903,54.5575,54.4251,54.293 ,54.095,53.8325,53.6396,53.5065,53.3076 ,53.1084,52.9755,52.843,52.7105,52.5772 ,52.4447,52.3126,52.1138,51.9813, 51.7827,51.6503,51.5178,51.3824,51.3302 ,51.3425,51.3594,51.37,51.381,51.3925, 51.6,51.7328,51.932,52.0649,52.1979, 52.3309,52.5303,52.6633,52.8627,52.9956 ,53.1285,53.2619,53.4624,53.5968, 53.7966,54.0585,54.2539,54.3865,54.5203 ,54.6546,54.7902,54.9273,55.0602, 55.1916,55.3247,55.4571,55.5899,55.7222 ,55.8553,56.0541,56.2536,56.3865, 56.5197,56.6528,56.8523,56.9853,57.1848 ,57.3176,57.4505,57.5832,57.7159, 57.8488,58.0484,58.1937)
FOOTPRINT_POINT_LONGITUDE = (214.32,213.976,213.425,212.944,212.578 ,212.121,211.87,211.839,211.859,211.88, 211.9,211.93,211.959,211.987,212.006, 212.025,212.043,212.071,212.088,212.115 ,212.132,212.15,212.166,212.183,212.2, 212.217,212.239,212.253,212.268,212.283 ,212.299,212.314,212.336,212.367, 212.391,212.405,212.425,212.445,212.459 ,212.472,212.485,212.497,212.51,212.523 ,212.541,212.553,212.571,212.583, 212.594,212.606,212.805,213.109,213.585 ,213.911,214.302,214.801,214.926, 214.917,214.904,214.895,214.886,214.877 ,214.863,214.854,214.84,214.83,214.821, 214.811,214.796,214.785,214.77,214.752, 214.74,214.73,214.718,214.707,214.694, 214.681,214.67,214.66,214.649,214.638, 214.627,214.616,214.604,214.587,214.569 ,214.557,214.545,214.533,214.514, 214.502,214.482,214.47,214.457,214.444, 214.431,214.417,214.397,214.32)
ORBIT_NUMBER = 9644
ORBITAL_ECCENTRICITY = 0.572
ORBITAL_INCLINATION = 86.89
ORBITAL_SEMIMAJOR_AXIS = 8773.9
PERIAPSIS_ALTITUDE = 379.2
PERIAPSIS_ARGUMENT_ANGLE = 113.19
PERIAPSIS_TIME = 2011-07-23T19:00:46.000Z
SPACECRAFT_ORIENTATION = (0.0,-1.0,0.0)
^MEX_ORIENTATION_DESC = "MEX_ORIENTATION_DESC.TXT"
SPACECRAFT_POINTING_MODE = NADIR
^MEX_POINTING_DESC = "MEX_POINTING_DESC.TXT"
RIGHT_ASCENSION = -1e+32
DECLINATION = -1e+32
OFFSET_ANGLE = -1e+32
SPACECRAFT_SOLAR_DISTANCE = 2.23013e+08
TARGET_NAME = MARS
/* CAMERA DATA ELEMENTS */
DETECTOR_TEMPERATURE = 17.351
FOCAL_PLANE_TEMPERATURE = 7.9716
INST_CMPRS_NAME = "DISCRETE COSINE TRANSFORMATION (DCT)"
INST_CMPRS_RATIO = 7.2542
INST_CMPRS_QUALITY = 0
INST_CMPRS_QUANTZ_TBL_ID = 0
INSTRUMENT_TEMPERATURE = 11.0301
LENS_TEMPERATURE = 8.5833
MACROPIXEL_SIZE = 4
MISSING_FRAMES = 0
PIXEL_SUBSAMPLING_FLAG = N
SIGNAL_CHAIN_ID = 2
/* RADIOMETRIC DATA ELEMENTS */
BANDWIDTH = 81.0
CENTER_FILTER_WAVELENGTH = 955.5
RADIANCE_OFFSET = 1.01738
RADIANCE_SCALING_FACTOR = 0.0029524
REFLECTANCE_SCALING_FACTOR = 0.000316784
MEX:REFLECTANCE_OFFSET = 0.109162
/* IMAGE OBJECT DEFINITIONS */
OBJECT = IMAGE
  INTERCHANGE_FORMAT = BINARY
  LINES = 8030
  LINE_SAMPLES = 2234
  SAMPLE_TYPE = UNSIGNED_INTEGER
  SAMPLE_BITS = 8
  BANDS = 1
  BAND_STORAGE_TYPE = BAND_SEQUENTIAL
  MAXIMUM = 254
  MEAN = 133.902
  MINIMUM = 1
  STANDARD_DEVIATION = 45.0795
END_OBJECT = IMAGE
/* MAP OBJECT DEFINITIONS */
OBJECT = IMAGE_MAP_PROJECTION
  ^DATA_SET_MAP_PROJECTION_CATALOG= "DSMAP.CAT"
  A_AXIS_RADIUS = 3396.0
  B_AXIS_RADIUS = 3396.0
  C_AXIS_RADIUS = 3396.0
  CENTER_LATITUDE = 0.0
  CENTER_LONGITUDE = 213.0
  COORDINATE_SYSTEM_NAME = PLANETOGRAPHIC
  COORDINATE_SYSTEM_TYPE = "BODY-FIXED ROTATING"
  EASTERNMOST_LONGITUDE = 214.926
  FIRST_STANDARD_PARALLEL = "N/A"
  LINE_FIRST_PIXEL = 1
  LINE_LAST_PIXEL = 8030
  LINE_PROJECTION_OFFSET = 68894.375
  MAP_PROJECTION_ROTATION = 0.0
  MAP_PROJECTION_TYPE = SINUSOIDAL
  MAP_RESOLUTION = 1185.42760773333
  MAP_SCALE = 0.05
  MAXIMUM_LATITUDE = 58.1937
  MINIMUM_LATITUDE = 51.3302
  POSITIVE_LONGITUDE_DIRECTION = EAST
  REFERENCE_LATITUDE = "N/A"
  REFERENCE_LONGITUDE = "N/A"
  SAMPLE_FIRST_PIXEL = 1
  SAMPLE_LAST_PIXEL = 2234
  SAMPLE_PROJECTION_OFFSET = 773.125
  SECOND_STANDARD_PARALLEL = "N/A"
  WESTERNMOST_LONGITUDE = 211.839
END_OBJECT = IMAGE_MAP_PROJECTION
/* The JPEG2000 image data file associated with this label. */
OBJECT = COMPRESSED_FILE
  FILE_NAME = "H9644_0000_IR3.JP2"
  RECORD_TYPE = UNDEFINED
  FILE_RECORDS = UNK
  ENCODING_TYPE = "JP2"
  INTERCHANGE_FORMAT = BINARY
  UNCOMPRESSED_FILE_NAME = "H9644_0000_IR3.IMG"
  REQUIRED_STORAGE_BYTES = "17961360"
  ^DESCRIPTION = "JP2INFO.TXT"
END_OBJECT = COMPRESSED_FILE
END
