PDS_VERSION_ID = PDS3
/* FILE DATA ELEMENTS */
RECORD_TYPE = STREAM
/* POINTERS TO DATA OBJECTS */
^COMPRESSED_FILE = "H9644_0000_P13.JP2"
/* IDENTIFICATION DATA ELEMENTS */
DATA_SET_ID = "MEX-M-HRSC-5-REFDR-MAPPROJECTED-V3.0"
DATA_SET_NAME = "MARS EXPRESS HRSC MAP PROJECTED REFDR V3.0"
DETECTOR_ID = MEX_HRSC_P1
EVENT_TYPE = "MARS-LOCAL-MAPPING-Te-Im-Pf"
INSTRUMENT_HOST_ID = MEX
INSTRUMENT_HOST_NAME = "MARS EXPRESS"
INSTRUMENT_ID = HRSC
INSTRUMENT_NAME = "HIGH RESOLUTION STEREO CAMERA"
MISSION_NAME = "MARS EXPRESS"
MISSION_PHASE_NAME = ME_Phase_23
PROCESSING_LEVEL_ID = 3
PRODUCT_CREATION_TIME = 2016-10-27T04:11:22.000Z
PRODUCT_ID = "H9644_0000_P13.JP2"
RELEASE_ID = 0099
REVISION_ID = 0000
/* QUALITY DATA ELEMENTS */
DATA_QUALITY_ID = 1
DATA_QUALITY_DESC = "Data calculated based on original SPICE kernels"
/* TIME DATA ELEMENTS */
SPACECRAFT_CLOCK_START_COUNT = "1/0259527742.09043"
SPACECRAFT_CLOCK_STOP_COUNT = "1/0259527927.14867"
START_TIME = 2011-07-23T19:02:37.230Z
STOP_TIME = 2011-07-23T19:04:21.087Z
/* ORBITAL DATA ELEMENTS */
ASCENDING_NODE_LONGITUDE = 33.11
MAXIMUM_RESOLUTION = 32.1
FOOTPRINT_POINT_LATITUDE = (58.1668,58.151,58.1384,58.1284,58.1128 ,58.0981,58.0067,57.8073,57.6743, 57.4751,57.342,57.209,57.076,56.9432, 56.8104,56.6773,56.4776,56.3448,56.2118 ,56.0788,55.9459,55.7464,55.5473, 55.4142,55.2818,55.1489,55.0138,54.8103 ,54.677,54.5438,54.4067,54.2082,53.9439 ,53.683,53.483,53.2835,53.1505,52.9509, 52.7517,52.6185,52.4854,52.3528,52.1538 ,51.9545,51.8196,51.6833,51.5469, 51.3425,51.3427,51.3519,51.3641,51.3798 ,51.3905,51.3985,51.4751,51.6117, 51.7485,51.8851,52.0209,52.1541,52.2875 ,52.4207,52.5539,52.6872,52.8205, 52.9537,53.087,53.2204,53.3542,53.4879, 53.6226,53.7567,53.889,54.0873,54.2835, 54.4172,54.622,54.7567,54.8936,55.0283, 55.2938,55.4273,55.6269,55.8269,55.9603 ,56.0935,56.227,56.3606,56.4942,56.6279 ,56.8282,56.9618,57.0956,57.2291, 57.4294,57.6295,57.763,57.9634,58.097, 58.1668)
FOOTPRINT_POINT_LONGITUDE = (214.084,213.582,213.223,212.961, 212.579,212.246,211.807,211.838,211.859 ,211.889,211.909,211.929,211.948, 211.968,211.987,212.006,212.033,212.052 ,212.07,212.087,212.105,212.131,212.157 ,212.173,212.19,212.207,212.221,212.242 ,212.258,212.273,212.289,212.312, 212.342,212.374,212.395,212.415,212.429 ,212.449,212.468,212.481,212.494, 212.506,212.525,212.543,212.555,212.567 ,212.579,212.597,212.823,213.05,213.39, 213.866,214.252,214.57,214.937,214.928, 214.919,214.91,214.901,214.892,214.883, 214.874,214.865,214.855,214.846,214.836 ,214.827,214.817,214.807,214.797, 214.786,214.775,214.766,214.752,214.74, 214.729,214.712,214.7,214.686,214.674, 214.653,214.642,214.625,214.608,214.597 ,214.585,214.573,214.561,214.549, 214.536,214.518,214.505,214.492,214.479 ,214.46,214.44,214.427,214.406,214.393, 214.084)
ORBIT_NUMBER = 9644
ORBITAL_ECCENTRICITY = 0.572
ORBITAL_INCLINATION = 86.89
ORBITAL_SEMIMAJOR_AXIS = 8773.9
PERIAPSIS_ALTITUDE = 379.2
PERIAPSIS_ARGUMENT_ANGLE = 113.19
PERIAPSIS_TIME = 2011-07-23T19:00:46.000Z
SPACECRAFT_ORIENTATION = (0.0,-1.0,0.0)
^MEX_ORIENTATION_DESC = "MEX_ORIENTATION_DESC.TXT"
SPACECRAFT_POINTING_MODE = NADIR
^MEX_POINTING_DESC = "MEX_POINTING_DESC.TXT"
RIGHT_ASCENSION = -1e+32
DECLINATION = -1e+32
OFFSET_ANGLE = -1e+32
SPACECRAFT_SOLAR_DISTANCE = 2.23013e+08
TARGET_NAME = MARS
/* CAMERA DATA ELEMENTS */
DETECTOR_TEMPERATURE = 17.351
FOCAL_PLANE_TEMPERATURE = 7.9716
INST_CMPRS_NAME = "DISCRETE COSINE TRANSFORMATION (DCT)"
INST_CMPRS_RATIO = 13.3739
INST_CMPRS_QUALITY = 0
INST_CMPRS_QUANTZ_TBL_ID = 0
INSTRUMENT_TEMPERATURE = 11.0301
LENS_TEMPERATURE = 8.5833
MACROPIXEL_SIZE = 2
MISSING_FRAMES = 1
PIXEL_SUBSAMPLING_FLAG = N
SIGNAL_CHAIN_ID = 3
/* RADIOMETRIC DATA ELEMENTS */
BANDWIDTH = 174.0
CENTER_FILTER_WAVELENGTH = 675.0
RADIANCE_OFFSET = 4.52775
RADIANCE_SCALING_FACTOR = 0.00861683
REFLECTANCE_SCALING_FACTOR = 0.000230512
MEX:REFLECTANCE_OFFSET = 0.121124
/* IMAGE OBJECT DEFINITIONS */
OBJECT = IMAGE
  INTERCHANGE_FORMAT = BINARY
  LINES = 16059
  LINE_SAMPLES = 4467
  SAMPLE_TYPE = UNSIGNED_INTEGER
  SAMPLE_BITS = 8
  BANDS = 1
  BAND_STORAGE_TYPE = BAND_SEQUENTIAL
  MAXIMUM = 255
  MEAN = 127.684
  MINIMUM = 1
  STANDARD_DEVIATION = 48.2074
END_OBJECT = IMAGE
/* MAP OBJECT DEFINITIONS */
OBJECT = IMAGE_MAP_PROJECTION
  ^DATA_SET_MAP_PROJECTION_CATALOG= "DSMAP.CAT"
  A_AXIS_RADIUS = 3396.0
  B_AXIS_RADIUS = 3396.0
  C_AXIS_RADIUS = 3396.0
  CENTER_LATITUDE = 0.0
  CENTER_LONGITUDE = 213.0
  COORDINATE_SYSTEM_NAME = PLANETOGRAPHIC
  COORDINATE_SYSTEM_TYPE = "BODY-FIXED ROTATING"
  EASTERNMOST_LONGITUDE = 214.937
  FIRST_STANDARD_PARALLEL = "N/A"
  LINE_FIRST_PIXEL = 1
  LINE_LAST_PIXEL = 16059
  LINE_PROJECTION_OFFSET = 137789.25
  MAP_PROJECTION_ROTATION = 0.0
  MAP_PROJECTION_TYPE = SINUSOIDAL
  MAP_RESOLUTION = 2370.85521546667
  MAP_SCALE = 0.025
  MAXIMUM_LATITUDE = 58.1668
  MINIMUM_LATITUDE = 51.3425
  POSITIVE_LONGITUDE_DIRECTION = EAST
  REFERENCE_LATITUDE = "N/A"
  REFERENCE_LONGITUDE = "N/A"
  SAMPLE_FIRST_PIXEL = 1
  SAMPLE_LAST_PIXEL = 4467
  SAMPLE_PROJECTION_OFFSET = 1546.75
  SECOND_STANDARD_PARALLEL = "N/A"
  WESTERNMOST_LONGITUDE = 211.807
END_OBJECT = IMAGE_MAP_PROJECTION
/* The JPEG2000 image data file associated with this label. */
OBJECT = COMPRESSED_FILE
  FILE_NAME = "H9644_0000_P13.JP2"
  RECORD_TYPE = UNDEFINED
  FILE_RECORDS = UNK
  ENCODING_TYPE = "JP2"
  INTERCHANGE_FORMAT = BINARY
  UNCOMPRESSED_FILE_NAME = "H9644_0000_P13.IMG"
  REQUIRED_STORAGE_BYTES = "71762355"
  ^DESCRIPTION = "JP2INFO.TXT"
END_OBJECT = COMPRESSED_FILE
END
