PDS_VERSION_ID = PDS3
/* FILE DATA ELEMENTS */
RECORD_TYPE = STREAM
/* POINTERS TO DATA OBJECTS */
^COMPRESSED_FILE = "H9644_0000_S23.JP2"
/* IDENTIFICATION DATA ELEMENTS */
DATA_SET_ID = "MEX-M-HRSC-5-REFDR-MAPPROJECTED-V3.0"
DATA_SET_NAME = "MARS EXPRESS HRSC MAP PROJECTED REFDR V3.0"
DETECTOR_ID = MEX_HRSC_S2
EVENT_TYPE = "MARS-LOCAL-MAPPING-Te-Im-Pf"
INSTRUMENT_HOST_ID = MEX
INSTRUMENT_HOST_NAME = "MARS EXPRESS"
INSTRUMENT_ID = HRSC
INSTRUMENT_NAME = "HIGH RESOLUTION STEREO CAMERA"
MISSION_NAME = "MARS EXPRESS"
MISSION_PHASE_NAME = ME_Phase_23
PROCESSING_LEVEL_ID = 3
PRODUCT_CREATION_TIME = 2016-10-27T04:11:22.000Z
PRODUCT_ID = "H9644_0000_S23.JP2"
RELEASE_ID = 0099
REVISION_ID = 0000
/* QUALITY DATA ELEMENTS */
DATA_QUALITY_ID = 1
DATA_QUALITY_DESC = "Data calculated based on original SPICE kernels"
/* TIME DATA ELEMENTS */
SPACECRAFT_CLOCK_START_COUNT = "1/0259527742.09043"
SPACECRAFT_CLOCK_STOP_COUNT = "1/0259527927.14867"
START_TIME = 2011-07-23T19:03:37.727Z
STOP_TIME = 2011-07-23T19:05:28.328Z
/* ORBITAL DATA ELEMENTS */
ASCENDING_NODE_LONGITUDE = 33.11
MAXIMUM_RESOLUTION = 34.6
FOOTPRINT_POINT_LATITUDE = (58.0023,57.9918,57.9756,57.9617, 57.9468,57.9268,57.7737,57.5766,57.381, 57.2504,57.1196,56.9892,56.8584,56.7278 ,56.468,56.3376,56.2075,56.0778,55.9477 ,55.815,55.6816,55.5487,55.4156,55.2825 ,55.0193,54.8254,54.6287,54.4306, 54.2985,54.1639,54.0282,53.8908,53.7515 ,53.6153,53.4804,53.3459,53.2117, 53.0775,52.9432,52.7417,52.6052,52.4682 ,52.331,52.1936,52.0565,51.9197,51.7828 ,51.646,51.5098,51.3734,51.3665,51.3796 ,51.3883,51.3986,51.4052,51.4138, 51.4187,51.5581,51.7635,51.9008,52.1067 ,52.244,52.4505,52.5881,52.726,52.93, 53.0648,53.1997,53.4015,53.5358,53.7364 ,53.9396,54.1475,54.2873,54.4201, 54.5512,54.6818,54.8774,55.0109,55.1442 ,55.3441,55.5454,55.7463,55.8804, 56.0141,56.145,56.2753,56.4058,56.6015, 56.7324,56.9285,57.0592,57.1901,57.3223 ,57.5186,57.6504,57.7818,57.9136,58.045 ,58.0023)
FOOTPRINT_POINT_LONGITUDE = (213.975,213.626,213.128,212.73,212.332 ,211.834,211.785,211.815,211.843, 211.862,211.881,211.899,211.917,211.935 ,211.97,211.987,212.005,212.021,212.038 ,212.055,212.071,212.088,212.104,212.12 ,212.15,212.17,212.191,212.213,212.227, 212.242,212.257,212.272,212.289,212.304 ,212.317,212.33,212.343,212.356,212.369 ,212.388,212.4,212.412,212.425,212.437, 212.449,212.461,212.472,212.484,212.495 ,212.506,212.85,213.29,213.607,214.023, 214.316,214.708,214.953,215.025,215.011 ,215.001,214.986,214.976,214.961, 214.951,214.94,214.925,214.914,214.904, 214.888,214.877,214.859,214.843,214.828 ,214.819,214.808,214.796,214.783, 214.765,214.753,214.742,214.724,214.707 ,214.689,214.677,214.664,214.652,214.64 ,214.627,214.608,214.596,214.576, 214.563,214.55,214.537,214.516,214.503, 214.489,214.475,214.461,213.975)
ORBIT_NUMBER = 9644
ORBITAL_ECCENTRICITY = 0.572
ORBITAL_INCLINATION = 86.89
ORBITAL_SEMIMAJOR_AXIS = 8773.9
PERIAPSIS_ALTITUDE = 379.2
PERIAPSIS_ARGUMENT_ANGLE = 113.19
PERIAPSIS_TIME = 2011-07-23T19:00:46.000Z
SPACECRAFT_ORIENTATION = (0.0,-1.0,0.0)
^MEX_ORIENTATION_DESC = "MEX_ORIENTATION_DESC.TXT"
SPACECRAFT_POINTING_MODE = NADIR
^MEX_POINTING_DESC = "MEX_POINTING_DESC.TXT"
RIGHT_ASCENSION = -1e+32
DECLINATION = -1e+32
OFFSET_ANGLE = -1e+32
SPACECRAFT_SOLAR_DISTANCE = 2.23013e+08
TARGET_NAME = MARS
/* CAMERA DATA ELEMENTS */
DETECTOR_TEMPERATURE = 18.3705
FOCAL_PLANE_TEMPERATURE = 7.9716
INST_CMPRS_NAME = "DISCRETE COSINE TRANSFORMATION (DCT)"
INST_CMPRS_RATIO = 12.4913
INST_CMPRS_QUALITY = 0
INST_CMPRS_QUANTZ_TBL_ID = 0
INSTRUMENT_TEMPERATURE = 11.0301
LENS_TEMPERATURE = 8.5833
MACROPIXEL_SIZE = 2
MISSING_FRAMES = 0
PIXEL_SUBSAMPLING_FLAG = N
SIGNAL_CHAIN_ID = 1
/* RADIOMETRIC DATA ELEMENTS */
BANDWIDTH = 178.0
CENTER_FILTER_WAVELENGTH = 679.0
RADIANCE_OFFSET = 4.77269
RADIANCE_SCALING_FACTOR = 0.00907027
REFLECTANCE_SCALING_FACTOR = 0.000238897
MEX:REFLECTANCE_OFFSET = 0.125705
/* IMAGE OBJECT DEFINITIONS */
OBJECT = IMAGE
  INTERCHANGE_FORMAT = BINARY
  LINES = 16059
  LINE_SAMPLES = 4467
  SAMPLE_TYPE = UNSIGNED_INTEGER
  SAMPLE_BITS = 8
  BANDS = 1
  BAND_STORAGE_TYPE = BAND_SEQUENTIAL
  MAXIMUM = 255
  MEAN = 125.561
  MINIMUM = 1
  STANDARD_DEVIATION = 48.1085
END_OBJECT = IMAGE
/* MAP OBJECT DEFINITIONS */
OBJECT = IMAGE_MAP_PROJECTION
  ^DATA_SET_MAP_PROJECTION_CATALOG= "DSMAP.CAT"
  A_AXIS_RADIUS = 3396.0
  B_AXIS_RADIUS = 3396.0
  C_AXIS_RADIUS = 3396.0
  CENTER_LATITUDE = 0.0
  CENTER_LONGITUDE = 213.0
  COORDINATE_SYSTEM_NAME = PLANETOGRAPHIC
  COORDINATE_SYSTEM_TYPE = "BODY-FIXED ROTATING"
  EASTERNMOST_LONGITUDE = 215.025
  FIRST_STANDARD_PARALLEL = "N/A"
  LINE_FIRST_PIXEL = 1
  LINE_LAST_PIXEL = 16059
  LINE_PROJECTION_OFFSET = 137789.25
  MAP_PROJECTION_ROTATION = 0.0
  MAP_PROJECTION_TYPE = SINUSOIDAL
  MAP_RESOLUTION = 2370.85521546667
  MAP_SCALE = 0.025
  MAXIMUM_LATITUDE = 58.045
  MINIMUM_LATITUDE = 51.3665
  POSITIVE_LONGITUDE_DIRECTION = EAST
  REFERENCE_LATITUDE = "N/A"
  REFERENCE_LONGITUDE = "N/A"
  SAMPLE_FIRST_PIXEL = 1
  SAMPLE_LAST_PIXEL = 4467
  SAMPLE_PROJECTION_OFFSET = 1546.75
  SECOND_STANDARD_PARALLEL = "N/A"
  WESTERNMOST_LONGITUDE = 211.785
END_OBJECT = IMAGE_MAP_PROJECTION
/* The JPEG2000 image data file associated with this label. */
OBJECT = COMPRESSED_FILE
  FILE_NAME = "H9644_0000_S23.JP2"
  RECORD_TYPE = UNDEFINED
  FILE_RECORDS = UNK
  ENCODING_TYPE = "JP2"
  INTERCHANGE_FORMAT = BINARY
  UNCOMPRESSED_FILE_NAME = "H9644_0000_S23.IMG"
  REQUIRED_STORAGE_BYTES = "71762355"
  ^DESCRIPTION = "JP2INFO.TXT"
END_OBJECT = COMPRESSED_FILE
END
