PDS_VERSION_ID = PDS3
/* FILE DATA ELEMENTS */
RECORD_TYPE = STREAM
/* POINTERS TO DATA OBJECTS */
^COMPRESSED_FILE = "H9655_0000_P13.JP2"
/* IDENTIFICATION DATA ELEMENTS */
DATA_SET_ID = "MEX-M-HRSC-5-REFDR-MAPPROJECTED-V3.0"
DATA_SET_NAME = "MARS EXPRESS HRSC MAP PROJECTED REFDR V3.0"
DETECTOR_ID = MEX_HRSC_P1
EVENT_TYPE = "MARS-REGIONAL-MAPPING-Te-Im-Pf"
INSTRUMENT_HOST_ID = MEX
INSTRUMENT_HOST_NAME = "MARS EXPRESS"
INSTRUMENT_ID = HRSC
INSTRUMENT_NAME = "HIGH RESOLUTION STEREO CAMERA"
MISSION_NAME = "MARS EXPRESS"
MISSION_PHASE_NAME = ME_Phase_23
PROCESSING_LEVEL_ID = 3
PRODUCT_CREATION_TIME = 2016-10-27T04:11:22.000Z
PRODUCT_ID = "H9655_0000_P13.JP2"
RELEASE_ID = 0099
REVISION_ID = 0000
/* QUALITY DATA ELEMENTS */
DATA_QUALITY_ID = 1
DATA_QUALITY_DESC = "Data calculated based on original SPICE kernels"
/* TIME DATA ELEMENTS */
SPACECRAFT_CLOCK_START_COUNT = "1/0259804722.09034"
SPACECRAFT_CLOCK_STOP_COUNT = "1/0259805016.40604"
START_TIME = 2011-07-26T23:58:57.360Z
STOP_TIME = 2011-07-27T00:02:20.082Z
/* ORBITAL DATA ELEMENTS */
ASCENDING_NODE_LONGITUDE = 32.9
MAXIMUM_RESOLUTION = 32.3
FOOTPRINT_POINT_LATITUDE = (60.1165,60.0987,60.0733,60.0394, 59.9411,59.5657,59.065,58.8145,58.4394, 58.1887,57.9379,57.6874,57.1867,56.8111 ,56.5607,56.1853,55.9352,55.56,55.1844, 54.9342,54.6841,54.4341,54.181,53.9241, 53.6673,53.4107,53.0258,52.7693,52.513, 52.2525,51.9898,51.7267,51.464,51.2013, 50.8075,50.5391,50.2703,49.8671,49.5986 ,49.3302,48.9189,48.6444,48.2327, 47.9583,47.5377,47.2571,46.9768,46.9875 ,46.9981,47.0072,47.0246,47.0331, 47.0377,47.3187,47.6001,47.8813,48.2973 ,48.5721,48.8476,49.1231,49.398,49.6673 ,50.0715,50.3412,50.6112,50.8804, 51.1439,51.4073,51.6708,51.9345,52.1982 ,52.5915,52.8485,53.1058,53.3631, 53.6206,53.8784,54.1358,54.3933,54.6445 ,54.8955,55.1468,55.3981,55.7749, 56.0259,56.2773,56.6543,56.9058,57.1574 ,57.4091,57.6604,57.912,58.1635,58.5411 ,58.9184,59.2959,59.5476,59.7993, 60.0508,60.1165)
FOOTPRINT_POINT_LONGITUDE = (168.623,168.09,167.43,166.671,166.204, 166.273,166.362,166.404,166.467,166.507 ,166.546,166.585,166.66,166.713,166.748 ,166.799,166.832,166.88,166.926,166.956 ,166.985,167.014,167.042,167.07,167.097 ,167.124,167.163,167.188,167.212, 167.236,167.26,167.283,167.306,167.328, 167.36,167.381,167.402,167.431,167.451, 167.469,167.497,167.515,167.54,167.557, 167.581,167.596,167.611,167.933,168.255 ,168.554,169.245,169.705,169.99,169.977 ,169.962,169.948,169.926,169.911, 169.896,169.881,169.865,169.85,169.825, 169.809,169.792,169.775,169.758,169.741 ,169.723,169.706,169.687,169.66,169.641 ,169.623,169.603,169.584,169.564, 169.544,169.523,169.502,169.481,169.46, 169.438,169.405,169.383,169.36,169.325, 169.3,169.276,169.25,169.225,169.199, 169.173,169.132,169.09,169.047,169.017, 168.987,168.957,168.623)
ORBIT_NUMBER = 9655
ORBITAL_ECCENTRICITY = 0.571
ORBITAL_INCLINATION = 86.88
ORBITAL_SEMIMAJOR_AXIS = 8773.41
PERIAPSIS_ALTITUDE = 381.38
PERIAPSIS_ARGUMENT_ANGLE = 111.31
PERIAPSIS_TIME = 2011-07-26T23:57:07.000Z
SPACECRAFT_ORIENTATION = (0.0,-1.0,0.0)
^MEX_ORIENTATION_DESC = "MEX_ORIENTATION_DESC.TXT"
SPACECRAFT_POINTING_MODE = NADIR
^MEX_POINTING_DESC = "MEX_POINTING_DESC.TXT"
RIGHT_ASCENSION = -1e+32
DECLINATION = -1e+32
OFFSET_ANGLE = -1e+32
SPACECRAFT_SOLAR_DISTANCE = 2.23635e+08
TARGET_NAME = MARS
/* CAMERA DATA ELEMENTS */
DETECTOR_TEMPERATURE = 17.351
FOCAL_PLANE_TEMPERATURE = 7.7677
INST_CMPRS_NAME = "DISCRETE COSINE TRANSFORMATION (DCT)"
INST_CMPRS_RATIO = 12.6649
INST_CMPRS_QUALITY = 0
INST_CMPRS_QUANTZ_TBL_ID = 0
INSTRUMENT_TEMPERATURE = 11.0301
LENS_TEMPERATURE = 8.1755
MACROPIXEL_SIZE = 2
MISSING_FRAMES = 0
PIXEL_SUBSAMPLING_FLAG = N
SIGNAL_CHAIN_ID = 3
/* RADIOMETRIC DATA ELEMENTS */
BANDWIDTH = 174.0
CENTER_FILTER_WAVELENGTH = 675.0
RADIANCE_OFFSET = 4.78938
RADIANCE_SCALING_FACTOR = 0.0126394
REFLECTANCE_SCALING_FACTOR = 0.000340011
MEX:REFLECTANCE_OFFSET = 0.128839
/* IMAGE OBJECT DEFINITIONS */
OBJECT = IMAGE
  INTERCHANGE_FORMAT = BINARY
  LINES = 30981
  LINE_SAMPLES = 5357
  SAMPLE_TYPE = UNSIGNED_INTEGER
  SAMPLE_BITS = 8
  BANDS = 1
  BAND_STORAGE_TYPE = BAND_SEQUENTIAL
  MAXIMUM = 255
  MEAN = 91.6021
  MINIMUM = 1
  STANDARD_DEVIATION = 51.8706
END_OBJECT = IMAGE
/* MAP OBJECT DEFINITIONS */
OBJECT = IMAGE_MAP_PROJECTION
  ^DATA_SET_MAP_PROJECTION_CATALOG= "DSMAP.CAT"
  A_AXIS_RADIUS = 3396.0
  B_AXIS_RADIUS = 3396.0
  C_AXIS_RADIUS = 3396.0
  CENTER_LATITUDE = 0.0
  CENTER_LONGITUDE = 168.0
  COORDINATE_SYSTEM_NAME = PLANETOGRAPHIC
  COORDINATE_SYSTEM_TYPE = "BODY-FIXED ROTATING"
  EASTERNMOST_LONGITUDE = 169.99
  FIRST_STANDARD_PARALLEL = "N/A"
  LINE_FIRST_PIXEL = 1
  LINE_LAST_PIXEL = 30981
  LINE_PROJECTION_OFFSET = 142391.75
  MAP_PROJECTION_ROTATION = 0.0
  MAP_PROJECTION_TYPE = SINUSOIDAL
  MAP_RESOLUTION = 2370.85521546667
  MAP_SCALE = 0.025
  MAXIMUM_LATITUDE = 60.1165
  MINIMUM_LATITUDE = 46.9768
  POSITIVE_LONGITUDE_DIRECTION = EAST
  REFERENCE_LATITUDE = "N/A"
  REFERENCE_LONGITUDE = "N/A"
  SAMPLE_FIRST_PIXEL = 1
  SAMPLE_LAST_PIXEL = 5357
  SAMPLE_PROJECTION_OFFSET = 2115.25
  SECOND_STANDARD_PARALLEL = "N/A"
  WESTERNMOST_LONGITUDE = 166.204
END_OBJECT = IMAGE_MAP_PROJECTION
/* The JPEG2000 image data file associated with this label. */
OBJECT = COMPRESSED_FILE
  FILE_NAME = "H9655_0000_P13.JP2"
  RECORD_TYPE = UNDEFINED
  FILE_RECORDS = UNK
  ENCODING_TYPE = "JP2"
  INTERCHANGE_FORMAT = BINARY
  UNCOMPRESSED_FILE_NAME = "H9655_0000_P13.IMG"
  REQUIRED_STORAGE_BYTES = "165992002"
  ^DESCRIPTION = "JP2INFO.TXT"
END_OBJECT = COMPRESSED_FILE
END
