PDS_VERSION_ID = PDS3
/* FILE DATA ELEMENTS */
RECORD_TYPE = STREAM
/* POINTERS TO DATA OBJECTS */
^COMPRESSED_FILE = "H9665_0000_BL3.JP2"
/* IDENTIFICATION DATA ELEMENTS */
DATA_SET_ID = "MEX-M-HRSC-5-REFDR-MAPPROJECTED-V3.0"
DATA_SET_NAME = "MARS EXPRESS HRSC MAP PROJECTED REFDR V3.0"
DETECTOR_ID = MEX_HRSC_BLUE
EVENT_TYPE = "MARS-REGIONAL-MAPPING-Te-Im-Pf"
INSTRUMENT_HOST_ID = MEX
INSTRUMENT_HOST_NAME = "MARS EXPRESS"
INSTRUMENT_ID = HRSC
INSTRUMENT_NAME = "HIGH RESOLUTION STEREO CAMERA"
MISSION_NAME = "MARS EXPRESS"
MISSION_PHASE_NAME = ME_Phase_23
PROCESSING_LEVEL_ID = 3
PRODUCT_CREATION_TIME = 2016-10-27T04:11:22.000Z
PRODUCT_ID = "H9665_0000_BL3.JP2"
RELEASE_ID = 0099
REVISION_ID = 0000
/* QUALITY DATA ELEMENTS */
DATA_QUALITY_ID = 1
DATA_QUALITY_DESC = "Data calculated based on original SPICE kernels"
/* TIME DATA ELEMENTS */
SPACECRAFT_CLOCK_START_COUNT = "1/0260056681.07302"
SPACECRAFT_CLOCK_STOP_COUNT = "1/0260056963.46264"
START_TIME = 2011-07-29T21:58:52.890Z
STOP_TIME = 2011-07-29T22:01:51.290Z
/* ORBITAL DATA ELEMENTS */
ASCENDING_NODE_LONGITUDE = 32.72
MAXIMUM_RESOLUTION = 73.7
FOOTPRINT_POINT_LATITUDE = (50.9456,50.9366,50.9264,50.9151, 50.9027,50.889,50.8867,50.4067,50.0202, 49.6344,49.3402,48.9468,48.5542,48.3544 ,48.1541,47.9541,47.7542,47.5547,47.25, 47.0465,46.8433,46.6404,46.3315,46.1247 ,45.9183,45.712,45.5029,45.2929,45.0831 ,44.8736,44.6619,44.4486,44.2355, 44.0228,43.8077,43.5912,43.3751,43.1593 ,42.9397,42.6106,42.3915,42.1688, 41.9463,41.7239,41.3867,41.161,40.9358, 40.7071,40.3707,40.3774,40.3852,40.3905 ,40.3952,40.3992,40.405,40.4087,40.4122 ,40.7566,40.9861,41.2123,41.4388, 41.6657,41.8887,42.1119,42.3356,42.5571 ,42.7772,42.9976,43.2178,43.4345, 43.6515,43.8687,44.0846,44.2981,44.5119 ,44.726,45.0435,45.2541,45.4649,45.78, 45.987,46.1943,46.4018,46.7118,46.9155, 47.1194,47.3236,47.6294,47.8296,48.0302 ,48.231,48.4319,48.6324,49.0265,49.2238 ,49.4214,49.7165,50.1038,50.4918, 50.9456)
FOOTPRINT_POINT_LONGITUDE = (225.869,225.504,225.137,224.768, 224.398,224.026,223.575,223.62,223.654, 223.687,223.712,223.743,223.773,223.788 ,223.803,223.818,223.832,223.846, 223.866,223.879,223.892,223.905,223.923 ,223.936,223.947,223.959,223.97,223.981 ,223.992,224.003,224.013,224.023, 224.033,224.043,224.052,224.061,224.07, 224.078,224.087,224.099,224.107,224.114 ,224.121,224.129,224.139,224.146, 224.152,224.158,224.166,224.438,224.786 ,225.058,225.328,225.599,226.064, 226.454,226.802,226.786,226.775,226.764 ,226.753,226.742,226.731,226.72,226.708 ,226.697,226.686,226.674,226.662,226.65 ,226.639,226.626,226.614,226.602,226.59 ,226.577,226.558,226.546,226.533, 226.514,226.501,226.488,226.474,226.454 ,226.44,226.427,226.413,226.392,226.378 ,226.363,226.349,226.334,226.32,226.29, 226.275,226.26,226.236,226.205,226.174, 225.869)
ORBIT_NUMBER = 9665
ORBITAL_ECCENTRICITY = 0.571
ORBITAL_INCLINATION = 86.89
ORBITAL_SEMIMAJOR_AXIS = 8770.18
PERIAPSIS_ALTITUDE = 380.5
PERIAPSIS_ARGUMENT_ANGLE = 109.56
PERIAPSIS_TIME = 2011-07-29T21:53:40.000Z
SPACECRAFT_ORIENTATION = (0.0,-1.0,0.0)
^MEX_ORIENTATION_DESC = "MEX_ORIENTATION_DESC.TXT"
SPACECRAFT_POINTING_MODE = ACROSSTRACK
^MEX_POINTING_DESC = "MEX_POINTING_DESC.TXT"
RIGHT_ASCENSION = -1e+32
DECLINATION = -1e+32
OFFSET_ANGLE = -0.5
SPACECRAFT_SOLAR_DISTANCE = 2.24203e+08
TARGET_NAME = MARS
/* CAMERA DATA ELEMENTS */
DETECTOR_TEMPERATURE = 18.1666
FOCAL_PLANE_TEMPERATURE = 7.5638
INST_CMPRS_NAME = "DISCRETE COSINE TRANSFORMATION (DCT)"
INST_CMPRS_RATIO = 11.8658
INST_CMPRS_QUALITY = 0
INST_CMPRS_QUANTZ_TBL_ID = 0
INSTRUMENT_TEMPERATURE = 11.0301
LENS_TEMPERATURE = 8.1755
MACROPIXEL_SIZE = 4
MISSING_FRAMES = 0
PIXEL_SUBSAMPLING_FLAG = N
SIGNAL_CHAIN_ID = 2
/* RADIOMETRIC DATA ELEMENTS */
BANDWIDTH = 76.0
CENTER_FILTER_WAVELENGTH = 444.0
RADIANCE_OFFSET = 0.839229
RADIANCE_SCALING_FACTOR = 0.00109703
REFLECTANCE_SCALING_FACTOR = 5.66578e-05
MEX:REFLECTANCE_OFFSET = 0.0433432
/* IMAGE OBJECT DEFINITIONS */
OBJECT = IMAGE
  INTERCHANGE_FORMAT = BINARY
  LINES = 12576
  LINE_SAMPLES = 2703
  SAMPLE_TYPE = UNSIGNED_INTEGER
  SAMPLE_BITS = 8
  BANDS = 1
  BAND_STORAGE_TYPE = BAND_SEQUENTIAL
  MAXIMUM = 255
  MEAN = 115.452
  MINIMUM = 1
  STANDARD_DEVIATION = 33.2197
END_OBJECT = IMAGE
/* MAP OBJECT DEFINITIONS */
OBJECT = IMAGE_MAP_PROJECTION
  ^DATA_SET_MAP_PROJECTION_CATALOG= "DSMAP.CAT"
  A_AXIS_RADIUS = 3396.0
  B_AXIS_RADIUS = 3396.0
  C_AXIS_RADIUS = 3396.0
  CENTER_LATITUDE = 0.0
  CENTER_LONGITUDE = 225.0
  COORDINATE_SYSTEM_NAME = PLANETOGRAPHIC
  COORDINATE_SYSTEM_TYPE = "BODY-FIXED ROTATING"
  EASTERNMOST_LONGITUDE = 226.802
  FIRST_STANDARD_PARALLEL = "N/A"
  LINE_FIRST_PIXEL = 1
  LINE_LAST_PIXEL = 12576
  LINE_PROJECTION_OFFSET = 60426.875
  MAP_PROJECTION_ROTATION = 0.0
  MAP_PROJECTION_TYPE = SINUSOIDAL
  MAP_RESOLUTION = 1185.42760773333
  MAP_SCALE = 0.05
  MAXIMUM_LATITUDE = 50.9456
  MINIMUM_LATITUDE = 40.3707
  POSITIVE_LONGITUDE_DIRECTION = EAST
  REFERENCE_LATITUDE = "N/A"
  REFERENCE_LONGITUDE = "N/A"
  SAMPLE_FIRST_PIXEL = 1
  SAMPLE_LAST_PIXEL = 2703
  SAMPLE_PROJECTION_OFFSET = 1081.375
  SECOND_STANDARD_PARALLEL = "N/A"
  WESTERNMOST_LONGITUDE = 223.575
END_OBJECT = IMAGE_MAP_PROJECTION
/* The JPEG2000 image data file associated with this label. */
OBJECT = COMPRESSED_FILE
  FILE_NAME = "H9665_0000_BL3.JP2"
  RECORD_TYPE = UNDEFINED
  FILE_RECORDS = UNK
  ENCODING_TYPE = "JP2"
  INTERCHANGE_FORMAT = BINARY
  UNCOMPRESSED_FILE_NAME = "H9665_0000_BL3.IMG"
  REQUIRED_STORAGE_BYTES = "34014552"
  ^DESCRIPTION = "JP2INFO.TXT"
END_OBJECT = COMPRESSED_FILE
END
