PDS_VERSION_ID = PDS3
/* FILE DATA ELEMENTS */
RECORD_TYPE = STREAM
/* POINTERS TO DATA OBJECTS */
^COMPRESSED_FILE = "H9665_0000_P23.JP2"
/* IDENTIFICATION DATA ELEMENTS */
DATA_SET_ID = "MEX-M-HRSC-5-REFDR-MAPPROJECTED-V3.0"
DATA_SET_NAME = "MARS EXPRESS HRSC MAP PROJECTED REFDR V3.0"
DETECTOR_ID = MEX_HRSC_P2
EVENT_TYPE = "MARS-REGIONAL-MAPPING-Te-Im-Pf"
INSTRUMENT_HOST_ID = MEX
INSTRUMENT_HOST_NAME = "MARS EXPRESS"
INSTRUMENT_ID = HRSC
INSTRUMENT_NAME = "HIGH RESOLUTION STEREO CAMERA"
MISSION_NAME = "MARS EXPRESS"
MISSION_PHASE_NAME = ME_Phase_23
PROCESSING_LEVEL_ID = 3
PRODUCT_CREATION_TIME = 2016-10-27T04:11:22.000Z
PRODUCT_ID = "H9665_0000_P23.JP2"
RELEASE_ID = 0099
REVISION_ID = 0000
/* QUALITY DATA ELEMENTS */
DATA_QUALITY_ID = 1
DATA_QUALITY_DESC = "Data calculated based on original SPICE kernels"
/* TIME DATA ELEMENTS */
SPACECRAFT_CLOCK_START_COUNT = "1/0260056681.07302"
SPACECRAFT_CLOCK_STOP_COUNT = "1/0260056963.46264"
START_TIME = 2011-07-29T21:59:15.225Z
STOP_TIME = 2011-07-29T22:02:21.436Z
/* ORBITAL DATA ELEMENTS */
ASCENDING_NODE_LONGITUDE = 32.72
MAXIMUM_RESOLUTION = 39
FOOTPRINT_POINT_LATITUDE = (50.8945,50.888,50.8805,50.8719,50.8622 ,50.8514,50.7055,50.3184,49.9322, 49.7353,49.5383,49.3416,48.9491,48.6495 ,48.4498,48.2502,48.051,47.747,47.5444, 47.342,47.1401,46.9341,46.7283,46.523, 46.3179,46.1095,45.901,45.6927,45.4847, 45.2734,44.9564,44.7457,44.4248,44.2106 ,43.9971,43.7803,43.5634,43.2387, 43.0187,42.7992,42.5799,42.3573,42.1351 ,41.9131,41.6883,41.4631,41.2383, 41.0104,40.6691,40.4399,40.3977,40.401, 40.4041,40.4055,40.4067,40.4071,40.4068 ,40.6383,40.8667,41.0955,41.3233, 41.5489,41.7754,42.1115,42.3346,42.6692 ,42.8896,43.1104,43.3301,43.5476, 43.7654,44.0911,44.3059,44.521,44.7363, 44.9478,45.16,45.3729,45.584,45.793, 46.0022,46.2119,46.5228,46.7291,46.9355 ,47.2445,47.4475,47.6507,47.8542, 48.1583,48.3582,48.5584,48.759,49.0589, 49.256,49.4531,49.6505,50.0447,50.4327, 50.8945)
FOOTPRINT_POINT_LONGITUDE = (225.917,225.523,225.128,224.731, 224.332,223.931,223.536,223.57,223.604, 223.62,223.637,223.653,223.683,223.706, 223.721,223.735,223.749,223.77,223.784, 223.797,223.81,223.823,223.835,223.848, 223.859,223.871,223.883,223.894,223.905 ,223.915,223.931,223.941,223.955, 223.965,223.973,223.982,223.991,224.003 ,224.011,224.019,224.026,224.034,224.04 ,224.047,224.053,224.06,224.066,224.072 ,224.08,224.084,224.412,224.766,225.253 ,225.656,226.112,226.538,226.867, 226.856,226.845,226.833,226.821,226.81, 226.798,226.78,226.768,226.75,226.738, 226.726,226.713,226.701,226.688,226.669 ,226.656,226.643,226.63,226.617,226.604 ,226.591,226.577,226.564,226.55,226.537 ,226.516,226.502,226.488,226.466, 226.452,226.437,226.423,226.4,226.385, 226.37,226.355,226.332,226.316,226.301, 226.285,226.252,226.22,225.917)
ORBIT_NUMBER = 9665
ORBITAL_ECCENTRICITY = 0.571
ORBITAL_INCLINATION = 86.89
ORBITAL_SEMIMAJOR_AXIS = 8770.18
PERIAPSIS_ALTITUDE = 380.5
PERIAPSIS_ARGUMENT_ANGLE = 109.56
PERIAPSIS_TIME = 2011-07-29T21:53:40.000Z
SPACECRAFT_ORIENTATION = (0.0,-1.0,0.0)
^MEX_ORIENTATION_DESC = "MEX_ORIENTATION_DESC.TXT"
SPACECRAFT_POINTING_MODE = ACROSSTRACK
^MEX_POINTING_DESC = "MEX_POINTING_DESC.TXT"
RIGHT_ASCENSION = -1e+32
DECLINATION = -1e+32
OFFSET_ANGLE = -0.5
SPACECRAFT_SOLAR_DISTANCE = 2.24203e+08
TARGET_NAME = MARS
/* CAMERA DATA ELEMENTS */
DETECTOR_TEMPERATURE = 18.3705
FOCAL_PLANE_TEMPERATURE = 7.5638
INST_CMPRS_NAME = "DISCRETE COSINE TRANSFORMATION (DCT)"
INST_CMPRS_RATIO = 7.29711
INST_CMPRS_QUALITY = 0
INST_CMPRS_QUANTZ_TBL_ID = 0
INSTRUMENT_TEMPERATURE = 11.0301
LENS_TEMPERATURE = 8.1755
MACROPIXEL_SIZE = 2
MISSING_FRAMES = 0
PIXEL_SUBSAMPLING_FLAG = N
SIGNAL_CHAIN_ID = 3
/* RADIOMETRIC DATA ELEMENTS */
BANDWIDTH = 177.0
CENTER_FILTER_WAVELENGTH = 676.5
RADIANCE_OFFSET = 6.23543
RADIANCE_SCALING_FACTOR = 0.0135209
REFLECTANCE_SCALING_FACTOR = 0.000360369
MEX:REFLECTANCE_OFFSET = 0.166191
/* IMAGE OBJECT DEFINITIONS */
OBJECT = IMAGE
  INTERCHANGE_FORMAT = BINARY
  LINES = 25152
  LINE_SAMPLES = 5406
  SAMPLE_TYPE = UNSIGNED_INTEGER
  SAMPLE_BITS = 8
  BANDS = 1
  BAND_STORAGE_TYPE = BAND_SEQUENTIAL
  MAXIMUM = 255
  MEAN = 110.262
  MINIMUM = 1
  STANDARD_DEVIATION = 48.6981
END_OBJECT = IMAGE
/* MAP OBJECT DEFINITIONS */
OBJECT = IMAGE_MAP_PROJECTION
  ^DATA_SET_MAP_PROJECTION_CATALOG= "DSMAP.CAT"
  A_AXIS_RADIUS = 3396.0
  B_AXIS_RADIUS = 3396.0
  C_AXIS_RADIUS = 3396.0
  CENTER_LATITUDE = 0.0
  CENTER_LONGITUDE = 225.0
  COORDINATE_SYSTEM_NAME = PLANETOGRAPHIC
  COORDINATE_SYSTEM_TYPE = "BODY-FIXED ROTATING"
  EASTERNMOST_LONGITUDE = 226.867
  FIRST_STANDARD_PARALLEL = "N/A"
  LINE_FIRST_PIXEL = 1
  LINE_LAST_PIXEL = 25152
  LINE_PROJECTION_OFFSET = 120854.25
  MAP_PROJECTION_ROTATION = 0.0
  MAP_PROJECTION_TYPE = SINUSOIDAL
  MAP_RESOLUTION = 2370.85521546667
  MAP_SCALE = 0.025
  MAXIMUM_LATITUDE = 50.8945
  MINIMUM_LATITUDE = 40.3977
  POSITIVE_LONGITUDE_DIRECTION = EAST
  REFERENCE_LATITUDE = "N/A"
  REFERENCE_LONGITUDE = "N/A"
  SAMPLE_FIRST_PIXEL = 1
  SAMPLE_LAST_PIXEL = 5406
  SAMPLE_PROJECTION_OFFSET = 2163.25
  SECOND_STANDARD_PARALLEL = "N/A"
  WESTERNMOST_LONGITUDE = 223.536
END_OBJECT = IMAGE_MAP_PROJECTION
/* The JPEG2000 image data file associated with this label. */
OBJECT = COMPRESSED_FILE
  FILE_NAME = "H9665_0000_P23.JP2"
  RECORD_TYPE = UNDEFINED
  FILE_RECORDS = UNK
  ENCODING_TYPE = "JP2"
  INTERCHANGE_FORMAT = BINARY
  UNCOMPRESSED_FILE_NAME = "H9665_0000_P23.IMG"
  REQUIRED_STORAGE_BYTES = "135998742"
  ^DESCRIPTION = "JP2INFO.TXT"
END_OBJECT = COMPRESSED_FILE
END
