PDS_VERSION_ID = PDS3
/* FILE DATA ELEMENTS */
RECORD_TYPE = STREAM
/* POINTERS TO DATA OBJECTS */
^COMPRESSED_FILE = "H9673_0000_ND3.JP2"
/* IDENTIFICATION DATA ELEMENTS */
DATA_SET_ID = "MEX-M-HRSC-5-REFDR-MAPPROJECTED-V3.0"
DATA_SET_NAME = "MARS EXPRESS HRSC MAP PROJECTED REFDR V3.0"
DETECTOR_ID = MEX_HRSC_NADIR
EVENT_TYPE = "MARS-REGIONAL-MAPPING-Im-Pf-Eo"
INSTRUMENT_HOST_ID = MEX
INSTRUMENT_HOST_NAME = "MARS EXPRESS"
INSTRUMENT_ID = HRSC
INSTRUMENT_NAME = "HIGH RESOLUTION STEREO CAMERA"
MISSION_NAME = "MARS EXPRESS"
MISSION_PHASE_NAME = ME_Phase_23
PROCESSING_LEVEL_ID = 3
PRODUCT_CREATION_TIME = 2016-10-27T04:11:22.000Z
PRODUCT_ID = "H9673_0000_ND3.JP2"
RELEASE_ID = 0099
REVISION_ID = 0000
/* QUALITY DATA ELEMENTS */
DATA_QUALITY_ID = 1
DATA_QUALITY_DESC = "Data calculated based on original SPICE kernels"
/* TIME DATA ELEMENTS */
SPACECRAFT_CLOCK_START_COUNT = "1/0260258133.07312"
SPACECRAFT_CLOCK_STOP_COUNT = "1/0260258460.03667"
START_TIME = 2011-08-01T05:56:18.188Z
STOP_TIME = 2011-08-01T05:59:51.193Z
/* ORBITAL DATA ELEMENTS */
ASCENDING_NODE_LONGITUDE = 32.57
MAXIMUM_RESOLUTION = 18.6
FOOTPRINT_POINT_LATITUDE = (51.7397,51.7265,51.7164,51.7019, 51.6836,51.5564,51.0997,50.644,50.2956, 50.0632,49.831,49.599,49.2448,49.0083, 48.7721,48.5361,48.2954,48.0547,47.8144 ,47.5744,47.3297,46.963,46.7189,46.3472 ,46.0988,45.8507,45.4733,45.221,44.969, 44.7135,44.4572,44.2013,43.9426,43.6824 ,43.4226,43.16,42.896,42.6325,42.3657, 42.098,41.6951,41.4236,41.1526,40.8777, 40.4654,40.1869,39.7692,39.4869,39.0645 ,39.0734,39.0786,39.0833,39.0882, 39.0909,39.2339,39.5172,39.8007,40.2199 ,40.4995,40.9133,41.1893,41.4613, 41.7338,42.1383,42.407,42.6747,42.9392, 43.2042,43.4677,43.7284,43.9895,44.2492 ,44.506,44.7632,45.0197,45.2725,45.5257 ,45.9045,46.1534,46.4027,46.7757, 47.0207,47.2659,47.5115,47.8751,48.1162 ,48.3577,48.5993,48.8361,49.0732, 49.3105,49.666,49.8987,50.1317,50.365, 50.7146,50.9432,51.172,51.401,51.7397)
FOOTPRINT_POINT_LONGITUDE = (128.271,127.697,127.322,126.849, 126.325,125.949,125.985,126.019,126.044 ,126.06,126.076,126.091,126.114,126.128 ,126.143,126.156,126.17,126.183,126.196 ,126.209,126.221,126.239,126.25,126.267 ,126.278,126.288,126.303,126.312, 126.321,126.33,126.338,126.346,126.354, 126.362,126.369,126.376,126.383,126.389 ,126.395,126.4,126.408,126.413,126.417, 126.422,126.427,126.431,126.435,126.438 ,126.657,127.117,127.442,127.793, 128.307,128.848,129.182,129.172,129.163 ,129.148,129.139,129.124,129.114, 129.104,129.094,129.079,129.068,129.058 ,129.047,129.036,129.025,129.014, 129.003,128.991,128.98,128.969,128.957, 128.945,128.933,128.915,128.903,128.891 ,128.872,128.859,128.846,128.833, 128.813,128.8,128.786,128.772,128.759, 128.744,128.73,128.708,128.694,128.679, 128.664,128.641,128.626,128.61,128.595, 128.271)
ORBIT_NUMBER = 9673
ORBITAL_ECCENTRICITY = 0.571
ORBITAL_INCLINATION = 86.88
ORBITAL_SEMIMAJOR_AXIS = 8772.5
PERIAPSIS_ALTITUDE = 381.98
PERIAPSIS_ARGUMENT_ANGLE = 108.19
PERIAPSIS_TIME = 2011-08-01T05:51:02.000Z
SPACECRAFT_ORIENTATION = (0.0,-1.0,0.0)
^MEX_ORIENTATION_DESC = "MEX_ORIENTATION_DESC.TXT"
SPACECRAFT_POINTING_MODE = NADIR
^MEX_POINTING_DESC = "MEX_POINTING_DESC.TXT"
RIGHT_ASCENSION = -1e+32
DECLINATION = -1e+32
OFFSET_ANGLE = -1e+32
SPACECRAFT_SOLAR_DISTANCE = 2.24658e+08
TARGET_NAME = MARS
/* CAMERA DATA ELEMENTS */
DETECTOR_TEMPERATURE = 18.1666
FOCAL_PLANE_TEMPERATURE = 7.9716
INST_CMPRS_NAME = "DISCRETE COSINE TRANSFORMATION (DCT)"
INST_CMPRS_RATIO = 7.43467
INST_CMPRS_QUALITY = 0
INST_CMPRS_QUANTZ_TBL_ID = 0
INSTRUMENT_TEMPERATURE = 12.6613
LENS_TEMPERATURE = 8.3794
MACROPIXEL_SIZE = 1
MISSING_FRAMES = 0
PIXEL_SUBSAMPLING_FLAG = N
SIGNAL_CHAIN_ID = 0
/* RADIOMETRIC DATA ELEMENTS */
BANDWIDTH = 177.0
CENTER_FILTER_WAVELENGTH = 677.5
RADIANCE_OFFSET = 5.11882
RADIANCE_SCALING_FACTOR = 0.0145535
REFLECTANCE_SCALING_FACTOR = 0.000390208
MEX:REFLECTANCE_OFFSET = 0.137246
/* IMAGE OBJECT DEFINITIONS */
OBJECT = IMAGE
  INTERCHANGE_FORMAT = BINARY
  LINES = 60153
  LINE_SAMPLES = 10496
  SAMPLE_TYPE = UNSIGNED_INTEGER
  SAMPLE_BITS = 8
  BANDS = 1
  BAND_STORAGE_TYPE = BAND_SEQUENTIAL
  MAXIMUM = 254
  MEAN = 129.772
  MINIMUM = 1
  STANDARD_DEVIATION = 55.5797
END_OBJECT = IMAGE
/* MAP OBJECT DEFINITIONS */
OBJECT = IMAGE_MAP_PROJECTION
  ^DATA_SET_MAP_PROJECTION_CATALOG= "DSMAP.CAT"
  A_AXIS_RADIUS = 3396.0
  B_AXIS_RADIUS = 3396.0
  C_AXIS_RADIUS = 3396.0
  CENTER_LATITUDE = 0.0
  CENTER_LONGITUDE = 128.0
  COORDINATE_SYSTEM_NAME = PLANETOGRAPHIC
  COORDINATE_SYSTEM_TYPE = "BODY-FIXED ROTATING"
  EASTERNMOST_LONGITUDE = 129.182
  FIRST_STANDARD_PARALLEL = "N/A"
  LINE_FIRST_PIXEL = 1
  LINE_LAST_PIXEL = 60153
  LINE_PROJECTION_OFFSET = 245358.0
  MAP_PROJECTION_ROTATION = 0.0
  MAP_PROJECTION_TYPE = SINUSOIDAL
  MAP_RESOLUTION = 4741.71043093333
  MAP_SCALE = 0.0125
  MAXIMUM_LATITUDE = 51.7397
  MINIMUM_LATITUDE = 39.0645
  POSITIVE_LONGITUDE_DIRECTION = EAST
  REFERENCE_LATITUDE = "N/A"
  REFERENCE_LONGITUDE = "N/A"
  SAMPLE_FIRST_PIXEL = 1
  SAMPLE_LAST_PIXEL = 10496
  SAMPLE_PROJECTION_OFFSET = 6104.0
  SECOND_STANDARD_PARALLEL = "N/A"
  WESTERNMOST_LONGITUDE = 125.949
END_OBJECT = IMAGE_MAP_PROJECTION
/* The JPEG2000 image data file associated with this label. */
OBJECT = COMPRESSED_FILE
  FILE_NAME = "H9673_0000_ND3.JP2"
  RECORD_TYPE = UNDEFINED
  FILE_RECORDS = UNK
  ENCODING_TYPE = "JP2"
  INTERCHANGE_FORMAT = BINARY
  UNCOMPRESSED_FILE_NAME = "H9673_0000_ND3.IMG"
  REQUIRED_STORAGE_BYTES = "631397376"
  ^DESCRIPTION = "JP2INFO.TXT"
END_OBJECT = COMPRESSED_FILE
END
