PDS_VERSION_ID = PDS3
/* FILE DATA ELEMENTS */
RECORD_TYPE = STREAM
/* POINTERS TO DATA OBJECTS */
^COMPRESSED_FILE = "H9673_0000_P13.JP2"
/* IDENTIFICATION DATA ELEMENTS */
DATA_SET_ID = "MEX-M-HRSC-5-REFDR-MAPPROJECTED-V3.0"
DATA_SET_NAME = "MARS EXPRESS HRSC MAP PROJECTED REFDR V3.0"
DETECTOR_ID = MEX_HRSC_P1
EVENT_TYPE = "MARS-REGIONAL-MAPPING-Im-Pf-Eo"
INSTRUMENT_HOST_ID = MEX
INSTRUMENT_HOST_NAME = "MARS EXPRESS"
INSTRUMENT_ID = HRSC
INSTRUMENT_NAME = "HIGH RESOLUTION STEREO CAMERA"
MISSION_NAME = "MARS EXPRESS"
MISSION_PHASE_NAME = ME_Phase_23
PROCESSING_LEVEL_ID = 3
PRODUCT_CREATION_TIME = 2016-10-27T04:11:22.000Z
PRODUCT_ID = "H9673_0000_P13.JP2"
RELEASE_ID = 0099
REVISION_ID = 0000
/* QUALITY DATA ELEMENTS */
DATA_QUALITY_ID = 1
DATA_QUALITY_DESC = "Data calculated based on original SPICE kernels"
/* TIME DATA ELEMENTS */
SPACECRAFT_CLOCK_START_COUNT = "1/0260258133.07312"
SPACECRAFT_CLOCK_STOP_COUNT = "1/0260258460.03667"
START_TIME = 2011-08-01T05:55:50.316Z
STOP_TIME = 2011-08-01T05:59:12.662Z
/* ORBITAL DATA ELEMENTS */
ASCENDING_NODE_LONGITUDE = 32.57
MAXIMUM_RESOLUTION = 37.1
FOOTPRINT_POINT_LATITUDE = (51.7942,51.7877,51.7695,51.7512, 51.7376,51.5429,51.3188,51.0907,50.861, 50.6315,50.2875,50.0586,49.7091,49.3579 ,49.1238,48.8898,48.6529,48.4139, 48.1752,47.9367,47.5764,47.3329,47.0896 ,46.7249,46.4787,46.2306,45.9827,45.735 ,45.358,45.1054,44.7268,44.3418,43.9514 ,43.6937,43.4322,43.171,42.9099,42.5116 ,42.2459,41.8441,41.5738,41.3036,40.893 ,40.6189,40.3434,40.0648,39.6471, 39.3639,39.0811,39.0699,39.078,39.0832, 39.0889,39.0916,39.0935,39.3774,39.8016 ,40.0812,40.5001,40.7752,41.0508,41.325 ,41.5958,41.867,42.2704,42.6701,42.9367 ,43.1986,43.4609,43.7234,43.9827, 44.3743,44.7607,45.0135,45.2667,45.52, 45.7718,46.0204,46.2692,46.518,46.7655, 47.0093,47.3755,47.62,47.8623,48.1016, 48.4609,48.7006,48.9386,49.1734,49.4085 ,49.6434,49.8785,50.1121,50.4571, 50.8022,51.0323,51.3767,51.6017, 51.7942)
FOOTPRINT_POINT_LONGITUDE = (128.247,127.962,127.295,126.749, 126.393,125.996,126.014,126.032,126.05, 126.067,126.093,126.109,126.133,126.157 ,126.172,126.187,126.201,126.215, 126.229,126.243,126.262,126.275,126.288 ,126.306,126.317,126.329,126.34,126.35, 126.366,126.376,126.39,126.403,126.416, 126.425,126.433,126.44,126.448,126.458, 126.464,126.473,126.479,126.484,126.492 ,126.497,126.501,126.505,126.511, 126.514,126.517,127.122,127.526,127.829 ,128.308,128.738,129.126,129.118, 129.105,129.096,129.082,129.073,129.064 ,129.055,129.046,129.036,129.021, 129.007,128.997,128.986,128.976,128.966 ,128.955,128.939,128.922,128.911,128.9, 128.889,128.877,128.866,128.854,128.842 ,128.83,128.818,128.799,128.787,128.774 ,128.761,128.741,128.728,128.715, 128.701,128.687,128.673,128.659,128.645 ,128.623,128.601,128.586,128.563, 128.548,128.247)
ORBIT_NUMBER = 9673
ORBITAL_ECCENTRICITY = 0.571
ORBITAL_INCLINATION = 86.88
ORBITAL_SEMIMAJOR_AXIS = 8772.5
PERIAPSIS_ALTITUDE = 381.98
PERIAPSIS_ARGUMENT_ANGLE = 108.19
PERIAPSIS_TIME = 2011-08-01T05:51:02.000Z
SPACECRAFT_ORIENTATION = (0.0,-1.0,0.0)
^MEX_ORIENTATION_DESC = "MEX_ORIENTATION_DESC.TXT"
SPACECRAFT_POINTING_MODE = NADIR
^MEX_POINTING_DESC = "MEX_POINTING_DESC.TXT"
RIGHT_ASCENSION = -1e+32
DECLINATION = -1e+32
OFFSET_ANGLE = -1e+32
SPACECRAFT_SOLAR_DISTANCE = 2.24658e+08
TARGET_NAME = MARS
/* CAMERA DATA ELEMENTS */
DETECTOR_TEMPERATURE = 17.351
FOCAL_PLANE_TEMPERATURE = 7.9716
INST_CMPRS_NAME = "DISCRETE COSINE TRANSFORMATION (DCT)"
INST_CMPRS_RATIO = 16.9998
INST_CMPRS_QUALITY = 0
INST_CMPRS_QUANTZ_TBL_ID = 0
INSTRUMENT_TEMPERATURE = 12.6613
LENS_TEMPERATURE = 8.3794
MACROPIXEL_SIZE = 2
MISSING_FRAMES = 1
PIXEL_SUBSAMPLING_FLAG = N
SIGNAL_CHAIN_ID = 3
/* RADIOMETRIC DATA ELEMENTS */
BANDWIDTH = 174.0
CENTER_FILTER_WAVELENGTH = 675.0
RADIANCE_OFFSET = 5.73132
RADIANCE_SCALING_FACTOR = 0.0118509
REFLECTANCE_SCALING_FACTOR = 0.000321723
MEX:REFLECTANCE_OFFSET = 0.155592
/* IMAGE OBJECT DEFINITIONS */
OBJECT = IMAGE
  INTERCHANGE_FORMAT = BINARY
  LINES = 30077
  LINE_SAMPLES = 5248
  SAMPLE_TYPE = UNSIGNED_INTEGER
  SAMPLE_BITS = 8
  BANDS = 1
  BAND_STORAGE_TYPE = BAND_SEQUENTIAL
  MAXIMUM = 255
  MEAN = 128.886
  MINIMUM = 1
  STANDARD_DEVIATION = 60.6639
END_OBJECT = IMAGE
/* MAP OBJECT DEFINITIONS */
OBJECT = IMAGE_MAP_PROJECTION
  ^DATA_SET_MAP_PROJECTION_CATALOG= "DSMAP.CAT"
  A_AXIS_RADIUS = 3396.0
  B_AXIS_RADIUS = 3396.0
  C_AXIS_RADIUS = 3396.0
  CENTER_LATITUDE = 0.0
  CENTER_LONGITUDE = 128.0
  COORDINATE_SYSTEM_NAME = PLANETOGRAPHIC
  COORDINATE_SYSTEM_TYPE = "BODY-FIXED ROTATING"
  EASTERNMOST_LONGITUDE = 129.126
  FIRST_STANDARD_PARALLEL = "N/A"
  LINE_FIRST_PIXEL = 1
  LINE_LAST_PIXEL = 30077
  LINE_PROJECTION_OFFSET = 122678.75
  MAP_PROJECTION_ROTATION = 0.0
  MAP_PROJECTION_TYPE = SINUSOIDAL
  MAP_RESOLUTION = 2370.85521546667
  MAP_SCALE = 0.025
  MAXIMUM_LATITUDE = 51.7942
  MINIMUM_LATITUDE = 39.0699
  POSITIVE_LONGITUDE_DIRECTION = EAST
  REFERENCE_LATITUDE = "N/A"
  REFERENCE_LONGITUDE = "N/A"
  SAMPLE_FIRST_PIXEL = 1
  SAMPLE_LAST_PIXEL = 5248
  SAMPLE_PROJECTION_OFFSET = 3051.75
  SECOND_STANDARD_PARALLEL = "N/A"
  WESTERNMOST_LONGITUDE = 125.996
END_OBJECT = IMAGE_MAP_PROJECTION
/* The JPEG2000 image data file associated with this label. */
OBJECT = COMPRESSED_FILE
  FILE_NAME = "H9673_0000_P13.JP2"
  RECORD_TYPE = UNDEFINED
  FILE_RECORDS = UNK
  ENCODING_TYPE = "JP2"
  INTERCHANGE_FORMAT = BINARY
  UNCOMPRESSED_FILE_NAME = "H9673_0000_P13.IMG"
  REQUIRED_STORAGE_BYTES = "157870336"
  ^DESCRIPTION = "JP2INFO.TXT"
END_OBJECT = COMPRESSED_FILE
END
