PDS_VERSION_ID = PDS3
/* FILE DATA ELEMENTS */
RECORD_TYPE = STREAM
/* POINTERS TO DATA OBJECTS */
^COMPRESSED_FILE = "H9683_0000_ND3.JP2"
/* IDENTIFICATION DATA ELEMENTS */
DATA_SET_ID = "MEX-M-HRSC-5-REFDR-MAPPROJECTED-V3.0"
DATA_SET_NAME = "MARS EXPRESS HRSC MAP PROJECTED REFDR V3.0"
DETECTOR_ID = MEX_HRSC_NADIR
EVENT_TYPE = "MARS-REGIONAL-MAPPING-Te-Im-Pf"
INSTRUMENT_HOST_ID = MEX
INSTRUMENT_HOST_NAME = "MARS EXPRESS"
INSTRUMENT_ID = HRSC
INSTRUMENT_NAME = "HIGH RESOLUTION STEREO CAMERA"
MISSION_NAME = "MARS EXPRESS"
MISSION_PHASE_NAME = ME_Phase_23
PROCESSING_LEVEL_ID = 3
PRODUCT_CREATION_TIME = 2016-10-27T04:11:22.000Z
PRODUCT_ID = "H9683_0000_ND3.JP2"
RELEASE_ID = 0099
REVISION_ID = 0000
/* QUALITY DATA ELEMENTS */
DATA_QUALITY_ID = 1
DATA_QUALITY_DESC = "Data calculated based on original SPICE kernels"
/* TIME DATA ELEMENTS */
SPACECRAFT_CLOCK_START_COUNT = "1/0260509880.08245"
SPACECRAFT_CLOCK_STOP_COUNT = "1/0260510151.14664"
START_TIME = 2011-08-04T03:52:02.462Z
STOP_TIME = 2011-08-04T03:54:54.458Z
/* ORBITAL DATA ELEMENTS */
ASCENDING_NODE_LONGITUDE = 32.37
MAXIMUM_RESOLUTION = 17.6
FOOTPRINT_POINT_LATITUDE = (56.8943,56.8796,56.8613,56.8435, 56.8229,56.5157,56.1315,55.936,55.7394, 55.5429,55.3466,55.1504,54.9544,54.7585 ,54.5582,54.3578,54.1576,53.9576, 53.7577,53.558,53.2525,53.0485,52.8447, 52.641,52.4376,52.1271,51.9193,51.7118, 51.5045,51.1915,50.98,50.7687,50.5576, 50.3468,50.0254,49.8105,49.5958,49.3813 ,49.0549,48.8364,48.6181,48.4001, 48.1783,47.9562,47.7343,47.5128,47.2873 ,46.949,46.7239,46.389,46.4053,46.4237, 46.434,46.4426,46.5666,46.7953,47.0213, 47.3608,47.5872,47.8095,48.0322,48.2551 ,48.4778,48.6966,48.9157,49.135,49.4626 ,49.6779,49.8935,50.1092,50.4318, 50.6435,50.8553,51.0674,51.2798,51.5939 ,51.8021,52.0104,52.2189,52.5307, 52.7349,52.9394,53.1441,53.3489,53.6556 ,53.8561,54.0568,54.2577,54.4587, 54.6599,54.8611,55.0578,55.2546,55.4517 ,55.6488,55.8461,56.0436,56.2399, 56.6259,56.8943)
FOOTPRINT_POINT_LONGITUDE = (184.105,183.68,183.202,182.776,182.322 ,181.945,181.999,182.026,182.053, 182.079,182.105,182.13,182.155,182.179, 182.203,182.227,182.251,182.274,182.296 ,182.318,182.351,182.373,182.394, 182.414,182.434,182.464,182.484,182.503 ,182.522,182.549,182.567,182.585, 182.602,182.619,182.644,182.66,182.676, 182.691,182.714,182.729,182.744,182.758 ,182.772,182.785,182.799,182.811, 182.824,182.843,182.855,183.061,183.548 ,184.194,184.623,185.052,185.593,185.58 ,185.566,185.545,185.531,185.517, 185.503,185.488,185.473,185.459,185.444 ,185.429,185.406,185.391,185.375, 185.359,185.335,185.319,185.303,185.286 ,185.27,185.244,185.227,185.21,185.193, 185.166,185.148,185.13,185.112,185.094, 185.065,185.047,185.028,185.008,184.989 ,184.969,184.948,184.928,184.908, 184.888,184.867,184.846,184.824,184.803 ,184.759,184.105)
ORBIT_NUMBER = 9683
ORBITAL_ECCENTRICITY = 0.571
ORBITAL_INCLINATION = 86.88
ORBITAL_SEMIMAJOR_AXIS = 8768.18
PERIAPSIS_ALTITUDE = 382.76
PERIAPSIS_ARGUMENT_ANGLE = 106.48
PERIAPSIS_TIME = 2011-08-04T03:47:43.000Z
SPACECRAFT_ORIENTATION = (0.0,-1.0,0.0)
^MEX_ORIENTATION_DESC = "MEX_ORIENTATION_DESC.TXT"
SPACECRAFT_POINTING_MODE = ACROSSTRACK
^MEX_POINTING_DESC = "MEX_POINTING_DESC.TXT"
RIGHT_ASCENSION = -1e+32
DECLINATION = -1e+32
OFFSET_ANGLE = -0.269
SPACECRAFT_SOLAR_DISTANCE = 2.25228e+08
TARGET_NAME = MARS
/* CAMERA DATA ELEMENTS */
DETECTOR_TEMPERATURE = 18.3705
FOCAL_PLANE_TEMPERATURE = 7.9716
INST_CMPRS_NAME = "DISCRETE COSINE TRANSFORMATION (DCT)"
INST_CMPRS_RATIO = 6.55925
INST_CMPRS_QUALITY = 0
INST_CMPRS_QUANTZ_TBL_ID = 0
INSTRUMENT_TEMPERATURE = 11.0301
LENS_TEMPERATURE = 8.3794
MACROPIXEL_SIZE = 1
MISSING_FRAMES = 0
PIXEL_SUBSAMPLING_FLAG = N
SIGNAL_CHAIN_ID = 0
/* RADIOMETRIC DATA ELEMENTS */
BANDWIDTH = 177.0
CENTER_FILTER_WAVELENGTH = 677.5
RADIANCE_OFFSET = 4.0038
RADIANCE_SCALING_FACTOR = 0.0157012
REFLECTANCE_SCALING_FACTOR = 0.000423118
MEX:REFLECTANCE_OFFSET = 0.107895
/* IMAGE OBJECT DEFINITIONS */
OBJECT = IMAGE
  INTERCHANGE_FORMAT = BINARY
  LINES = 49928
  LINE_SAMPLES = 10689
  SAMPLE_TYPE = UNSIGNED_INTEGER
  SAMPLE_BITS = 8
  BANDS = 1
  BAND_STORAGE_TYPE = BAND_SEQUENTIAL
  MAXIMUM = 254
  MEAN = 134.809
  MINIMUM = 1
  STANDARD_DEVIATION = 66.3075
END_OBJECT = IMAGE
/* MAP OBJECT DEFINITIONS */
OBJECT = IMAGE_MAP_PROJECTION
  ^DATA_SET_MAP_PROJECTION_CATALOG= "DSMAP.CAT"
  A_AXIS_RADIUS = 3396.0
  B_AXIS_RADIUS = 3396.0
  C_AXIS_RADIUS = 3396.0
  CENTER_LATITUDE = 0.0
  CENTER_LONGITUDE = 184.0
  COORDINATE_SYSTEM_NAME = PLANETOGRAPHIC
  COORDINATE_SYSTEM_TYPE = "BODY-FIXED ROTATING"
  EASTERNMOST_LONGITUDE = 185.593
  FIRST_STANDARD_PARALLEL = "N/A"
  LINE_FIRST_PIXEL = 1
  LINE_LAST_PIXEL = 49928
  LINE_PROJECTION_OFFSET = 269860.0
  MAP_PROJECTION_ROTATION = 0.0
  MAP_PROJECTION_TYPE = SINUSOIDAL
  MAP_RESOLUTION = 4741.71043093333
  MAP_SCALE = 0.0125
  MAXIMUM_LATITUDE = 56.8943
  MINIMUM_LATITUDE = 46.389
  POSITIVE_LONGITUDE_DIRECTION = EAST
  REFERENCE_LATITUDE = "N/A"
  REFERENCE_LONGITUDE = "N/A"
  SAMPLE_FIRST_PIXEL = 1
  SAMPLE_LAST_PIXEL = 10689
  SAMPLE_PROJECTION_OFFSET = 5426.0
  SECOND_STANDARD_PARALLEL = "N/A"
  WESTERNMOST_LONGITUDE = 181.945
END_OBJECT = IMAGE_MAP_PROJECTION
/* The JPEG2000 image data file associated with this label. */
OBJECT = COMPRESSED_FILE
  FILE_NAME = "H9683_0000_ND3.JP2"
  RECORD_TYPE = UNDEFINED
  FILE_RECORDS = UNK
  ENCODING_TYPE = "JP2"
  INTERCHANGE_FORMAT = BINARY
  UNCOMPRESSED_FILE_NAME = "H9683_0000_ND3.IMG"
  REQUIRED_STORAGE_BYTES = "533712459"
  ^DESCRIPTION = "JP2INFO.TXT"
END_OBJECT = COMPRESSED_FILE
END
