PDS_VERSION_ID = PDS3
/* FILE DATA ELEMENTS */
RECORD_TYPE = STREAM
/* POINTERS TO DATA OBJECTS */
^COMPRESSED_FILE = "H9692_0000_IR3.JP2"
/* IDENTIFICATION DATA ELEMENTS */
DATA_SET_ID = "MEX-M-HRSC-5-REFDR-MAPPROJECTED-V3.0"
DATA_SET_NAME = "MARS EXPRESS HRSC MAP PROJECTED REFDR V3.0"
DETECTOR_ID = MEX_HRSC_IR
EVENT_TYPE = "MARS-REGIONAL-MAPPING-Im-Pf-Eo"
INSTRUMENT_HOST_ID = MEX
INSTRUMENT_HOST_NAME = "MARS EXPRESS"
INSTRUMENT_ID = HRSC
INSTRUMENT_NAME = "HIGH RESOLUTION STEREO CAMERA"
MISSION_NAME = "MARS EXPRESS"
MISSION_PHASE_NAME = ME_Phase_23
PROCESSING_LEVEL_ID = 3
PRODUCT_CREATION_TIME = 2016-10-27T04:11:22.000Z
PRODUCT_ID = "H9692_0000_IR3.JP2"
RELEASE_ID = 0099
REVISION_ID = 0000
/* QUALITY DATA ELEMENTS */
DATA_QUALITY_ID = 1
DATA_QUALITY_DESC = "Data calculated based on original SPICE kernels"
/* TIME DATA ELEMENTS */
SPACECRAFT_CLOCK_START_COUNT = "1/0260736484.08226"
SPACECRAFT_CLOCK_STOP_COUNT = "1/0260736783.11536"
START_TIME = 2011-08-06T18:48:13.866Z
STOP_TIME = 2011-08-06T18:51:23.377Z
/* ORBITAL DATA ELEMENTS */
ASCENDING_NODE_LONGITUDE = 32.21
MAXIMUM_RESOLUTION = 70.6
FOOTPRINT_POINT_LATITUDE = (59.5264,59.5058,59.4849,59.443,59.2178 ,59.0011,58.7842,58.5617,58.3394,58.117 ,57.8948,57.6725,57.4501,57.228,56.8893 ,56.6617,56.3204,55.9791,55.6381, 55.2896,55.0568,54.8236,54.5911,54.3576 ,54.1226,53.8852,53.5288,53.2909, 53.0534,52.8129,52.5695,52.3264,52.0838 ,51.841,51.5952,51.3471,50.9752,50.7275 ,50.4765,50.0972,49.8443,49.5917, 49.3345,49.0766,48.819,48.5616,48.168, 47.9055,47.6432,47.3773,47.2718,47.2867 ,47.3014,47.3155,47.3228,47.728,48.123, 48.3861,48.6484,48.9068,49.1653,49.4241 ,49.6818,49.9355,50.1889,50.4426, 50.6965,51.0695,51.3182,51.5668,51.9384 ,52.182,52.4257,52.6695,52.9135,53.2739 ,53.5126,53.751,53.9898,54.2292,54.4647 ,54.6981,55.0484,55.2821,55.516,55.8628 ,56.091,56.3187,56.6624,57.0053,57.234, 57.4566,57.68,57.9031,58.238,58.5728, 58.7961,59.0168,59.2344,59.5264)
FOOTPRINT_POINT_LONGITUDE = (343.891,343.271,342.729,341.802, 341.479,341.515,341.55,341.586,341.62, 341.654,341.688,341.72,341.752,341.783, 341.83,341.86,341.904,341.947,341.988, 342.029,342.056,342.082,342.107,342.132 ,342.156,342.181,342.217,342.239, 342.262,342.284,342.306,342.327,342.348 ,342.368,342.388,342.407,342.436, 342.454,342.472,342.498,342.515,342.532 ,342.548,342.564,342.579,342.594, 342.616,342.63,342.644,342.657,343.059, 343.507,344.004,344.652,345.1,345.312, 345.291,345.277,345.262,345.248,345.233 ,345.218,345.203,345.187,345.172, 345.156,345.14,345.116,345.099,345.083, 345.057,345.04,345.022,345.004,344.986, 344.959,344.94,344.922,344.903,344.883, 344.864,344.844,344.814,344.793,344.772 ,344.741,344.72,344.698,344.664,344.63, 344.607,344.585,344.561,344.537,344.501 ,344.463,344.438,344.412,344.387, 343.891)
ORBIT_NUMBER = 9692
ORBITAL_ECCENTRICITY = 0.571
ORBITAL_INCLINATION = 86.89
ORBITAL_SEMIMAJOR_AXIS = 8767.17
PERIAPSIS_ALTITUDE = 383.02
PERIAPSIS_ARGUMENT_ANGLE = 104.9
PERIAPSIS_TIME = 2011-08-06T18:44:42.000Z
SPACECRAFT_ORIENTATION = (0.0,-1.0,0.0)
^MEX_ORIENTATION_DESC = "MEX_ORIENTATION_DESC.TXT"
SPACECRAFT_POINTING_MODE = NADIR
^MEX_POINTING_DESC = "MEX_POINTING_DESC.TXT"
RIGHT_ASCENSION = -1e+32
DECLINATION = -1e+32
OFFSET_ANGLE = -1e+32
SPACECRAFT_SOLAR_DISTANCE = 2.25741e+08
TARGET_NAME = MARS
/* CAMERA DATA ELEMENTS */
DETECTOR_TEMPERATURE = 17.1471
FOCAL_PLANE_TEMPERATURE = 7.9716
INST_CMPRS_NAME = "DISCRETE COSINE TRANSFORMATION (DCT)"
INST_CMPRS_RATIO = 12.516
INST_CMPRS_QUALITY = 0
INST_CMPRS_QUANTZ_TBL_ID = 0
INSTRUMENT_TEMPERATURE = 11.0301
LENS_TEMPERATURE = 8.3794
MACROPIXEL_SIZE = 4
MISSING_FRAMES = 0
PIXEL_SUBSAMPLING_FLAG = N
SIGNAL_CHAIN_ID = 2
/* RADIOMETRIC DATA ELEMENTS */
BANDWIDTH = 81.0
CENTER_FILTER_WAVELENGTH = 955.5
RADIANCE_OFFSET = 1.11189
RADIANCE_SCALING_FACTOR = 0.00292288
REFLECTANCE_SCALING_FACTOR = 0.000321336
MEX:REFLECTANCE_OFFSET = 0.122239
/* IMAGE OBJECT DEFINITIONS */
OBJECT = IMAGE
  INTERCHANGE_FORMAT = BINARY
  LINES = 14437
  LINE_SAMPLES = 2683
  SAMPLE_TYPE = UNSIGNED_INTEGER
  SAMPLE_BITS = 8
  BANDS = 1
  BAND_STORAGE_TYPE = BAND_SEQUENTIAL
  MAXIMUM = 255
  MEAN = 122.007
  MINIMUM = 1
  STANDARD_DEVIATION = 61.8697
END_OBJECT = IMAGE
/* MAP OBJECT DEFINITIONS */
OBJECT = IMAGE_MAP_PROJECTION
  ^DATA_SET_MAP_PROJECTION_CATALOG= "DSMAP.CAT"
  A_AXIS_RADIUS = 3396.0
  B_AXIS_RADIUS = 3396.0
  C_AXIS_RADIUS = 3396.0
  CENTER_LATITUDE = 0.0
  CENTER_LONGITUDE = 344.0
  COORDINATE_SYSTEM_NAME = PLANETOGRAPHIC
  COORDINATE_SYSTEM_TYPE = "BODY-FIXED ROTATING"
  EASTERNMOST_LONGITUDE = 345.312
  FIRST_STANDARD_PARALLEL = "N/A"
  LINE_FIRST_PIXEL = 1
  LINE_LAST_PIXEL = 14437
  LINE_PROJECTION_OFFSET = 70490.375
  MAP_PROJECTION_ROTATION = 0.0
  MAP_PROJECTION_TYPE = SINUSOIDAL
  MAP_RESOLUTION = 1185.42760773333
  MAP_SCALE = 0.05
  MAXIMUM_LATITUDE = 59.5264
  MINIMUM_LATITUDE = 47.2718
  POSITIVE_LONGITUDE_DIRECTION = EAST
  REFERENCE_LATITUDE = "N/A"
  REFERENCE_LONGITUDE = "N/A"
  SAMPLE_FIRST_PIXEL = 1
  SAMPLE_LAST_PIXEL = 2683
  SAMPLE_PROJECTION_OFFSET = 1560.875
  SECOND_STANDARD_PARALLEL = "N/A"
  WESTERNMOST_LONGITUDE = 341.479
END_OBJECT = IMAGE_MAP_PROJECTION
/* The JPEG2000 image data file associated with this label. */
OBJECT = COMPRESSED_FILE
  FILE_NAME = "H9692_0000_IR3.JP2"
  RECORD_TYPE = UNDEFINED
  FILE_RECORDS = UNK
  ENCODING_TYPE = "JP2"
  INTERCHANGE_FORMAT = BINARY
  UNCOMPRESSED_FILE_NAME = "H9692_0000_IR3.IMG"
  REQUIRED_STORAGE_BYTES = "38755935"
  ^DESCRIPTION = "JP2INFO.TXT"
END_OBJECT = COMPRESSED_FILE
END
