PDS_VERSION_ID = PDS3
/* FILE DATA ELEMENTS */
RECORD_TYPE = STREAM
/* POINTERS TO DATA OBJECTS */
^COMPRESSED_FILE = "H9694_0000_RE3.JP2"
/* IDENTIFICATION DATA ELEMENTS */
DATA_SET_ID = "MEX-M-HRSC-5-REFDR-MAPPROJECTED-V3.0"
DATA_SET_NAME = "MARS EXPRESS HRSC MAP PROJECTED REFDR V3.0"
DETECTOR_ID = MEX_HRSC_RED
EVENT_TYPE = "MARS-REGIONAL-MAPPING-Im-Pf-Eo"
INSTRUMENT_HOST_ID = MEX
INSTRUMENT_HOST_NAME = "MARS EXPRESS"
INSTRUMENT_ID = HRSC
INSTRUMENT_NAME = "HIGH RESOLUTION STEREO CAMERA"
MISSION_NAME = "MARS EXPRESS"
MISSION_PHASE_NAME = ME_Phase_23
PROCESSING_LEVEL_ID = 3
PRODUCT_CREATION_TIME = 2016-10-27T04:11:22.000Z
PRODUCT_ID = "H9694_0000_RE3.JP2"
RELEASE_ID = 0099
REVISION_ID = 0000
/* QUALITY DATA ELEMENTS */
DATA_QUALITY_ID = 1
DATA_QUALITY_DESC = "Data calculated based on original SPICE kernels"
/* TIME DATA ELEMENTS */
SPACECRAFT_CLOCK_START_COUNT = "1/0260786955.08384"
SPACECRAFT_CLOCK_STOP_COUNT = "1/0260787250.64705"
START_TIME = 2011-08-07T08:50:44.114Z
STOP_TIME = 2011-08-07T08:53:58.229Z
/* ORBITAL DATA ELEMENTS */
ASCENDING_NODE_LONGITUDE = 32.17
MAXIMUM_RESOLUTION = 86.7
FOOTPRINT_POINT_LATITUDE = (52.6591,52.6486,52.6399,52.6182, 52.6029,52.4811,52.1026,51.7178,51.3339 ,51.1392,50.9442,50.5552,50.3583, 50.1608,49.9636,49.7668,49.5666,49.3664 ,49.1668,48.9647,48.7627,48.559,48.2537 ,48.0467,47.8451,47.6402,47.4333, 47.2274,46.9152,46.706,46.497,46.2861, 46.0742,45.8627,45.6485,45.4343,45.2204 ,45.0036,44.6791,44.4607,44.1334, 43.8023,43.5816,43.2472,43.0242,42.7986 ,42.5736,42.2384,42.2472,42.2532, 42.2616,42.2677,42.2724,42.275,42.278, 42.395,42.623,42.8495,43.0758,43.4112, 43.6352,43.8573,44.1905,44.5196,44.739, 44.9563,45.1739,45.4973,45.7129,45.9275 ,46.1401,46.353,46.5647,46.7737,46.9841 ,47.1932,47.4009,47.6084,47.816,48.0208 ,48.2266,48.4319,48.634,48.8392,49.1441 ,49.4457,49.6468,49.8483,50.0459, 50.2437,50.4421,50.6401,50.8353,51.0309 ,51.2266,51.4216,51.8073,52.2884,52.669 ,52.6591)
FOOTPRINT_POINT_LONGITUDE = (140.441,140.007,139.682,138.954, 138.498,137.947,137.974,138.0,138.025, 138.037,138.048,138.071,138.082,138.093 ,138.103,138.113,138.123,138.133, 138.143,138.152,138.161,138.17,138.184, 138.193,138.199,138.207,138.214,138.22, 138.231,138.237,138.243,138.249,138.255 ,138.26,138.266,138.271,138.276,138.28, 138.287,138.291,138.296,138.301,138.304 ,138.308,138.31,138.312,138.314,138.316 ,138.758,139.084,139.616,140.091, 140.537,140.834,141.282,141.497,141.487 ,141.478,141.468,141.454,141.444, 141.435,141.42,141.405,141.395,141.386, 141.376,141.36,141.35,141.34,141.33, 141.319,141.309,141.298,141.287,141.276 ,141.265,141.254,141.243,141.231,141.22 ,141.209,141.197,141.187,141.17,141.153 ,141.142,141.13,141.118,141.106,141.094 ,141.082,141.069,141.057,141.044, 141.031,141.006,140.973,140.947, 140.441)
ORBIT_NUMBER = 9694
ORBITAL_ECCENTRICITY = 0.571
ORBITAL_INCLINATION = 86.88
ORBITAL_SEMIMAJOR_AXIS = 8768.77
PERIAPSIS_ALTITUDE = 383.66
PERIAPSIS_ARGUMENT_ANGLE = 104.57
PERIAPSIS_TIME = 2011-08-07T08:44:04.000Z
SPACECRAFT_ORIENTATION = (0.0,-1.0,0.0)
^MEX_ORIENTATION_DESC = "MEX_ORIENTATION_DESC.TXT"
SPACECRAFT_POINTING_MODE = ACROSSTRACK
^MEX_POINTING_DESC = "MEX_POINTING_DESC.TXT"
RIGHT_ASCENSION = -1e+32
DECLINATION = -1e+32
OFFSET_ANGLE = 0.23
SPACECRAFT_SOLAR_DISTANCE = 2.25855e+08
TARGET_NAME = MARS
/* CAMERA DATA ELEMENTS */
DETECTOR_TEMPERATURE = 18.3705
FOCAL_PLANE_TEMPERATURE = 7.9716
INST_CMPRS_NAME = "DISCRETE COSINE TRANSFORMATION (DCT)"
INST_CMPRS_RATIO = 28.6642
INST_CMPRS_QUALITY = 0
INST_CMPRS_QUANTZ_TBL_ID = 0
INSTRUMENT_TEMPERATURE = 11.0301
LENS_TEMPERATURE = 8.5833
MACROPIXEL_SIZE = 4
MISSING_FRAMES = 0
PIXEL_SUBSAMPLING_FLAG = N
SIGNAL_CHAIN_ID = 2
/* RADIOMETRIC DATA ELEMENTS */
BANDWIDTH = 48.0
CENTER_FILTER_WAVELENGTH = 748.0
RADIANCE_OFFSET = 1.42163
RADIANCE_SCALING_FACTOR = 0.00400088
REFLECTANCE_SCALING_FACTOR = 0.000465741
MEX:REFLECTANCE_OFFSET = 0.165491
/* IMAGE OBJECT DEFINITIONS */
OBJECT = IMAGE
  INTERCHANGE_FORMAT = BINARY
  LINES = 6235
  LINE_SAMPLES = 1322
  SAMPLE_TYPE = UNSIGNED_INTEGER
  SAMPLE_BITS = 8
  BANDS = 1
  BAND_STORAGE_TYPE = BAND_SEQUENTIAL
  MAXIMUM = 255
  MEAN = 146.889
  MINIMUM = 1
  STANDARD_DEVIATION = 53.3127
END_OBJECT = IMAGE
/* MAP OBJECT DEFINITIONS */
OBJECT = IMAGE_MAP_PROJECTION
  ^DATA_SET_MAP_PROJECTION_CATALOG= "DSMAP.CAT"
  A_AXIS_RADIUS = 3396.0
  B_AXIS_RADIUS = 3396.0
  C_AXIS_RADIUS = 3396.0
  CENTER_LATITUDE = 0.0
  CENTER_LONGITUDE = 140.0
  COORDINATE_SYSTEM_NAME = PLANETOGRAPHIC
  COORDINATE_SYSTEM_TYPE = "BODY-FIXED ROTATING"
  EASTERNMOST_LONGITUDE = 141.497
  FIRST_STANDARD_PARALLEL = "N/A"
  LINE_FIRST_PIXEL = 1
  LINE_LAST_PIXEL = 6235
  LINE_PROJECTION_OFFSET = 31256.875
  MAP_PROJECTION_ROTATION = 0.0
  MAP_PROJECTION_TYPE = SINUSOIDAL
  MAP_RESOLUTION = 592.713803866667
  MAP_SCALE = 0.1
  MAXIMUM_LATITUDE = 52.669
  MINIMUM_LATITUDE = 42.2384
  POSITIVE_LONGITUDE_DIRECTION = EAST
  REFERENCE_LATITUDE = "N/A"
  REFERENCE_LONGITUDE = "N/A"
  SAMPLE_FIRST_PIXEL = 1
  SAMPLE_LAST_PIXEL = 1322
  SAMPLE_PROJECTION_OFFSET = 720.875
  SECOND_STANDARD_PARALLEL = "N/A"
  WESTERNMOST_LONGITUDE = 137.947
END_OBJECT = IMAGE_MAP_PROJECTION
/* The JPEG2000 image data file associated with this label. */
OBJECT = COMPRESSED_FILE
  FILE_NAME = "H9694_0000_RE3.JP2"
  RECORD_TYPE = UNDEFINED
  FILE_RECORDS = UNK
  ENCODING_TYPE = "JP2"
  INTERCHANGE_FORMAT = BINARY
  UNCOMPRESSED_FILE_NAME = "H9694_0000_RE3.IMG"
  REQUIRED_STORAGE_BYTES = "8261178"
  ^DESCRIPTION = "JP2INFO.TXT"
END_OBJECT = COMPRESSED_FILE
END
