PDS_VERSION_ID = PDS3
/* FILE DATA ELEMENTS */
RECORD_TYPE = STREAM
/* POINTERS TO DATA OBJECTS */
^COMPRESSED_FILE = "HA177_0000_ND3.JP2"
/* IDENTIFICATION DATA ELEMENTS */
DATA_SET_ID = "MEX-M-HRSC-5-REFDR-MAPPROJECTED-V3.0"
DATA_SET_NAME = "MARS EXPRESS HRSC MAP PROJECTED REFDR V3.0"
DETECTOR_ID = MEX_HRSC_NADIR
EVENT_TYPE = "MARS-GLOBAL-VARIABLE-Gl-At"
INSTRUMENT_HOST_ID = MEX
INSTRUMENT_HOST_NAME = "MARS EXPRESS"
INSTRUMENT_ID = HRSC
INSTRUMENT_NAME = "HIGH RESOLUTION STEREO CAMERA"
MISSION_NAME = "MARS EXPRESS"
MISSION_PHASE_NAME = ME_Phase_24
PROCESSING_LEVEL_ID = 3
PRODUCT_CREATION_TIME = 2016-10-27T09:20:08.000Z
PRODUCT_ID = "HA177_0000_ND3.JP2"
RELEASE_ID = 0104
REVISION_ID = 0000
/* QUALITY DATA ELEMENTS */
DATA_QUALITY_ID = 1
DATA_QUALITY_DESC = "Data calculated based on original SPICE kernels"
/* TIME DATA ELEMENTS */
SPACECRAFT_CLOCK_START_COUNT = "1/0272950212.08256"
SPACECRAFT_CLOCK_STOP_COUNT = "1/0272951391.30187"
START_TIME = 2011-12-26T03:33:05.294Z
STOP_TIME = 2011-12-26T03:38:45.253Z
/* ORBITAL DATA ELEMENTS */
ASCENDING_NODE_LONGITUDE = 23.02
MAXIMUM_RESOLUTION = 56.6
FOOTPRINT_POINT_LATITUDE = (83.881,84.2276,84.568,84.9014,85.3072, 85.6206,85.9216,86.3767,86.6301,86.8302 ,87.0291,87.1891,87.3007,87.5666, 87.8302,88.0912,88.3486,88.6012,88.8468 ,89.0803,89.291,89.4534,89.5177,89.4497 ,89.2877,89.0806,88.8534,88.6166, 88.3748,88.1302,87.8843,87.6377,87.3909 ,86.898,86.4068,85.9181,85.4324,84.9497 ,84.4702,83.9941,83.5213,83.0519, 82.5858,82.1232,81.6639,81.2077,80.7551 ,80.3058,80.2908,80.287,80.2758,80.2516 ,80.2243,80.17,80.1128,80.0593,79.9498, 79.8782,79.7589,79.6716,79.5782,79.4271 ,79.3194,79.1768,78.9951,78.8673, 78.6664,78.4964,78.8782,79.2582,79.6356 ,80.0117,80.3817,80.7471,81.1067, 81.4581,81.8001,82.131,82.4485,82.7502, 83.0332,83.2943,83.5298,83.7359,83.9088 ,83.9809,84.0439,84.097,84.1393,84.1706 ,84.1907,84.1998,84.1969,84.1837,84.157 ,84.1183,84.0675,84.0058,83.9322, 83.881)
FOOTPRINT_POINT_LONGITUDE = (300.253,298.601,296.744,294.647, 291.614,288.791,285.548,279.173,274.426 ,269.676,263.5,256.519,249.325,250.453, 251.857,253.641,255.988,259.176,263.725 ,270.629,281.863,300.922,329.486, 357.721,376.338,387.292,394.042,398.507 ,401.653,403.948,405.714,407.085, 408.203,409.892,411.105,412.015,412.719 ,413.279,413.734,414.11,414.426,414.693 ,414.933,415.122,415.293,415.458, 415.586,415.7,413.327,411.739,410.155, 408.182,406.618,404.292,402.376,400.864 ,398.26,396.799,394.646,393.239,391.855 ,389.825,388.504,386.889,385.008, 383.786,382.002,379.601,378.52,377.348, 376.071,374.695,373.179,371.527,369.721 ,367.738,365.562,363.174,360.552, 357.676,354.525,351.084,347.342,343.296 ,338.958,336.685,334.352,331.962, 329.523,327.042,324.529,321.991,319.441 ,316.885,314.339,311.812,309.314, 306.851,304.436,300.253)
ORBIT_NUMBER = 10177
ORBITAL_ECCENTRICITY = 0.577
ORBITAL_INCLINATION = 86.87
ORBITAL_SEMIMAJOR_AXIS = 8858.41
PERIAPSIS_ALTITUDE = 357.52
PERIAPSIS_ARGUMENT_ANGLE = 21.2
PERIAPSIS_TIME = 2011-12-26T03:12:52.000Z
SPACECRAFT_ORIENTATION = (0.0,1.0,0.0)
^MEX_ORIENTATION_DESC = "MEX_ORIENTATION_DESC.TXT"
SPACECRAFT_POINTING_MODE = NADIR
^MEX_POINTING_DESC = "MEX_POINTING_DESC.TXT"
RIGHT_ASCENSION = -1e+32
DECLINATION = -1e+32
OFFSET_ANGLE = -1e+32
SPACECRAFT_SOLAR_DISTANCE = 2.47253e+08
TARGET_NAME = MARS
/* CAMERA DATA ELEMENTS */
DETECTOR_TEMPERATURE = 18.9822
FOCAL_PLANE_TEMPERATURE = 8.9911
INST_CMPRS_NAME = "DISCRETE COSINE TRANSFORMATION (DCT)"
INST_CMPRS_RATIO = 6.86086
INST_CMPRS_QUALITY = 0
INST_CMPRS_QUANTZ_TBL_ID = 0
INSTRUMENT_TEMPERATURE = 12.8652
LENS_TEMPERATURE = 9.6028
MACROPIXEL_SIZE = 1
MISSING_FRAMES = 0
PIXEL_SUBSAMPLING_FLAG = N
SIGNAL_CHAIN_ID = 0
/* RADIOMETRIC DATA ELEMENTS */
BANDWIDTH = 177.0
CENTER_FILTER_WAVELENGTH = 677.5
RADIANCE_OFFSET = 2.83358
RADIANCE_SCALING_FACTOR = 0.0216494
REFLECTANCE_SCALING_FACTOR = 0.000703099
MEX:REFLECTANCE_OFFSET = 0.0920251
/* IMAGE OBJECT DEFINITIONS */
OBJECT = IMAGE
  INTERCHANGE_FORMAT = BINARY
  LINES = 14002
  LINE_SAMPLES = 15799
  SAMPLE_TYPE = UNSIGNED_INTEGER
  SAMPLE_BITS = 8
  BANDS = 1
  BAND_STORAGE_TYPE = BAND_SEQUENTIAL
  MAXIMUM = 255
  MEAN = 102.884
  MINIMUM = 1
  STANDARD_DEVIATION = 37.4049
END_OBJECT = IMAGE
/* MAP OBJECT DEFINITIONS */
OBJECT = IMAGE_MAP_PROJECTION
  ^DATA_SET_MAP_PROJECTION_CATALOG= "DSMAP.CAT"
  A_AXIS_RADIUS = 3396.0
  B_AXIS_RADIUS = 3396.0
  C_AXIS_RADIUS = 3396.0
  CENTER_LATITUDE = 90.0
  CENTER_LONGITUDE = 0.0
  COORDINATE_SYSTEM_NAME = PLANETOGRAPHIC
  COORDINATE_SYSTEM_TYPE = "BODY-FIXED ROTATING"
  EASTERNMOST_LONGITUDE = 55.7
  FIRST_STANDARD_PARALLEL = "N/A"
  LINE_FIRST_PIXEL = 1
  LINE_LAST_PIXEL = 14002
  LINE_PROJECTION_OFFSET = 1083.0
  MAP_PROJECTION_ROTATION = 0
  MAP_PROJECTION_TYPE = STEREOGRAPHIC
  MAP_RESOLUTION = 1185.42760773333
  MAP_SCALE = 0.05
  MAXIMUM_LATITUDE = 89.5177
  MINIMUM_LATITUDE = 78.49639999999999
  POSITIVE_LONGITUDE_DIRECTION = EAST
  REFERENCE_LATITUDE = "N/A"
  REFERENCE_LONGITUDE = "N/A"
  SAMPLE_FIRST_PIXEL = 1
  SAMPLE_LAST_PIXEL = 15799
  SAMPLE_PROJECTION_OFFSET = 6304.0
  SECOND_STANDARD_PARALLEL = "N/A"
  WESTERNMOST_LONGITUDE = -110.675
END_OBJECT = IMAGE_MAP_PROJECTION
/* The JPEG2000 image data file associated with this label. */
OBJECT = COMPRESSED_FILE
  FILE_NAME = "HA177_0000_ND3.JP2"
  RECORD_TYPE = UNDEFINED
  FILE_RECORDS = UNK
  ENCODING_TYPE = "JP2"
  INTERCHANGE_FORMAT = BINARY
  UNCOMPRESSED_FILE_NAME = "HA177_0000_ND3.IMG"
  REQUIRED_STORAGE_BYTES = "221264995"
  ^DESCRIPTION = "JP2INFO.TXT"
END_OBJECT = COMPRESSED_FILE
END
