PDS_VERSION_ID = PDS3
/* FILE DATA ELEMENTS */
RECORD_TYPE = STREAM
/* POINTERS TO DATA OBJECTS */
^COMPRESSED_FILE = "HA182_0000_ND3.JP2"
/* IDENTIFICATION DATA ELEMENTS */
DATA_SET_ID = "MEX-M-HRSC-5-REFDR-MAPPROJECTED-V3.0"
DATA_SET_NAME = "MARS EXPRESS HRSC MAP PROJECTED REFDR V3.0"
DETECTOR_ID = MEX_HRSC_NADIR
EVENT_TYPE = "MARS-GLOBAL-VARIABLE-Gl-At"
INSTRUMENT_HOST_ID = MEX
INSTRUMENT_HOST_NAME = "MARS EXPRESS"
INSTRUMENT_ID = HRSC
INSTRUMENT_NAME = "HIGH RESOLUTION STEREO CAMERA"
MISSION_NAME = "MARS EXPRESS"
MISSION_PHASE_NAME = ME_Phase_24
PROCESSING_LEVEL_ID = 3
PRODUCT_CREATION_TIME = 2016-10-27T09:20:08.000Z
PRODUCT_ID = "HA182_0000_ND3.JP2"
RELEASE_ID = 0104
REVISION_ID = 0000
/* QUALITY DATA ELEMENTS */
DATA_QUALITY_ID = 1
DATA_QUALITY_DESC = "Data calculated based on original SPICE kernels"
/* TIME DATA ELEMENTS */
SPACECRAFT_CLOCK_START_COUNT = "1/0273076140.08241"
SPACECRAFT_CLOCK_STOP_COUNT = "1/0273077280.27450"
START_TIME = 2011-12-27T14:31:57.188Z
STOP_TIME = 2011-12-27T14:37:10.166Z
/* ORBITAL DATA ELEMENTS */
ASCENDING_NODE_LONGITUDE = 22.92
MAXIMUM_RESOLUTION = 57.6
FOOTPRINT_POINT_LATITUDE = (83.7509,84.0966,84.4352,84.7659, 85.1666,85.4745,85.7685,85.944,86.2088, 86.4507,86.6395,86.8645,86.9989,87.0675 ,87.312,87.5552,87.7968,88.0363,88.2738 ,88.5085,88.7394,88.9644,89.1797, 89.3758,89.5296,89.5918,89.5262,89.3726 ,89.1797,88.97,88.7522,88.5305,88.3066, 87.8563,87.4054,86.9556,86.5077,86.0622 ,85.6192,85.1789,84.7414,84.3067, 83.8749,83.4459,83.0198,82.5964,82.176, 81.7584,81.5398,81.5402,81.5322,81.4985 ,81.4681,81.3959,81.3297,81.2173, 81.1431,81.0183,80.9266,80.7502,80.6406 ,80.4951,80.3406,80.1098,79.9705, 79.8261,79.6767,79.5225,79.5951,79.9343 ,80.2701,80.6019,80.9289,81.2501, 81.5643,81.8703,82.1667,82.4516,82.7233 ,82.9796,83.218,83.4361,83.6306,83.7991 ,83.9385,84.0458,84.1187,84.1415, 84.1549,84.1588,84.153,84.1374,84.1121, 84.0768,84.0314,83.9773,83.9136,83.8404 ,83.7581,83.7509)
FOOTPRINT_POINT_LONGITUDE = (146.742,144.981,143.007,140.786, 137.592,134.639,131.27,128.922,124.731, 119.934,115.198,107.504,100.605,95.556, 96.2756,97.1376,98.1851,99.5185,101.191 ,103.392,106.396,110.71,117.326,128.312 ,147.66,177.987,207.958,226.853,237.592 ,244.082,248.324,251.286,253.459, 256.433,258.331,259.653,260.626,261.372 ,261.965,262.438,262.822,263.138, 263.412,263.644,263.84,264.021,264.165, 264.296,263.013,261.207,259.405,256.266 ,254.493,251.429,249.276,246.33,244.681 ,242.26,240.685,238.005,236.52,234.711, 232.958,230.597,229.297,228.03,226.796, 225.596,224.275,223.024,221.67,220.204, 218.614,216.888,215.013,212.973,210.755 ,208.342,205.719,202.872,199.789, 196.461,192.885,189.067,185.02,180.77, 176.354,174.099,171.82,169.526,167.224, 164.922,162.627,160.348,158.093,155.864 ,153.671,151.521,149.417,146.742)
ORBIT_NUMBER = 10182
ORBITAL_ECCENTRICITY = 0.576
ORBITAL_INCLINATION = 86.88
ORBITAL_SEMIMAJOR_AXIS = 8852.69
PERIAPSIS_ALTITUDE = 356.83
PERIAPSIS_ARGUMENT_ANGLE = 20.31
PERIAPSIS_TIME = 2011-12-27T14:11:28.000Z
SPACECRAFT_ORIENTATION = (0.0,1.0,0.0)
^MEX_ORIENTATION_DESC = "MEX_ORIENTATION_DESC.TXT"
SPACECRAFT_POINTING_MODE = NADIR
^MEX_POINTING_DESC = "MEX_POINTING_DESC.TXT"
RIGHT_ASCENSION = -1e+32
DECLINATION = -1e+32
OFFSET_ANGLE = -1e+32
SPACECRAFT_SOLAR_DISTANCE = 2.47361e+08
TARGET_NAME = MARS
/* CAMERA DATA ELEMENTS */
DETECTOR_TEMPERATURE = 19.1861
FOCAL_PLANE_TEMPERATURE = 9.195
INST_CMPRS_NAME = "DISCRETE COSINE TRANSFORMATION (DCT)"
INST_CMPRS_RATIO = 6.33956
INST_CMPRS_QUALITY = 0
INST_CMPRS_QUANTZ_TBL_ID = 0
INSTRUMENT_TEMPERATURE = 12.8652
LENS_TEMPERATURE = 9.3989
MACROPIXEL_SIZE = 1
MISSING_FRAMES = 0
PIXEL_SUBSAMPLING_FLAG = N
SIGNAL_CHAIN_ID = 0
/* RADIOMETRIC DATA ELEMENTS */
BANDWIDTH = 177.0
CENTER_FILTER_WAVELENGTH = 677.5
RADIANCE_OFFSET = 2.34503
RADIANCE_SCALING_FACTOR = 0.0204999
REFLECTANCE_SCALING_FACTOR = 0.00066635
MEX:REFLECTANCE_OFFSET = 0.0762254
/* IMAGE OBJECT DEFINITIONS */
OBJECT = IMAGE
  INTERCHANGE_FORMAT = BINARY
  LINES = 8444
  LINE_SAMPLES = 14067
  SAMPLE_TYPE = UNSIGNED_INTEGER
  SAMPLE_BITS = 8
  BANDS = 1
  BAND_STORAGE_TYPE = BAND_SEQUENTIAL
  MAXIMUM = 255
  MEAN = 121.319
  MINIMUM = 1
  STANDARD_DEVIATION = 43.9407
END_OBJECT = IMAGE
/* MAP OBJECT DEFINITIONS */
OBJECT = IMAGE_MAP_PROJECTION
  ^DATA_SET_MAP_PROJECTION_CATALOG= "DSMAP.CAT"
  A_AXIS_RADIUS = 3396.0
  B_AXIS_RADIUS = 3396.0
  C_AXIS_RADIUS = 3396.0
  CENTER_LATITUDE = 90.0
  CENTER_LONGITUDE = 0.0
  COORDINATE_SYSTEM_NAME = PLANETOGRAPHIC
  COORDINATE_SYSTEM_TYPE = "BODY-FIXED ROTATING"
  EASTERNMOST_LONGITUDE = 264.296
  FIRST_STANDARD_PARALLEL = "N/A"
  LINE_FIRST_PIXEL = 1
  LINE_LAST_PIXEL = 8444
  LINE_PROJECTION_OFFSET = 8838.0
  MAP_PROJECTION_ROTATION = 0
  MAP_PROJECTION_TYPE = STEREOGRAPHIC
  MAP_RESOLUTION = 1185.42760773333
  MAP_SCALE = 0.05
  MAXIMUM_LATITUDE = 89.59180000000001
  MINIMUM_LATITUDE = 79.52249999999999
  POSITIVE_LONGITUDE_DIRECTION = EAST
  REFERENCE_LATITUDE = "N/A"
  REFERENCE_LONGITUDE = "N/A"
  SAMPLE_FIRST_PIXEL = 1
  SAMPLE_LAST_PIXEL = 14067
  SAMPLE_PROJECTION_OFFSET = 9993.0
  SECOND_STANDARD_PARALLEL = "N/A"
  WESTERNMOST_LONGITUDE = 95.556
END_OBJECT = IMAGE_MAP_PROJECTION
/* The JPEG2000 image data file associated with this label. */
OBJECT = COMPRESSED_FILE
  FILE_NAME = "HA182_0000_ND3.JP2"
  RECORD_TYPE = UNDEFINED
  FILE_RECORDS = UNK
  ENCODING_TYPE = "JP2"
  INTERCHANGE_FORMAT = BINARY
  UNCOMPRESSED_FILE_NAME = "HA182_0000_ND3.IMG"
  REQUIRED_STORAGE_BYTES = "118823949"
  ^DESCRIPTION = "JP2INFO.TXT"
END_OBJECT = COMPRESSED_FILE
END
