PDS_VERSION_ID = PDS3
/* FILE DATA ELEMENTS */
RECORD_TYPE = STREAM
/* POINTERS TO DATA OBJECTS */
^COMPRESSED_FILE = "HA242_0000_GR3.JP2"
/* IDENTIFICATION DATA ELEMENTS */
DATA_SET_ID = "MEX-M-HRSC-5-REFDR-MAPPROJECTED-V3.0"
DATA_SET_NAME = "MARS EXPRESS HRSC MAP PROJECTED REFDR V3.0"
DETECTOR_ID = MEX_HRSC_GREEN
EVENT_TYPE = "MARS-GLOBAL-VARIABLE-Gl-At"
INSTRUMENT_HOST_ID = MEX
INSTRUMENT_HOST_NAME = "MARS EXPRESS"
INSTRUMENT_ID = HRSC
INSTRUMENT_NAME = "HIGH RESOLUTION STEREO CAMERA"
MISSION_NAME = "MARS EXPRESS"
MISSION_PHASE_NAME = ME_Phase_24
PROCESSING_LEVEL_ID = 3
PRODUCT_CREATION_TIME = 2016-10-27T09:35:36.000Z
PRODUCT_ID = "HA242_0000_GR3.JP2"
RELEASE_ID = 0105
REVISION_ID = 0000
/* QUALITY DATA ELEMENTS */
DATA_QUALITY_ID = 1
DATA_QUALITY_DESC = "Data calculated based on original SPICE kernels"
/* TIME DATA ELEMENTS */
SPACECRAFT_CLOCK_START_COUNT = "1/0274587117.07284"
SPACECRAFT_CLOCK_STOP_COUNT = "1/0274588409.19706"
START_TIME = 2012-01-14T02:15:27.358Z
STOP_TIME = 2012-01-14T02:33:30.885Z
/* ORBITAL DATA ELEMENTS */
ASCENDING_NODE_LONGITUDE = 21.78
MAXIMUM_RESOLUTION = 128.8
FOOTPRINT_POINT_LATITUDE = (78.4702,78.86,79.097,79.2846,79.5039, 79.6567,79.7264,80.489,81.2418,81.9926, 82.7252,83.4482,84.1615,84.865,85.5582, 86.2416,86.9129,87.5718,88.2118,88.818, 89.3193,89.3965,88.9655,88.4024,87.8132 ,87.2193,86.6269,86.0388,85.4555, 84.8781,84.3065,83.741,83.1812,82.6275, 82.08,81.5381,81.0021,80.4721,79.4281, 78.4061,77.4051,76.4246,75.4636,74.5218 ,73.5982,72.6923,71.8036,71.4675, 71.5926,71.6771,71.7206,71.7237,71.6864 ,71.6093,71.4924,71.3139,71.1416, 70.9094,70.6402,70.3201,71.0865,71.8663 ,72.6593,73.4647,74.2815,75.1084, 75.9435,76.7841,77.6262,78.4647,79.2924 ,80.0988,80.4896,80.8691,81.2348, 81.5835,81.9113,82.2141,82.4871,82.7251 ,82.9228,83.0747,83.1755,83.2207, 83.2069,83.1321,82.9959,82.7993,82.5447 ,82.2354,81.8752,81.4684,81.0185,80.53, 80.006,79.4437,78.8576,78.2442,78.4702)
FOOTPRINT_POINT_LONGITUDE = (94.1923,89.9894,86.8583,83.8774, 79.3777,74.7103,67.683,67.4097,67.1001, 66.741,66.3148,65.8081,65.1905,64.4209, 63.4228,62.1,60.2041,57.3569,52.4814, 42.588,16.1421,316.712,282.663,270.598, 264.994,261.809,259.743,258.323,257.257 ,256.449,255.804,255.279,254.831, 254.455,254.136,253.849,253.599,253.383 ,252.993,252.669,252.391,252.15,251.935 ,251.742,251.565,251.403,251.252, 248.747,245.93,243.099,240.26,237.422, 234.593,231.783,228.997,225.902,223.536 ,220.879,218.276,215.614,214.982, 214.255,213.419,212.451,211.331,210.025 ,208.499,206.699,204.566,202.023, 198.969,195.274,193.138,190.779,188.177 ,185.304,182.14,178.662,174.857,170.72, 166.26,161.506,156.504,151.321,146.043, 140.763,135.575,130.565,125.8,121.33, 117.18,113.362,109.871,106.694,103.809, 101.17,98.805,96.6631,94.1923)
ORBIT_NUMBER = 10242
ORBITAL_ECCENTRICITY = 0.577
ORBITAL_INCLINATION = 86.89
ORBITAL_SEMIMAJOR_AXIS = 8861.14
PERIAPSIS_ALTITUDE = 350.64
PERIAPSIS_ARGUMENT_ANGLE = 9.94
PERIAPSIS_TIME = 2012-01-14T01:53:00.000Z
SPACECRAFT_ORIENTATION = (0.0,1.0,0.0)
^MEX_ORIENTATION_DESC = "MEX_ORIENTATION_DESC.TXT"
SPACECRAFT_POINTING_MODE = NADIR
^MEX_POINTING_DESC = "MEX_POINTING_DESC.TXT"
RIGHT_ASCENSION = -1e+32
DECLINATION = -1e+32
OFFSET_ANGLE = -1e+32
SPACECRAFT_SOLAR_DISTANCE = 2.48429e+08
TARGET_NAME = MARS
/* CAMERA DATA ELEMENTS */
DETECTOR_TEMPERATURE = 19.1861
FOCAL_PLANE_TEMPERATURE = 8.9911
INST_CMPRS_NAME = "DISCRETE COSINE TRANSFORMATION (DCT)"
INST_CMPRS_RATIO = 11.0517
INST_CMPRS_QUALITY = 0
INST_CMPRS_QUANTZ_TBL_ID = 0
INSTRUMENT_TEMPERATURE = 12.8652
LENS_TEMPERATURE = 9.8067
MACROPIXEL_SIZE = 2
MISSING_FRAMES = 1
PIXEL_SUBSAMPLING_FLAG = N
SIGNAL_CHAIN_ID = 2
/* RADIOMETRIC DATA ELEMENTS */
BANDWIDTH = 88.0
CENTER_FILTER_WAVELENGTH = 538.0
RADIANCE_OFFSET = 0.722909
RADIANCE_SCALING_FACTOR = 0.0149379
REFLECTANCE_SCALING_FACTOR = 0.000793756
MEX:REFLECTANCE_OFFSET = 0.0384132
/* IMAGE OBJECT DEFINITIONS */
OBJECT = IMAGE
  INTERCHANGE_FORMAT = BINARY
  LINES = 10502
  LINE_SAMPLES = 21976
  SAMPLE_TYPE = UNSIGNED_INTEGER
  SAMPLE_BITS = 8
  BANDS = 1
  BAND_STORAGE_TYPE = BAND_SEQUENTIAL
  MAXIMUM = 255
  MEAN = 102.077
  MINIMUM = 1
  STANDARD_DEVIATION = 41.287
END_OBJECT = IMAGE
/* MAP OBJECT DEFINITIONS */
OBJECT = IMAGE_MAP_PROJECTION
  ^DATA_SET_MAP_PROJECTION_CATALOG= "DSMAP.CAT"
  A_AXIS_RADIUS = 3396.0
  B_AXIS_RADIUS = 3396.0
  C_AXIS_RADIUS = 3396.0
  CENTER_LATITUDE = 0.0
  CENTER_LONGITUDE = 216.0
  COORDINATE_SYSTEM_NAME = PLANETOGRAPHIC
  COORDINATE_SYSTEM_TYPE = "BODY-FIXED ROTATING"
  EASTERNMOST_LONGITUDE = 360.0
  FIRST_STANDARD_PARALLEL = "N/A"
  LINE_FIRST_PIXEL = 1
  LINE_LAST_PIXEL = 10502
  LINE_PROJECTION_OFFSET = 52179.75
  MAP_PROJECTION_ROTATION = 0.0
  MAP_PROJECTION_TYPE = SINUSOIDAL
  MAP_RESOLUTION = 592.713803866667
  MAP_SCALE = 0.1
  MAXIMUM_LATITUDE = 90.0
  MINIMUM_LATITUDE = 70.3201
  POSITIVE_LONGITUDE_DIRECTION = EAST
  REFERENCE_LATITUDE = "N/A"
  REFERENCE_LONGITUDE = "N/A"
  SAMPLE_FIRST_PIXEL = 1
  SAMPLE_LAST_PIXEL = 21976
  SAMPLE_PROJECTION_OFFSET = 15605.75
  SECOND_STANDARD_PARALLEL = "N/A"
  WESTERNMOST_LONGITUDE = 0.0
END_OBJECT = IMAGE_MAP_PROJECTION
/* The JPEG2000 image data file associated with this label. */
OBJECT = COMPRESSED_FILE
  FILE_NAME = "HA242_0000_GR3.JP2"
  RECORD_TYPE = UNDEFINED
  FILE_RECORDS = UNK
  ENCODING_TYPE = "JP2"
  INTERCHANGE_FORMAT = BINARY
  UNCOMPRESSED_FILE_NAME = "HA242_0000_GR3.IMG"
  REQUIRED_STORAGE_BYTES = "230857880"
  ^DESCRIPTION = "JP2INFO.TXT"
END_OBJECT = COMPRESSED_FILE
END
