PDS_VERSION_ID = PDS3
/* FILE DATA ELEMENTS */
RECORD_TYPE = STREAM
/* POINTERS TO DATA OBJECTS */
^COMPRESSED_FILE = "HA305_0000_P13.JP2"
/* IDENTIFICATION DATA ELEMENTS */
DATA_SET_ID = "MEX-M-HRSC-5-REFDR-MAPPROJECTED-V3.0"
DATA_SET_NAME = "MARS EXPRESS HRSC MAP PROJECTED REFDR V3.0"
DETECTOR_ID = MEX_HRSC_P1
EVENT_TYPE = "MARS-REGIONAL-MAPPING-Vo-Fl-Pf"
INSTRUMENT_HOST_ID = MEX
INSTRUMENT_HOST_NAME = "MARS EXPRESS"
INSTRUMENT_ID = HRSC
INSTRUMENT_NAME = "HIGH RESOLUTION STEREO CAMERA"
MISSION_NAME = "MARS EXPRESS"
MISSION_PHASE_NAME = ME_Phase_24
PROCESSING_LEVEL_ID = 3
PRODUCT_CREATION_TIME = 2016-10-27T09:57:31.000Z
PRODUCT_ID = "HA305_0000_P13.JP2"
RELEASE_ID = 0106
REVISION_ID = 0000
/* QUALITY DATA ELEMENTS */
DATA_QUALITY_ID = 1
DATA_QUALITY_DESC = "Data calculated based on original SPICE kernels"
/* TIME DATA ELEMENTS */
SPACECRAFT_CLOCK_START_COUNT = "1/0276172966.09062"
SPACECRAFT_CLOCK_STOP_COUNT = "1/0276173408.16132"
START_TIME = 2012-02-01T10:44:32.784Z
STOP_TIME = 2012-02-01T10:49:19.692Z
/* ORBITAL DATA ELEMENTS */
ASCENDING_NODE_LONGITUDE = 20.57
MAXIMUM_RESOLUTION = 54
FOOTPRINT_POINT_LATITUDE = (33.6634,33.6872,33.7087,33.728,33.7451 ,33.7601,33.7729,34.2107,34.6938, 35.1814,35.7987,36.2981,36.6761,36.9295 ,37.1848,37.5695,37.9576,38.3488, 38.6112,38.8756,39.1411,39.5421,39.8109 ,40.0819,40.3545,40.628,40.9032,41.1803 ,41.4591,41.7391,42.0208,42.3048, 42.5904,42.8773,43.1651,43.4551,43.7471 ,44.0406,44.3359,44.6331,44.932,45.2328 ,45.5359,45.8403,46.1466,46.4548, 46.7648,47.0771,47.391,47.3903,47.3786, 47.3653,47.3502,47.3334,47.3149,47.2946 ,47.2578,47.2329,47.2061,47.1663, 46.8282,46.5212,46.2161,45.9127,45.6111 ,45.311,45.0126,44.7162,44.4212,44.1279 ,43.8364,43.5465,43.2582,42.9713, 42.6861,42.4025,42.1204,41.8404,41.5619 ,41.2849,41.0089,40.7344,40.4621, 40.1911,39.921,39.6523,39.386,38.9885, 38.5943,38.2032,37.815,37.43,37.0484, 36.5429,36.1678,35.6718,35.0585,34.5738 ,34.094,33.6634)
FOOTPRINT_POINT_LONGITUDE = (109.833,109.396,108.964,108.535,108.11 ,107.688,107.269,107.142,107.127, 107.111,107.091,107.074,107.062,107.053 ,107.044,107.031,107.017,107.003, 106.993,106.984,106.974,106.959,106.949 ,106.938,106.928,106.917,106.906, 106.895,106.883,106.872,106.86,106.848, 106.836,106.824,106.811,106.798,106.785 ,106.772,106.759,106.745,106.731, 106.716,106.702,106.687,106.672,106.656 ,106.64,106.624,106.607,106.994,107.383 ,107.773,108.164,108.555,108.948, 109.341,109.983,110.38,110.777,111.326, 111.635,111.577,111.521,111.466,111.413 ,111.361,111.31,111.261,111.213,111.166 ,111.12,111.076,111.032,110.99,110.949, 110.908,110.869,110.83,110.793,110.756, 110.72,110.685,110.651,110.618,110.585, 110.553,110.522,110.477,110.433,110.39, 110.349,110.31,110.271,110.222,110.186, 110.14,110.086,110.044,110.004,109.833)
ORBIT_NUMBER = 10305
ORBITAL_ECCENTRICITY = 0.578
ORBITAL_INCLINATION = 86.87
ORBITAL_SEMIMAJOR_AXIS = 8863.29
PERIAPSIS_ALTITUDE = 345.04
PERIAPSIS_ARGUMENT_ANGLE = 359.05
PERIAPSIS_TIME = 2012-02-01T10:34:30.000Z
SPACECRAFT_ORIENTATION = (0.0,1.0,0.0)
^MEX_ORIENTATION_DESC = "MEX_ORIENTATION_DESC.TXT"
SPACECRAFT_POINTING_MODE = ACROSSTRACK
^MEX_POINTING_DESC = "MEX_POINTING_DESC.TXT"
RIGHT_ASCENSION = -1e+32
DECLINATION = -1e+32
OFFSET_ANGLE = -1.145
SPACECRAFT_SOLAR_DISTANCE = 2.49072e+08
TARGET_NAME = MARS
/* CAMERA DATA ELEMENTS */
DETECTOR_TEMPERATURE = 17.9627
FOCAL_PLANE_TEMPERATURE = 9.6028
INST_CMPRS_NAME = "DISCRETE COSINE TRANSFORMATION (DCT)"
INST_CMPRS_RATIO = 12.7218
INST_CMPRS_QUALITY = 0
INST_CMPRS_QUANTZ_TBL_ID = 0
INSTRUMENT_TEMPERATURE = 12.8652
LENS_TEMPERATURE = 10.2145
MACROPIXEL_SIZE = 2
MISSING_FRAMES = 0
PIXEL_SUBSAMPLING_FLAG = N
SIGNAL_CHAIN_ID = 3
/* RADIOMETRIC DATA ELEMENTS */
BANDWIDTH = 174.0
CENTER_FILTER_WAVELENGTH = 675.0
RADIANCE_OFFSET = 0.917268
RADIANCE_SCALING_FACTOR = 0.00406632
REFLECTANCE_SCALING_FACTOR = 0.000135687
MEX:REFLECTANCE_OFFSET = 0.0306079
/* IMAGE OBJECT DEFINITIONS */
OBJECT = IMAGE
  INTERCHANGE_FORMAT = BINARY
  LINES = 16233
  LINE_SAMPLES = 3736
  SAMPLE_TYPE = UNSIGNED_INTEGER
  SAMPLE_BITS = 8
  BANDS = 1
  BAND_STORAGE_TYPE = BAND_SEQUENTIAL
  MAXIMUM = 255
  MEAN = 121.272
  MINIMUM = 1
  STANDARD_DEVIATION = 31.9935
END_OBJECT = IMAGE
/* MAP OBJECT DEFINITIONS */
OBJECT = IMAGE_MAP_PROJECTION
  ^DATA_SET_MAP_PROJECTION_CATALOG= "DSMAP.CAT"
  A_AXIS_RADIUS = 3396.0
  B_AXIS_RADIUS = 3396.0
  C_AXIS_RADIUS = 3396.0
  CENTER_LATITUDE = 0.0
  CENTER_LONGITUDE = 109.0
  COORDINATE_SYSTEM_NAME = PLANETOGRAPHIC
  COORDINATE_SYSTEM_TYPE = "BODY-FIXED ROTATING"
  EASTERNMOST_LONGITUDE = 111.635
  FIRST_STANDARD_PARALLEL = "N/A"
  LINE_FIRST_PIXEL = 1
  LINE_LAST_PIXEL = 16233
  LINE_PROJECTION_OFFSET = 56132.25
  MAP_PROJECTION_ROTATION = 0.0
  MAP_PROJECTION_TYPE = SINUSOIDAL
  MAP_RESOLUTION = 1185.42760773333
  MAP_SCALE = 0.05
  MAXIMUM_LATITUDE = 47.391
  MINIMUM_LATITUDE = 33.6634
  POSITIVE_LONGITUDE_DIRECTION = EAST
  REFERENCE_LATITUDE = "N/A"
  REFERENCE_LONGITUDE = "N/A"
  SAMPLE_FIRST_PIXEL = 1
  SAMPLE_LAST_PIXEL = 3736
  SAMPLE_PROJECTION_OFFSET = 1744.75
  SECOND_STANDARD_PARALLEL = "N/A"
  WESTERNMOST_LONGITUDE = 106.607
END_OBJECT = IMAGE_MAP_PROJECTION
/* The JPEG2000 image data file associated with this label. */
OBJECT = COMPRESSED_FILE
  FILE_NAME = "HA305_0000_P13.JP2"
  RECORD_TYPE = UNDEFINED
  FILE_RECORDS = UNK
  ENCODING_TYPE = "JP2"
  INTERCHANGE_FORMAT = BINARY
  UNCOMPRESSED_FILE_NAME = "HA305_0000_P13.IMG"
  REQUIRED_STORAGE_BYTES = "60668904"
  ^DESCRIPTION = "JP2INFO.TXT"
END_OBJECT = COMPRESSED_FILE
END
