PDS_VERSION_ID = PDS3
/* FILE DATA ELEMENTS */
RECORD_TYPE = STREAM
/* POINTERS TO DATA OBJECTS */
^COMPRESSED_FILE = "HA305_0000_S13.JP2"
/* IDENTIFICATION DATA ELEMENTS */
DATA_SET_ID = "MEX-M-HRSC-5-REFDR-MAPPROJECTED-V3.0"
DATA_SET_NAME = "MARS EXPRESS HRSC MAP PROJECTED REFDR V3.0"
DETECTOR_ID = MEX_HRSC_S1
EVENT_TYPE = "MARS-REGIONAL-MAPPING-Vo-Fl-Pf"
INSTRUMENT_HOST_ID = MEX
INSTRUMENT_HOST_NAME = "MARS EXPRESS"
INSTRUMENT_ID = HRSC
INSTRUMENT_NAME = "HIGH RESOLUTION STEREO CAMERA"
MISSION_NAME = "MARS EXPRESS"
MISSION_PHASE_NAME = ME_Phase_24
PROCESSING_LEVEL_ID = 3
PRODUCT_CREATION_TIME = 2016-10-27T09:57:31.000Z
PRODUCT_ID = "HA305_0000_S13.JP2"
RELEASE_ID = 0106
REVISION_ID = 0000
/* QUALITY DATA ELEMENTS */
DATA_QUALITY_ID = 1
DATA_QUALITY_DESC = "Data calculated based on original SPICE kernels"
/* TIME DATA ELEMENTS */
SPACECRAFT_CLOCK_START_COUNT = "1/0276172966.09062"
SPACECRAFT_CLOCK_STOP_COUNT = "1/0276173408.16132"
START_TIME = 2012-02-01T10:44:59.551Z
STOP_TIME = 2012-02-01T10:50:09.651Z
/* ORBITAL DATA ELEMENTS */
ASCENDING_NODE_LONGITUDE = 20.57
MAXIMUM_RESOLUTION = 58.2
FOOTPRINT_POINT_LATITUDE = (33.6934,33.7227,33.7492,33.7729, 33.7939,33.8124,34.2295,34.8374,35.3289 ,35.7009,36.0754,36.5795,37.0884,37.603 ,38.1226,38.6475,38.9123,39.1786, 39.4461,39.7153,39.985,40.2569,40.5304, 40.8052,41.0813,41.3591,41.6386,41.9196 ,42.203,42.4871,42.7742,43.0602,43.3482 ,43.6375,43.9295,44.2229,44.5182, 44.8145,45.1131,45.4135,45.7153,46.0189 ,46.3239,46.6309,46.94,47.2502,47.3986, 47.3835,47.3666,47.347,47.3253,47.3014, 47.2755,47.247,47.2161,47.1831,47.1476, 47.1099,46.9193,46.6156,46.3129,46.0118 ,45.7127,45.4148,45.1185,44.8235, 44.5303,44.2383,43.9478,43.6591,43.3715 ,43.0857,42.8013,42.5182,42.2365, 41.9564,41.6782,41.4012,41.1251,40.8509 ,40.5778,40.3063,40.0361,39.7669,39.5, 39.1009,38.8377,38.5754,38.3138,37.7951 ,37.4094,37.027,36.395,35.8953,35.5238, 35.1547,34.6667,34.0636,33.5864, 33.6934)
FOOTPRINT_POINT_LONGITUDE = (109.439,108.987,108.539,108.095, 107.654,107.216,107.08,107.057,107.039, 107.024,107.01,106.99,106.969,106.947, 106.925,106.902,106.89,106.878,106.865, 106.853,106.84,106.827,106.814,106.8, 106.787,106.772,106.758,106.744,106.729 ,106.714,106.698,106.682,106.666, 106.649,106.632,106.615,106.597,106.579 ,106.561,106.542,106.522,106.502, 106.482,106.461,106.44,106.418,106.822, 107.241,107.66,108.079,108.499,108.92, 109.342,109.765,110.189,110.615,111.041 ,111.468,111.831,111.769,111.709, 111.651,111.593,111.538,111.483,111.431 ,111.379,111.329,111.28,111.232,111.185 ,111.14,111.095,111.052,111.01,110.968, 110.928,110.888,110.85,110.812,110.776, 110.74,110.705,110.671,110.637,110.589, 110.557,110.526,110.495,110.437,110.395 ,110.354,110.289,110.239,110.203, 110.168,110.124,110.07,110.029,109.439)
ORBIT_NUMBER = 10305
ORBITAL_ECCENTRICITY = 0.578
ORBITAL_INCLINATION = 86.87
ORBITAL_SEMIMAJOR_AXIS = 8863.29
PERIAPSIS_ALTITUDE = 345.04
PERIAPSIS_ARGUMENT_ANGLE = 359.05
PERIAPSIS_TIME = 2012-02-01T10:34:30.000Z
SPACECRAFT_ORIENTATION = (0.0,1.0,0.0)
^MEX_ORIENTATION_DESC = "MEX_ORIENTATION_DESC.TXT"
SPACECRAFT_POINTING_MODE = ACROSSTRACK
^MEX_POINTING_DESC = "MEX_POINTING_DESC.TXT"
RIGHT_ASCENSION = -1e+32
DECLINATION = -1e+32
OFFSET_ANGLE = -1.145
SPACECRAFT_SOLAR_DISTANCE = 2.49072e+08
TARGET_NAME = MARS
/* CAMERA DATA ELEMENTS */
DETECTOR_TEMPERATURE = 17.9627
FOCAL_PLANE_TEMPERATURE = 9.6028
INST_CMPRS_NAME = "DISCRETE COSINE TRANSFORMATION (DCT)"
INST_CMPRS_RATIO = 12.0835
INST_CMPRS_QUALITY = 0
INST_CMPRS_QUANTZ_TBL_ID = 0
INSTRUMENT_TEMPERATURE = 12.8652
LENS_TEMPERATURE = 10.2145
MACROPIXEL_SIZE = 2
MISSING_FRAMES = 0
PIXEL_SUBSAMPLING_FLAG = N
SIGNAL_CHAIN_ID = 1
/* RADIOMETRIC DATA ELEMENTS */
BANDWIDTH = 180.0
CENTER_FILTER_WAVELENGTH = 677.0
RADIANCE_OFFSET = 0.919216
RADIANCE_SCALING_FACTOR = 0.00441584
REFLECTANCE_SCALING_FACTOR = 0.000142925
MEX:REFLECTANCE_OFFSET = 0.0297517
/* IMAGE OBJECT DEFINITIONS */
OBJECT = IMAGE
  INTERCHANGE_FORMAT = BINARY
  LINES = 16233
  LINE_SAMPLES = 3736
  SAMPLE_TYPE = UNSIGNED_INTEGER
  SAMPLE_BITS = 8
  BANDS = 1
  BAND_STORAGE_TYPE = BAND_SEQUENTIAL
  MAXIMUM = 255
  MEAN = 127.155
  MINIMUM = 1
  STANDARD_DEVIATION = 34.4201
END_OBJECT = IMAGE
/* MAP OBJECT DEFINITIONS */
OBJECT = IMAGE_MAP_PROJECTION
  ^DATA_SET_MAP_PROJECTION_CATALOG= "DSMAP.CAT"
  A_AXIS_RADIUS = 3396.0
  B_AXIS_RADIUS = 3396.0
  C_AXIS_RADIUS = 3396.0
  CENTER_LATITUDE = 0.0
  CENTER_LONGITUDE = 109.0
  COORDINATE_SYSTEM_NAME = PLANETOGRAPHIC
  COORDINATE_SYSTEM_TYPE = "BODY-FIXED ROTATING"
  EASTERNMOST_LONGITUDE = 111.831
  FIRST_STANDARD_PARALLEL = "N/A"
  LINE_FIRST_PIXEL = 1
  LINE_LAST_PIXEL = 16233
  LINE_PROJECTION_OFFSET = 56132.25
  MAP_PROJECTION_ROTATION = 0.0
  MAP_PROJECTION_TYPE = SINUSOIDAL
  MAP_RESOLUTION = 1185.42760773333
  MAP_SCALE = 0.05
  MAXIMUM_LATITUDE = 47.3986
  MINIMUM_LATITUDE = 33.5864
  POSITIVE_LONGITUDE_DIRECTION = EAST
  REFERENCE_LATITUDE = "N/A"
  REFERENCE_LONGITUDE = "N/A"
  SAMPLE_FIRST_PIXEL = 1
  SAMPLE_LAST_PIXEL = 3736
  SAMPLE_PROJECTION_OFFSET = 1744.75
  SECOND_STANDARD_PARALLEL = "N/A"
  WESTERNMOST_LONGITUDE = 106.418
END_OBJECT = IMAGE_MAP_PROJECTION
/* The JPEG2000 image data file associated with this label. */
OBJECT = COMPRESSED_FILE
  FILE_NAME = "HA305_0000_S13.JP2"
  RECORD_TYPE = UNDEFINED
  FILE_RECORDS = UNK
  ENCODING_TYPE = "JP2"
  INTERCHANGE_FORMAT = BINARY
  UNCOMPRESSED_FILE_NAME = "HA305_0000_S13.IMG"
  REQUIRED_STORAGE_BYTES = "60668904"
  ^DESCRIPTION = "JP2INFO.TXT"
END_OBJECT = COMPRESSED_FILE
END
