PDS_VERSION_ID = PDS3
/* FILE DATA ELEMENTS */
RECORD_TYPE = STREAM
/* POINTERS TO DATA OBJECTS */
^COMPRESSED_FILE = "HA306_0000_ND3.JP2"
/* IDENTIFICATION DATA ELEMENTS */
DATA_SET_ID = "MEX-M-HRSC-5-REFDR-MAPPROJECTED-V3.0"
DATA_SET_NAME = "MARS EXPRESS HRSC MAP PROJECTED REFDR V3.0"
DETECTOR_ID = MEX_HRSC_NADIR
EVENT_TYPE = "MARS-REGIONAL-MAPPING-Te-Pf-Mw"
INSTRUMENT_HOST_ID = MEX
INSTRUMENT_HOST_NAME = "MARS EXPRESS"
INSTRUMENT_ID = HRSC
INSTRUMENT_NAME = "HIGH RESOLUTION STEREO CAMERA"
MISSION_NAME = "MARS EXPRESS"
MISSION_PHASE_NAME = ME_Phase_24
PROCESSING_LEVEL_ID = 3
PRODUCT_CREATION_TIME = 2016-10-27T09:57:31.000Z
PRODUCT_ID = "HA306_0000_ND3.JP2"
RELEASE_ID = 0106
REVISION_ID = 0000
/* QUALITY DATA ELEMENTS */
DATA_QUALITY_ID = 1
DATA_QUALITY_DESC = "Data calculated based on original SPICE kernels"
/* TIME DATA ELEMENTS */
SPACECRAFT_CLOCK_START_COUNT = "1/0276198166.09054"
SPACECRAFT_CLOCK_STOP_COUNT = "1/0276198752.24223"
START_TIME = 2012-02-01T17:43:49.360Z
STOP_TIME = 2012-02-01T17:49:47.355Z
/* ORBITAL DATA ELEMENTS */
ASCENDING_NODE_LONGITUDE = 20.56
MAXIMUM_RESOLUTION = 25.3
FOOTPRINT_POINT_LATITUDE = (34.6927,34.6947,34.6954,34.6947, 34.6924,34.6887,34.838,35.4535,35.9204, 36.3925,37.0295,37.6752,38.3306,38.9956 ,39.3312,39.669,40.0103,40.354,40.6998, 41.0479,41.3993,41.7535,42.1105,42.4699 ,42.8321,43.1969,43.5647,43.9355, 44.3094,44.6863,45.0663,45.4494,45.8356 ,46.2249,46.6176,47.0136,47.4131, 47.8156,48.2215,48.6307,49.0441,49.461, 49.8813,50.3054,50.7333,51.1647,51.6006 ,52.0401,52.4836,52.9311,53.1793, 53.1816,53.1784,53.1676,53.1492,53.1235 ,52.8807,52.4368,51.9966,51.5604, 51.1275,50.699,50.2739,49.8523,49.4345, 49.02,48.6088,48.2017,47.7978,47.3972, 46.9996,46.6054,46.2143,45.8264,45.4418 ,45.0601,44.6814,44.3058,43.9332, 43.5636,43.1969,42.8331,42.472,42.1135, 41.7574,41.404,41.0535,40.7062,40.361, 40.0181,39.6773,39.3403,39.0053,38.3415 ,37.687,37.0423,36.4061,35.9346,35.1589 ,34.6927)
FOOTPRINT_POINT_LONGITUDE = (4.87734,4.46238,4.0443,3.6234,3.19968, 2.77219,2.33383,2.29753,2.27038,2.24224 ,2.20231,2.16325,2.1155,2.07418,2.05188 ,2.02694,2.00345,1.97925,1.95461, 1.93036,1.90449,1.87766,1.8508,1.82386, 1.7961,1.76735,1.73848,1.70785,1.67705, 1.64596,1.61433,1.58214,1.54763,1.51308 ,1.47785,1.44249,1.40447,1.36656, 1.32744,1.28736,1.24617,1.20355,1.16003 ,1.11546,1.06912,1.02201,0.97304, 0.922293,0.870443,0.816665,1.82293, 2.48862,3.45097,4.40799,5.36035,6.30692 ,6.82675,6.7496,6.67564,6.60464,6.53639 ,6.47125,6.40855,6.34833,6.29051, 6.23482,6.18121,6.12995,6.08051,6.03286 ,5.98696,5.94272,5.90006,5.859,5.81937, 5.78092,5.7442,5.70849,5.67412,5.64094, 5.60893,5.57798,5.54798,5.51897,5.49092 ,5.4637,5.43738,5.41206,5.38739,5.36376 ,5.34021,5.31788,5.29674,5.25565, 5.21631,5.18002,5.1458,5.1215,5.08337, 4.87734)
ORBIT_NUMBER = 10306
ORBITAL_ECCENTRICITY = 0.578
ORBITAL_INCLINATION = 86.87
ORBITAL_SEMIMAJOR_AXIS = 8858.95
PERIAPSIS_ALTITUDE = 345.64
PERIAPSIS_ARGUMENT_ANGLE = 358.88
PERIAPSIS_TIME = 2012-02-01T17:34:11.000Z
SPACECRAFT_ORIENTATION = (0.0,1.0,0.0)
^MEX_ORIENTATION_DESC = "MEX_ORIENTATION_DESC.TXT"
SPACECRAFT_POINTING_MODE = ACROSSTRACK
^MEX_POINTING_DESC = "MEX_POINTING_DESC.TXT"
RIGHT_ASCENSION = -1e+32
DECLINATION = -1e+32
OFFSET_ANGLE = 0.916
SPACECRAFT_SOLAR_DISTANCE = 2.49079e+08
TARGET_NAME = MARS
/* CAMERA DATA ELEMENTS */
DETECTOR_TEMPERATURE = 18.9822
FOCAL_PLANE_TEMPERATURE = 9.3989
INST_CMPRS_NAME = "DISCRETE COSINE TRANSFORMATION (DCT)"
INST_CMPRS_RATIO = 6.63114
INST_CMPRS_QUALITY = 0
INST_CMPRS_QUANTZ_TBL_ID = 0
INSTRUMENT_TEMPERATURE = 12.8652
LENS_TEMPERATURE = 10.0106
MACROPIXEL_SIZE = 1
MISSING_FRAMES = 0
PIXEL_SUBSAMPLING_FLAG = N
SIGNAL_CHAIN_ID = 0
/* RADIOMETRIC DATA ELEMENTS */
BANDWIDTH = 177.0
CENTER_FILTER_WAVELENGTH = 677.5
RADIANCE_OFFSET = 0.855161
RADIANCE_SCALING_FACTOR = 0.00902885
REFLECTANCE_SCALING_FACTOR = 0.000297571
MEX:REFLECTANCE_OFFSET = 0.0281843
/* IMAGE OBJECT DEFINITIONS */
OBJECT = IMAGE
  INTERCHANGE_FORMAT = BINARY
  LINES = 43850
  LINE_SAMPLES = 8664
  SAMPLE_TYPE = UNSIGNED_INTEGER
  SAMPLE_BITS = 8
  BANDS = 1
  BAND_STORAGE_TYPE = BAND_SEQUENTIAL
  MAXIMUM = 255
  MEAN = 81.8994
  MINIMUM = 1
  STANDARD_DEVIATION = 25.4142
END_OBJECT = IMAGE
/* MAP OBJECT DEFINITIONS */
OBJECT = IMAGE_MAP_PROJECTION
  ^DATA_SET_MAP_PROJECTION_CATALOG= "DSMAP.CAT"
  A_AXIS_RADIUS = 3396.0
  B_AXIS_RADIUS = 3396.0
  C_AXIS_RADIUS = 3396.0
  CENTER_LATITUDE = 0.0
  CENTER_LONGITUDE = 4.0
  COORDINATE_SYSTEM_NAME = PLANETOGRAPHIC
  COORDINATE_SYSTEM_TYPE = "BODY-FIXED ROTATING"
  EASTERNMOST_LONGITUDE = 6.82675
  FIRST_STANDARD_PARALLEL = "N/A"
  LINE_FIRST_PIXEL = 1
  LINE_LAST_PIXEL = 43850
  LINE_PROJECTION_OFFSET = 126079.0
  MAP_PROJECTION_ROTATION = 0.0
  MAP_PROJECTION_TYPE = SINUSOIDAL
  MAP_RESOLUTION = 2370.85521546667
  MAP_SCALE = 0.025
  MAXIMUM_LATITUDE = 53.1816
  MINIMUM_LATITUDE = 34.6887
  POSITIVE_LONGITUDE_DIRECTION = EAST
  REFERENCE_LATITUDE = "N/A"
  REFERENCE_LONGITUDE = "N/A"
  SAMPLE_FIRST_PIXEL = 1
  SAMPLE_LAST_PIXEL = 8664
  SAMPLE_PROJECTION_OFFSET = 4588.0
  SECOND_STANDARD_PARALLEL = "N/A"
  WESTERNMOST_LONGITUDE = 0.816665
END_OBJECT = IMAGE_MAP_PROJECTION
/* The JPEG2000 image data file associated with this label. */
OBJECT = COMPRESSED_FILE
  FILE_NAME = "HA306_0000_ND3.JP2"
  RECORD_TYPE = UNDEFINED
  FILE_RECORDS = UNK
  ENCODING_TYPE = "JP2"
  INTERCHANGE_FORMAT = BINARY
  UNCOMPRESSED_FILE_NAME = "HA306_0000_ND3.IMG"
  REQUIRED_STORAGE_BYTES = "379951056"
  ^DESCRIPTION = "JP2INFO.TXT"
END_OBJECT = COMPRESSED_FILE
END
