PDS_VERSION_ID = PDS3
/* FILE DATA ELEMENTS */
RECORD_TYPE = STREAM
/* POINTERS TO DATA OBJECTS */
^COMPRESSED_FILE = "HA306_0000_P13.JP2"
/* IDENTIFICATION DATA ELEMENTS */
DATA_SET_ID = "MEX-M-HRSC-5-REFDR-MAPPROJECTED-V3.0"
DATA_SET_NAME = "MARS EXPRESS HRSC MAP PROJECTED REFDR V3.0"
DETECTOR_ID = MEX_HRSC_P1
EVENT_TYPE = "MARS-REGIONAL-MAPPING-Te-Pf-Mw"
INSTRUMENT_HOST_ID = MEX
INSTRUMENT_HOST_NAME = "MARS EXPRESS"
INSTRUMENT_ID = HRSC
INSTRUMENT_NAME = "HIGH RESOLUTION STEREO CAMERA"
MISSION_NAME = "MARS EXPRESS"
MISSION_PHASE_NAME = ME_Phase_24
PROCESSING_LEVEL_ID = 3
PRODUCT_CREATION_TIME = 2016-10-27T09:57:31.000Z
PRODUCT_ID = "HA306_0000_P13.JP2"
RELEASE_ID = 0106
REVISION_ID = 0000
/* QUALITY DATA ELEMENTS */
DATA_QUALITY_ID = 1
DATA_QUALITY_DESC = "Data calculated based on original SPICE kernels"
/* TIME DATA ELEMENTS */
SPACECRAFT_CLOCK_START_COUNT = "1/0276198166.09054"
SPACECRAFT_CLOCK_STOP_COUNT = "1/0276198752.24223"
START_TIME = 2012-02-01T17:44:36.031Z
STOP_TIME = 2012-02-01T17:51:25.823Z
/* ORBITAL DATA ELEMENTS */
ASCENDING_NODE_LONGITUDE = 20.56
MAXIMUM_RESOLUTION = 55.6
FOOTPRINT_POINT_LATITUDE = (34.7474,34.7448,34.7401,34.7332,34.724 ,34.7126,34.8077,35.584,36.0579,36.6948 ,37.3398,38.1548,38.4866,38.821,39.1608 ,39.4986,39.8393,40.1826,40.5289, 40.8779,41.2293,41.5826,41.9381,42.2972 ,42.8473,43.2128,43.5817,43.9526, 44.3261,44.7033,45.0832,45.4658,45.8514 ,46.2398,46.6318,47.0271,47.4252, 47.8257,48.2299,48.6374,49.0484,49.4619 ,49.8797,50.3006,50.7244,51.1519, 51.5832,52.018,52.6766,53.1184,53.1344, 53.1464,53.1589,53.1608,53.1536,53.1267 ,53.0961,52.4229,51.9892,51.5591, 51.1325,50.7088,50.2889,49.8718,49.4578 ,49.0475,48.6402,48.2353,47.8338, 47.4351,47.0398,46.6475,46.2579,45.872, 45.4879,45.1082,44.7296,44.355,43.9829, 43.6127,43.2457,42.8813,42.5133,42.1547 ,41.7983,41.4451,41.0941,40.7455, 40.3996,40.0568,39.7165,39.2091,38.8704 ,38.5364,38.205,37.5553,36.5876,35.9539 ,35.3285,34.7474)
FOOTPRINT_POINT_LONGITUDE = (5.14898,4.71205,4.27275,3.83037, 3.38537,2.93739,2.22893,2.177,2.14606, 2.10123,2.05479,1.98978,1.96486,1.93921 ,1.91588,1.88803,1.86008,1.83185, 1.80345,1.7746,1.74504,1.71392,1.68163, 1.64956,1.59963,1.56532,1.53059,1.49417 ,1.45695,1.41974,1.38129,1.34112, 1.30016,1.25816,1.21497,1.17129,1.12588 ,1.07823,1.02984,0.980219,0.929262, 0.876121,0.821838,0.765949,0.708019, 0.648285,0.586744,0.522919,0.42315, 0.354212,0.960334,1.56695,2.6397, 3.37332,4.43562,5.82252,6.80763,7.09085 ,7.00665,6.92569,6.848,6.77356,6.70194, 6.63313,6.56685,6.50316,6.44181,6.38294 ,6.32618,6.27151,6.21881,6.16809, 6.11904,6.07177,6.02631,5.98203,5.93984 ,5.89881,5.85923,5.82106,5.78412, 5.74845,5.7133,5.6799,5.64764,5.6163, 5.58607,5.55678,5.52839,5.5008,5.47403, 5.43584,5.41172,5.388,5.36505,5.32039, 5.25945,5.22172,5.18619,5.14898)
ORBIT_NUMBER = 10306
ORBITAL_ECCENTRICITY = 0.578
ORBITAL_INCLINATION = 86.87
ORBITAL_SEMIMAJOR_AXIS = 8858.95
PERIAPSIS_ALTITUDE = 345.64
PERIAPSIS_ARGUMENT_ANGLE = 358.88
PERIAPSIS_TIME = 2012-02-01T17:34:11.000Z
SPACECRAFT_ORIENTATION = (0.0,1.0,0.0)
^MEX_ORIENTATION_DESC = "MEX_ORIENTATION_DESC.TXT"
SPACECRAFT_POINTING_MODE = ACROSSTRACK
^MEX_POINTING_DESC = "MEX_POINTING_DESC.TXT"
RIGHT_ASCENSION = -1e+32
DECLINATION = -1e+32
OFFSET_ANGLE = 0.916
SPACECRAFT_SOLAR_DISTANCE = 2.49079e+08
TARGET_NAME = MARS
/* CAMERA DATA ELEMENTS */
DETECTOR_TEMPERATURE = 18.1666
FOCAL_PLANE_TEMPERATURE = 9.3989
INST_CMPRS_NAME = "DISCRETE COSINE TRANSFORMATION (DCT)"
INST_CMPRS_RATIO = 12.358
INST_CMPRS_QUALITY = 0
INST_CMPRS_QUANTZ_TBL_ID = 0
INSTRUMENT_TEMPERATURE = 12.8652
LENS_TEMPERATURE = 10.0106
MACROPIXEL_SIZE = 2
MISSING_FRAMES = 1
PIXEL_SUBSAMPLING_FLAG = N
SIGNAL_CHAIN_ID = 3
/* RADIOMETRIC DATA ELEMENTS */
BANDWIDTH = 174.0
CENTER_FILTER_WAVELENGTH = 675.0
RADIANCE_OFFSET = 1.08765
RADIANCE_SCALING_FACTOR = 0.00799744
REFLECTANCE_SCALING_FACTOR = 0.000266877
MEX:REFLECTANCE_OFFSET = 0.0362952
/* IMAGE OBJECT DEFINITIONS */
OBJECT = IMAGE
  INTERCHANGE_FORMAT = BINARY
  LINES = 21925
  LINE_SAMPLES = 4332
  SAMPLE_TYPE = UNSIGNED_INTEGER
  SAMPLE_BITS = 8
  BANDS = 1
  BAND_STORAGE_TYPE = BAND_SEQUENTIAL
  MAXIMUM = 255
  MEAN = 73.7608
  MINIMUM = 1
  STANDARD_DEVIATION = 24.5875
END_OBJECT = IMAGE
/* MAP OBJECT DEFINITIONS */
OBJECT = IMAGE_MAP_PROJECTION
  ^DATA_SET_MAP_PROJECTION_CATALOG= "DSMAP.CAT"
  A_AXIS_RADIUS = 3396.0
  B_AXIS_RADIUS = 3396.0
  C_AXIS_RADIUS = 3396.0
  CENTER_LATITUDE = 0.0
  CENTER_LONGITUDE = 4.0
  COORDINATE_SYSTEM_NAME = PLANETOGRAPHIC
  COORDINATE_SYSTEM_TYPE = "BODY-FIXED ROTATING"
  EASTERNMOST_LONGITUDE = 7.09085
  FIRST_STANDARD_PARALLEL = "N/A"
  LINE_FIRST_PIXEL = 1
  LINE_LAST_PIXEL = 21925
  LINE_PROJECTION_OFFSET = 63039.25
  MAP_PROJECTION_ROTATION = 0.0
  MAP_PROJECTION_TYPE = SINUSOIDAL
  MAP_RESOLUTION = 1185.42760773333
  MAP_SCALE = 0.05
  MAXIMUM_LATITUDE = 53.1608
  MINIMUM_LATITUDE = 34.7126
  POSITIVE_LONGITUDE_DIRECTION = EAST
  REFERENCE_LATITUDE = "N/A"
  REFERENCE_LONGITUDE = "N/A"
  SAMPLE_FIRST_PIXEL = 1
  SAMPLE_LAST_PIXEL = 4332
  SAMPLE_PROJECTION_OFFSET = 2293.75
  SECOND_STANDARD_PARALLEL = "N/A"
  WESTERNMOST_LONGITUDE = 0.354212
END_OBJECT = IMAGE_MAP_PROJECTION
/* The JPEG2000 image data file associated with this label. */
OBJECT = COMPRESSED_FILE
  FILE_NAME = "HA306_0000_P13.JP2"
  RECORD_TYPE = UNDEFINED
  FILE_RECORDS = UNK
  ENCODING_TYPE = "JP2"
  INTERCHANGE_FORMAT = BINARY
  UNCOMPRESSED_FILE_NAME = "HA306_0000_P13.IMG"
  REQUIRED_STORAGE_BYTES = "95005092"
  ^DESCRIPTION = "JP2INFO.TXT"
END_OBJECT = COMPRESSED_FILE
END
