PDS_VERSION_ID = PDS3
/* FILE DATA ELEMENTS */
RECORD_TYPE = STREAM
/* POINTERS TO DATA OBJECTS */
^COMPRESSED_FILE = "HA312_0000_P23.JP2"
/* IDENTIFICATION DATA ELEMENTS */
DATA_SET_ID = "MEX-M-HRSC-5-REFDR-MAPPROJECTED-V3.0"
DATA_SET_NAME = "MARS EXPRESS HRSC MAP PROJECTED REFDR V3.0"
DETECTOR_ID = MEX_HRSC_P2
EVENT_TYPE = "MARS-REGIONAL-MAPPING-Vo-Pf-Mw"
INSTRUMENT_HOST_ID = MEX
INSTRUMENT_HOST_NAME = "MARS EXPRESS"
INSTRUMENT_ID = HRSC
INSTRUMENT_NAME = "HIGH RESOLUTION STEREO CAMERA"
MISSION_NAME = "MARS EXPRESS"
MISSION_PHASE_NAME = ME_Phase_24
PROCESSING_LEVEL_ID = 3
PRODUCT_CREATION_TIME = 2016-10-27T09:57:31.000Z
PRODUCT_ID = "HA312_0000_P23.JP2"
RELEASE_ID = 0106
REVISION_ID = 0000
/* QUALITY DATA ELEMENTS */
DATA_QUALITY_ID = 1
DATA_QUALITY_DESC = "Data calculated based on original SPICE kernels"
/* TIME DATA ELEMENTS */
SPACECRAFT_CLOCK_START_COUNT = "1/0276349262.09042"
SPACECRAFT_CLOCK_STOP_COUNT = "1/0276349861.21710"
START_TIME = 2012-02-03T11:41:25.488Z
STOP_TIME = 2012-02-03T11:46:49.476Z
/* ORBITAL DATA ELEMENTS */
ASCENDING_NODE_LONGITUDE = 20.44
MAXIMUM_RESOLUTION = 50.5
FOOTPRINT_POINT_LATITUDE = (34.5993,34.6033,34.6054,34.6054, 34.8041,35.2617,35.8783,36.3462,36.9785 ,37.6197,38.107,38.5991,38.93,39.2646, 39.6006,39.9395,40.2812,40.625,40.9717, 41.3215,41.6733,42.0278,42.3863,42.7471 ,43.1105,43.477,43.8468,44.2198,44.5956 ,44.9744,45.3562,45.7412,46.1297, 46.5218,46.9173,47.316,47.7183,48.1243, 48.5337,48.9467,49.3637,49.7848,50.2093 ,50.6378,51.07,51.5062,51.9463,52.3911, 52.8399,53.1064,53.098,53.0853,53.0635, 53.0417,53.0153,52.5548,52.1125,51.6741 ,51.2392,50.808,50.381,49.958,49.5384, 49.1225,48.7101,48.3013,47.8962,47.4944 ,47.0961,46.7012,46.3094,45.9211, 45.5359,45.1537,44.7749,44.3992,44.0268 ,43.6574,43.2904,42.926,42.5654,42.2078 ,41.8526,41.4998,41.1506,40.804,40.4588 ,40.1171,39.7783,39.441,39.1072,38.6106 ,38.1193,37.4721,36.9934,36.3621, 35.7397,35.2792,34.8224,34.5993)
FOOTPRINT_POINT_LONGITUDE = (111.981,111.336,110.591,110.095, 109.756,109.737,109.711,109.692,109.665 ,109.637,109.615,109.593,109.578, 109.563,109.547,109.531,109.515,109.499 ,109.482,109.465,109.448,109.43,109.412 ,109.393,109.375,109.355,109.336, 109.316,109.296,109.275,109.254,109.232 ,109.21,109.187,109.164,109.141,109.116 ,109.092,109.066,109.041,109.014, 108.987,108.959,108.93,108.901,108.871, 108.84,108.809,108.776,109.524,110.511, 111.387,112.426,113.246,114.067,114.329 ,114.246,114.166,114.09,114.016,113.946 ,113.878,113.812,113.749,113.689, 113.631,113.574,113.52,113.468,113.418, 113.369,113.322,113.277,113.233,113.191 ,113.149,113.11,113.072,113.035,112.999 ,112.964,112.93,112.898,112.866,112.836 ,112.806,112.778,112.75,112.723,112.696 ,112.671,112.634,112.599,112.555, 112.523,112.482,112.444,112.417,112.391 ,111.981)
ORBIT_NUMBER = 10312
ORBITAL_ECCENTRICITY = 0.578
ORBITAL_INCLINATION = 86.87
ORBITAL_SEMIMAJOR_AXIS = 8862.75
PERIAPSIS_ALTITUDE = 344.57
PERIAPSIS_ARGUMENT_ANGLE = 357.84
PERIAPSIS_TIME = 2012-02-03T11:32:12.000Z
SPACECRAFT_ORIENTATION = (0.0,1.0,0.0)
^MEX_ORIENTATION_DESC = "MEX_ORIENTATION_DESC.TXT"
SPACECRAFT_POINTING_MODE = NADIR
^MEX_POINTING_DESC = "MEX_POINTING_DESC.TXT"
RIGHT_ASCENSION = -1e+32
DECLINATION = -1e+32
OFFSET_ANGLE = -1e+32
SPACECRAFT_SOLAR_DISTANCE = 2.49113e+08
TARGET_NAME = MARS
/* CAMERA DATA ELEMENTS */
DETECTOR_TEMPERATURE = 19.39
FOCAL_PLANE_TEMPERATURE = 9.3989
INST_CMPRS_NAME = "DISCRETE COSINE TRANSFORMATION (DCT)"
INST_CMPRS_RATIO = 8.76339
INST_CMPRS_QUALITY = 0
INST_CMPRS_QUANTZ_TBL_ID = 0
INSTRUMENT_TEMPERATURE = 13.0691
LENS_TEMPERATURE = 10.2145
MACROPIXEL_SIZE = 2
MISSING_FRAMES = 0
PIXEL_SUBSAMPLING_FLAG = N
SIGNAL_CHAIN_ID = 3
/* RADIOMETRIC DATA ELEMENTS */
BANDWIDTH = 177.0
CENTER_FILTER_WAVELENGTH = 676.5
RADIANCE_OFFSET = 1.31391
RADIANCE_SCALING_FACTOR = 0.00515257
REFLECTANCE_SCALING_FACTOR = 0.000169541
MEX:REFLECTANCE_OFFSET = 0.043233
/* IMAGE OBJECT DEFINITIONS */
OBJECT = IMAGE
  INTERCHANGE_FORMAT = BINARY
  LINES = 21906
  LINE_SAMPLES = 4404
  SAMPLE_TYPE = UNSIGNED_INTEGER
  SAMPLE_BITS = 8
  BANDS = 1
  BAND_STORAGE_TYPE = BAND_SEQUENTIAL
  MAXIMUM = 255
  MEAN = 95.0647
  MINIMUM = 1
  STANDARD_DEVIATION = 28.658
END_OBJECT = IMAGE
/* MAP OBJECT DEFINITIONS */
OBJECT = IMAGE_MAP_PROJECTION
  ^DATA_SET_MAP_PROJECTION_CATALOG= "DSMAP.CAT"
  A_AXIS_RADIUS = 3396.0
  B_AXIS_RADIUS = 3396.0
  C_AXIS_RADIUS = 3396.0
  CENTER_LATITUDE = 0.0
  CENTER_LONGITUDE = 111.0
  COORDINATE_SYSTEM_NAME = PLANETOGRAPHIC
  COORDINATE_SYSTEM_TYPE = "BODY-FIXED ROTATING"
  EASTERNMOST_LONGITUDE = 114.329
  FIRST_STANDARD_PARALLEL = "N/A"
  LINE_FIRST_PIXEL = 1
  LINE_LAST_PIXEL = 21906
  LINE_PROJECTION_OFFSET = 62951.25
  MAP_PROJECTION_ROTATION = 0.0
  MAP_PROJECTION_TYPE = SINUSOIDAL
  MAP_RESOLUTION = 1185.42760773333
  MAP_SCALE = 0.05
  MAXIMUM_LATITUDE = 53.1064
  MINIMUM_LATITUDE = 34.5993
  POSITIVE_LONGITUDE_DIRECTION = EAST
  REFERENCE_LATITUDE = "N/A"
  REFERENCE_LONGITUDE = "N/A"
  SAMPLE_FIRST_PIXEL = 1
  SAMPLE_LAST_PIXEL = 4404
  SAMPLE_PROJECTION_OFFSET = 1775.75
  SECOND_STANDARD_PARALLEL = "N/A"
  WESTERNMOST_LONGITUDE = 108.776
END_OBJECT = IMAGE_MAP_PROJECTION
/* The JPEG2000 image data file associated with this label. */
OBJECT = COMPRESSED_FILE
  FILE_NAME = "HA312_0000_P23.JP2"
  RECORD_TYPE = UNDEFINED
  FILE_RECORDS = UNK
  ENCODING_TYPE = "JP2"
  INTERCHANGE_FORMAT = BINARY
  UNCOMPRESSED_FILE_NAME = "HA312_0000_P23.IMG"
  REQUIRED_STORAGE_BYTES = "96500448"
  ^DESCRIPTION = "JP2INFO.TXT"
END_OBJECT = COMPRESSED_FILE
END
