PDS_VERSION_ID = PDS3
/* FILE DATA ELEMENTS */
RECORD_TYPE = STREAM
/* POINTERS TO DATA OBJECTS */
^COMPRESSED_FILE = "HA319_0000_BL3.JP2"
/* IDENTIFICATION DATA ELEMENTS */
DATA_SET_ID = "MEX-M-HRSC-5-REFDR-MAPPROJECTED-V3.0"
DATA_SET_NAME = "MARS EXPRESS HRSC MAP PROJECTED REFDR V3.0"
DETECTOR_ID = MEX_HRSC_BLUE
EVENT_TYPE = "MARS-REGIONAL-MAPPING-Vo-Pf-Mw"
INSTRUMENT_HOST_ID = MEX
INSTRUMENT_HOST_NAME = "MARS EXPRESS"
INSTRUMENT_ID = HRSC
INSTRUMENT_NAME = "HIGH RESOLUTION STEREO CAMERA"
MISSION_NAME = "MARS EXPRESS"
MISSION_PHASE_NAME = ME_Phase_24
PROCESSING_LEVEL_ID = 3
PRODUCT_CREATION_TIME = 2016-10-27T09:57:31.000Z
PRODUCT_ID = "HA319_0000_BL3.JP2"
RELEASE_ID = 0106
REVISION_ID = 0000
/* QUALITY DATA ELEMENTS */
DATA_QUALITY_ID = 1
DATA_QUALITY_DESC = "Data calculated based on original SPICE kernels"
/* TIME DATA ELEMENTS */
SPACECRAFT_CLOCK_START_COUNT = "1/0276525456.08245"
SPACECRAFT_CLOCK_STOP_COUNT = "1/0276525883.24735"
START_TIME = 2012-02-05T12:38:23.832Z
STOP_TIME = 2012-02-05T12:42:32.685Z
/* ORBITAL DATA ELEMENTS */
ASCENDING_NODE_LONGITUDE = 20.31
MAXIMUM_RESOLUTION = 92.2
FOOTPRINT_POINT_LATITUDE = (29.3954,29.3973,29.3983,29.3985,29.398 ,29.3967,29.6452,30.2492,30.8615, 31.2336,31.482,31.8595,32.1112,32.3661, 32.6212,33.008,33.2661,33.5281,33.7895, 34.054,34.3188,34.5864,34.8543,35.1251, 35.3961,35.67,36.083,36.3604,36.64, 36.9202,37.2035,37.4876,37.7742,38.0626 ,38.352,38.6443,38.9377,39.2332,39.531, 39.8304,40.1317,40.4353,40.7408,41.0479 ,41.358,41.67,41.9836,42.2993,42.6178, 42.9385,43.2885,43.289,43.2853,43.2804, 43.2721,43.2633,43.2465,42.9253,42.6061 ,42.2891,41.9745,41.662,41.3511,41.0423 ,40.7361,40.4316,40.1288,39.8287,39.53, 39.2327,38.9395,38.4998,38.0656,37.635, 37.3496,37.067,36.6462,36.367,36.0904, 35.6783,35.4047,35.1343,34.8638,34.5965 ,34.3291,34.065,33.8008,33.5399,33.1493 ,32.8914,32.634,32.3795,32.1246,31.7477 ,31.4962,31.2482,30.8764,30.2647, 29.6611,29.3954)
FOOTPRINT_POINT_LONGITUDE = (115.58,115.223,114.886,114.549,114.211 ,113.871,113.533,113.507,113.481, 113.464,113.453,113.437,113.425,113.414 ,113.402,113.384,113.372,113.36,113.347 ,113.334,113.321,113.308,113.295, 113.281,113.268,113.254,113.232,113.218 ,113.203,113.188,113.173,113.158, 113.142,113.126,113.11,113.094,113.077, 113.06,113.043,113.025,113.007,112.989, 112.971,112.952,112.933,112.913,112.894 ,112.874,112.853,112.832,113.139, 113.879,114.579,115.057,115.644,116.121 ,116.755,116.723,116.692,116.661, 116.632,116.603,116.575,116.548,116.521 ,116.495,116.47,116.446,116.421,116.398 ,116.378,116.343,116.311,116.281, 116.261,116.242,116.215,116.197,116.179 ,116.154,116.138,116.122,116.106, 116.091,116.076,116.061,116.047,116.033 ,116.013,116.0,115.987,115.975,115.963, 115.945,115.934,115.923,115.907,115.881 ,115.856,115.58)
ORBIT_NUMBER = 10319
ORBITAL_ECCENTRICITY = 0.578
ORBITAL_INCLINATION = 86.87
ORBITAL_SEMIMAJOR_AXIS = 8862.23
PERIAPSIS_ALTITUDE = 344.08
PERIAPSIS_ARGUMENT_ANGLE = 356.62
PERIAPSIS_TIME = 2012-02-05T12:29:49.000Z
SPACECRAFT_ORIENTATION = (0.0,1.0,0.0)
^MEX_ORIENTATION_DESC = "MEX_ORIENTATION_DESC.TXT"
SPACECRAFT_POINTING_MODE = ACROSSTRACK
^MEX_POINTING_DESC = "MEX_POINTING_DESC.TXT"
RIGHT_ASCENSION = -1e+32
DECLINATION = -1e+32
OFFSET_ANGLE = 0.269
SPACECRAFT_SOLAR_DISTANCE = 2.49148e+08
TARGET_NAME = MARS
/* CAMERA DATA ELEMENTS */
DETECTOR_TEMPERATURE = 18.7783
FOCAL_PLANE_TEMPERATURE = 10.0106
INST_CMPRS_NAME = "DISCRETE COSINE TRANSFORMATION (DCT)"
INST_CMPRS_RATIO = 7.17155
INST_CMPRS_QUALITY = 0
INST_CMPRS_QUANTZ_TBL_ID = 0
INSTRUMENT_TEMPERATURE = 13.0691
LENS_TEMPERATURE = 10.4184
MACROPIXEL_SIZE = 4
MISSING_FRAMES = 0
PIXEL_SUBSAMPLING_FLAG = N
SIGNAL_CHAIN_ID = 2
/* RADIOMETRIC DATA ELEMENTS */
BANDWIDTH = 76.0
CENTER_FILTER_WAVELENGTH = 444.0
RADIANCE_OFFSET = 0.195452
RADIANCE_SCALING_FACTOR = 0.000874054
REFLECTANCE_SCALING_FACTOR = 5.57453e-05
MEX:REFLECTANCE_OFFSET = 0.0124655
/* IMAGE OBJECT DEFINITIONS */
OBJECT = IMAGE
  INTERCHANGE_FORMAT = BINARY
  LINES = 8233
  LINE_SAMPLES = 1762
  SAMPLE_TYPE = UNSIGNED_INTEGER
  SAMPLE_BITS = 8
  BANDS = 1
  BAND_STORAGE_TYPE = BAND_SEQUENTIAL
  MAXIMUM = 255
  MEAN = 114.135
  MINIMUM = 1
  STANDARD_DEVIATION = 34.4938
END_OBJECT = IMAGE
/* MAP OBJECT DEFINITIONS */
OBJECT = IMAGE_MAP_PROJECTION
  ^DATA_SET_MAP_PROJECTION_CATALOG= "DSMAP.CAT"
  A_AXIS_RADIUS = 3396.0
  B_AXIS_RADIUS = 3396.0
  C_AXIS_RADIUS = 3396.0
  CENTER_LATITUDE = 0.0
  CENTER_LONGITUDE = 115.0
  COORDINATE_SYSTEM_NAME = PLANETOGRAPHIC
  COORDINATE_SYSTEM_TYPE = "BODY-FIXED ROTATING"
  EASTERNMOST_LONGITUDE = 116.755
  FIRST_STANDARD_PARALLEL = "N/A"
  LINE_FIRST_PIXEL = 1
  LINE_LAST_PIXEL = 8233
  LINE_PROJECTION_OFFSET = 25652.125
  MAP_PROJECTION_ROTATION = 0.0
  MAP_PROJECTION_TYPE = SINUSOIDAL
  MAP_RESOLUTION = 592.713803866667
  MAP_SCALE = 0.1
  MAXIMUM_LATITUDE = 43.289
  MINIMUM_LATITUDE = 29.3954
  POSITIVE_LONGITUDE_DIRECTION = EAST
  REFERENCE_LATITUDE = "N/A"
  REFERENCE_LONGITUDE = "N/A"
  SAMPLE_FIRST_PIXEL = 1
  SAMPLE_LAST_PIXEL = 1762
  SAMPLE_PROJECTION_OFFSET = 982.625
  SECOND_STANDARD_PARALLEL = "N/A"
  WESTERNMOST_LONGITUDE = 112.832
END_OBJECT = IMAGE_MAP_PROJECTION
/* The JPEG2000 image data file associated with this label. */
OBJECT = COMPRESSED_FILE
  FILE_NAME = "HA319_0000_BL3.JP2"
  RECORD_TYPE = UNDEFINED
  FILE_RECORDS = UNK
  ENCODING_TYPE = "JP2"
  INTERCHANGE_FORMAT = BINARY
  UNCOMPRESSED_FILE_NAME = "HA319_0000_BL3.IMG"
  REQUIRED_STORAGE_BYTES = "14525928"
  ^DESCRIPTION = "JP2INFO.TXT"
END_OBJECT = COMPRESSED_FILE
END
