PDS_VERSION_ID = PDS3
/* FILE DATA ELEMENTS */
RECORD_TYPE = STREAM
/* POINTERS TO DATA OBJECTS */
^COMPRESSED_FILE = "HA319_0000_IR3.JP2"
/* IDENTIFICATION DATA ELEMENTS */
DATA_SET_ID = "MEX-M-HRSC-5-REFDR-MAPPROJECTED-V3.0"
DATA_SET_NAME = "MARS EXPRESS HRSC MAP PROJECTED REFDR V3.0"
DETECTOR_ID = MEX_HRSC_IR
EVENT_TYPE = "MARS-REGIONAL-MAPPING-Vo-Pf-Mw"
INSTRUMENT_HOST_ID = MEX
INSTRUMENT_HOST_NAME = "MARS EXPRESS"
INSTRUMENT_ID = HRSC
INSTRUMENT_NAME = "HIGH RESOLUTION STEREO CAMERA"
MISSION_NAME = "MARS EXPRESS"
MISSION_PHASE_NAME = ME_Phase_24
PROCESSING_LEVEL_ID = 3
PRODUCT_CREATION_TIME = 2016-10-27T09:57:31.000Z
PRODUCT_ID = "HA319_0000_IR3.JP2"
RELEASE_ID = 0106
REVISION_ID = 0000
/* QUALITY DATA ELEMENTS */
DATA_QUALITY_ID = 1
DATA_QUALITY_DESC = "Data calculated based on original SPICE kernels"
/* TIME DATA ELEMENTS */
SPACECRAFT_CLOCK_START_COUNT = "1/0276525456.08245"
SPACECRAFT_CLOCK_STOP_COUNT = "1/0276525883.24735"
START_TIME = 2012-02-05T12:39:26.849Z
STOP_TIME = 2012-02-05T12:44:21.341Z
/* ORBITAL DATA ELEMENTS */
ASCENDING_NODE_LONGITUDE = 20.31
MAXIMUM_RESOLUTION = 105.7
FOOTPRINT_POINT_LATITUDE = (29.4336,29.4336,29.432,29.4288,29.4239 ,29.3664,29.7272,30.2122,30.7024, 31.1976,31.6978,32.0763,32.3303,32.5861 ,32.9715,33.2301,33.491,33.8841,34.2801 ,34.6795,34.9471,35.217,35.4884,35.7605 ,36.0349,36.3107,36.5882,36.8671, 37.1479,37.4305,37.7147,37.9999,38.2869 ,38.5757,38.8666,39.159,39.4532,39.7493 ,40.047,40.3465,40.6479,40.9509,41.2559 ,41.5631,41.8719,42.1829,42.4956, 42.8103,43.1265,43.2558,43.2628,43.2645 ,43.2641,43.2588,43.2476,43.236,43.2178 ,42.8933,42.5796,42.2681,41.9589, 41.6514,41.3453,41.0415,40.7397,40.4391 ,40.1406,39.8439,39.5489,39.256,38.9644 ,38.6748,38.3869,38.1,37.815,37.5314, 37.2499,36.9704,36.5529,36.2767,36.002, 35.7283,35.4574,35.053,34.652,34.2542, 33.8596,33.4676,33.0791,32.8214,32.5659 ,32.1846,31.9312,31.6805,31.3064, 30.8112,30.3211,29.8361,29.4749, 29.4336)
FOOTPRINT_POINT_LONGITUDE = (115.432,115.06,114.687,114.313,113.939 ,113.413,113.395,113.37,113.344,113.317 ,113.289,113.268,113.254,113.239, 113.216,113.201,113.186,113.162,113.137 ,113.112,113.095,113.077,113.06,113.042 ,113.023,113.005,112.986,112.966, 112.947,112.927,112.906,112.885,112.864 ,112.843,112.821,112.798,112.775, 112.752,112.728,112.704,112.679,112.654 ,112.628,112.602,112.575,112.547, 112.519,112.49,112.461,112.792,113.44, 113.785,114.301,115.031,115.717,116.188 ,116.872,117.019,116.981,116.945, 116.909,116.875,116.841,116.809,116.777 ,116.746,116.715,116.686,116.657, 116.629,116.602,116.576,116.55,116.525, 116.5,116.476,116.453,116.43,116.397, 116.376,116.355,116.335,116.315,116.286 ,116.258,116.231,116.205,116.18,116.156 ,116.141,116.125,116.103,116.089, 116.075,116.054,116.028,116.003,115.979 ,115.962,115.432)
ORBIT_NUMBER = 10319
ORBITAL_ECCENTRICITY = 0.578
ORBITAL_INCLINATION = 86.87
ORBITAL_SEMIMAJOR_AXIS = 8862.23
PERIAPSIS_ALTITUDE = 344.08
PERIAPSIS_ARGUMENT_ANGLE = 356.62
PERIAPSIS_TIME = 2012-02-05T12:29:49.000Z
SPACECRAFT_ORIENTATION = (0.0,1.0,0.0)
^MEX_ORIENTATION_DESC = "MEX_ORIENTATION_DESC.TXT"
SPACECRAFT_POINTING_MODE = ACROSSTRACK
^MEX_POINTING_DESC = "MEX_POINTING_DESC.TXT"
RIGHT_ASCENSION = -1e+32
DECLINATION = -1e+32
OFFSET_ANGLE = 0.269
SPACECRAFT_SOLAR_DISTANCE = 2.49148e+08
TARGET_NAME = MARS
/* CAMERA DATA ELEMENTS */
DETECTOR_TEMPERATURE = 18.3705
FOCAL_PLANE_TEMPERATURE = 10.0106
INST_CMPRS_NAME = "DISCRETE COSINE TRANSFORMATION (DCT)"
INST_CMPRS_RATIO = 13.6959
INST_CMPRS_QUALITY = 0
INST_CMPRS_QUANTZ_TBL_ID = 0
INSTRUMENT_TEMPERATURE = 13.0691
LENS_TEMPERATURE = 10.4184
MACROPIXEL_SIZE = 4
MISSING_FRAMES = 0
PIXEL_SUBSAMPLING_FLAG = N
SIGNAL_CHAIN_ID = 2
/* RADIOMETRIC DATA ELEMENTS */
BANDWIDTH = 81.0
CENTER_FILTER_WAVELENGTH = 955.5
RADIANCE_OFFSET = 0.225528
RADIANCE_SCALING_FACTOR = 0.001971
REFLECTANCE_SCALING_FACTOR = 0.000263955
MEX:REFLECTANCE_OFFSET = 0.0302025
/* IMAGE OBJECT DEFINITIONS */
OBJECT = IMAGE
  INTERCHANGE_FORMAT = BINARY
  LINES = 8233
  LINE_SAMPLES = 1762
  SAMPLE_TYPE = UNSIGNED_INTEGER
  SAMPLE_BITS = 8
  BANDS = 1
  BAND_STORAGE_TYPE = BAND_SEQUENTIAL
  MAXIMUM = 255
  MEAN = 105.31
  MINIMUM = 1
  STANDARD_DEVIATION = 34.3963
END_OBJECT = IMAGE
/* MAP OBJECT DEFINITIONS */
OBJECT = IMAGE_MAP_PROJECTION
  ^DATA_SET_MAP_PROJECTION_CATALOG= "DSMAP.CAT"
  A_AXIS_RADIUS = 3396.0
  B_AXIS_RADIUS = 3396.0
  C_AXIS_RADIUS = 3396.0
  CENTER_LATITUDE = 0.0
  CENTER_LONGITUDE = 115.0
  COORDINATE_SYSTEM_NAME = PLANETOGRAPHIC
  COORDINATE_SYSTEM_TYPE = "BODY-FIXED ROTATING"
  EASTERNMOST_LONGITUDE = 117.019
  FIRST_STANDARD_PARALLEL = "N/A"
  LINE_FIRST_PIXEL = 1
  LINE_LAST_PIXEL = 8233
  LINE_PROJECTION_OFFSET = 25652.125
  MAP_PROJECTION_ROTATION = 0.0
  MAP_PROJECTION_TYPE = SINUSOIDAL
  MAP_RESOLUTION = 592.713803866667
  MAP_SCALE = 0.1
  MAXIMUM_LATITUDE = 43.2645
  MINIMUM_LATITUDE = 29.3664
  POSITIVE_LONGITUDE_DIRECTION = EAST
  REFERENCE_LATITUDE = "N/A"
  REFERENCE_LONGITUDE = "N/A"
  SAMPLE_FIRST_PIXEL = 1
  SAMPLE_LAST_PIXEL = 1762
  SAMPLE_PROJECTION_OFFSET = 982.625
  SECOND_STANDARD_PARALLEL = "N/A"
  WESTERNMOST_LONGITUDE = 112.461
END_OBJECT = IMAGE_MAP_PROJECTION
/* The JPEG2000 image data file associated with this label. */
OBJECT = COMPRESSED_FILE
  FILE_NAME = "HA319_0000_IR3.JP2"
  RECORD_TYPE = UNDEFINED
  FILE_RECORDS = UNK
  ENCODING_TYPE = "JP2"
  INTERCHANGE_FORMAT = BINARY
  UNCOMPRESSED_FILE_NAME = "HA319_0000_IR3.IMG"
  REQUIRED_STORAGE_BYTES = "14525928"
  ^DESCRIPTION = "JP2INFO.TXT"
END_OBJECT = COMPRESSED_FILE
END
