PDS_VERSION_ID = PDS3
/* FILE DATA ELEMENTS */
RECORD_TYPE = STREAM
/* POINTERS TO DATA OBJECTS */
^COMPRESSED_FILE = "HA319_0000_ND3.JP2"
/* IDENTIFICATION DATA ELEMENTS */
DATA_SET_ID = "MEX-M-HRSC-5-REFDR-MAPPROJECTED-V3.0"
DATA_SET_NAME = "MARS EXPRESS HRSC MAP PROJECTED REFDR V3.0"
DETECTOR_ID = MEX_HRSC_NADIR
EVENT_TYPE = "MARS-REGIONAL-MAPPING-Vo-Pf-Mw"
INSTRUMENT_HOST_ID = MEX
INSTRUMENT_HOST_NAME = "MARS EXPRESS"
INSTRUMENT_ID = HRSC
INSTRUMENT_NAME = "HIGH RESOLUTION STEREO CAMERA"
MISSION_NAME = "MARS EXPRESS"
MISSION_PHASE_NAME = ME_Phase_24
PROCESSING_LEVEL_ID = 3
PRODUCT_CREATION_TIME = 2016-10-27T09:57:31.000Z
PRODUCT_ID = "HA319_0000_ND3.JP2"
RELEASE_ID = 0106
REVISION_ID = 0000
/* QUALITY DATA ELEMENTS */
DATA_QUALITY_ID = 1
DATA_QUALITY_DESC = "Data calculated based on original SPICE kernels"
/* TIME DATA ELEMENTS */
SPACECRAFT_CLOCK_START_COUNT = "1/0276525456.08245"
SPACECRAFT_CLOCK_STOP_COUNT = "1/0276525883.24735"
START_TIME = 2012-02-05T12:38:33.464Z
STOP_TIME = 2012-02-05T12:42:48.460Z
/* ORBITAL DATA ELEMENTS */
ASCENDING_NODE_LONGITUDE = 20.31
MAXIMUM_RESOLUTION = 23.3
FOOTPRINT_POINT_LATITUDE = (29.3946,29.3961,29.3968,29.3964, 29.3952,29.3927,29.6305,30.1139,30.6019 ,31.2197,31.7194,31.9712,32.3525, 32.6073,32.8653,33.1233,33.3838,33.6448 ,33.9084,34.1726,34.4392,34.7063, 34.9759,35.246,35.5192,35.9309,36.207, 36.4857,36.9063,37.331,37.6159,37.9032, 38.1917,38.4824,38.7752,39.0694,39.3656 ,39.664,39.9641,40.2658,40.5705,40.8769 ,41.1849,41.4949,41.8076,42.1224, 42.4389,42.7576,43.0785,43.2804,43.2818 ,43.281,43.2784,43.275,43.2675,43.2566, 43.2405,42.9196,42.6007,42.2843,41.9703 ,41.6581,41.3477,41.0392,40.7333, 40.4292,40.1268,39.826,39.5282,39.2321, 38.937,38.6445,38.354,38.0644,37.7776, 37.3503,37.0671,36.7858,36.5066,36.2283 ,35.953,35.6782,35.4057,34.9996,34.7303 ,34.4638,34.1973,33.9338,33.6704, 33.4099,33.1495,32.8921,32.6341,32.3798 ,31.7474,31.2481,30.876,30.2641,29.6601 ,29.3946)
FOOTPRINT_POINT_LONGITUDE = (115.598,115.259,114.896,114.509,114.19 ,113.779,113.502,113.481,113.459, 113.431,113.408,113.396,113.378,113.366 ,113.354,113.341,113.328,113.316, 113.302,113.289,113.275,113.261,113.247 ,113.233,113.219,113.196,113.181, 113.166,113.143,113.119,113.103,113.086 ,113.07,113.052,113.035,113.017,112.999 ,112.981,112.962,112.943,112.924, 112.905,112.885,112.864,112.844,112.823 ,112.801,112.779,112.757,113.145, 113.587,114.187,114.627,114.986,115.544 ,116.142,116.797,116.764,116.732, 116.701,116.67,116.641,116.612,116.584, 116.556,116.53,116.504,116.479,116.454, 116.43,116.409,116.384,116.362,116.341, 116.32,116.29,116.27,116.251,116.232, 116.214,116.196,116.179,116.162,116.138 ,116.122,116.106,116.091,116.076, 116.062,116.048,116.034,116.021,116.008 ,115.995,115.964,115.941,115.924, 115.898,115.873,115.598)
ORBIT_NUMBER = 10319
ORBITAL_ECCENTRICITY = 0.578
ORBITAL_INCLINATION = 86.87
ORBITAL_SEMIMAJOR_AXIS = 8862.23
PERIAPSIS_ALTITUDE = 344.08
PERIAPSIS_ARGUMENT_ANGLE = 356.62
PERIAPSIS_TIME = 2012-02-05T12:29:49.000Z
SPACECRAFT_ORIENTATION = (0.0,1.0,0.0)
^MEX_ORIENTATION_DESC = "MEX_ORIENTATION_DESC.TXT"
SPACECRAFT_POINTING_MODE = ACROSSTRACK
^MEX_POINTING_DESC = "MEX_POINTING_DESC.TXT"
RIGHT_ASCENSION = -1e+32
DECLINATION = -1e+32
OFFSET_ANGLE = 0.269
SPACECRAFT_SOLAR_DISTANCE = 2.49148e+08
TARGET_NAME = MARS
/* CAMERA DATA ELEMENTS */
DETECTOR_TEMPERATURE = 18.7783
FOCAL_PLANE_TEMPERATURE = 10.0106
INST_CMPRS_NAME = "DISCRETE COSINE TRANSFORMATION (DCT)"
INST_CMPRS_RATIO = 5.87822
INST_CMPRS_QUALITY = 0
INST_CMPRS_QUANTZ_TBL_ID = 0
INSTRUMENT_TEMPERATURE = 13.0691
LENS_TEMPERATURE = 10.4184
MACROPIXEL_SIZE = 1
MISSING_FRAMES = 0
PIXEL_SUBSAMPLING_FLAG = N
SIGNAL_CHAIN_ID = 0
/* RADIOMETRIC DATA ELEMENTS */
BANDWIDTH = 177.0
CENTER_FILTER_WAVELENGTH = 677.5
RADIANCE_OFFSET = 0.949354
RADIANCE_SCALING_FACTOR = 0.00754389
REFLECTANCE_SCALING_FACTOR = 0.000248767
MEX:REFLECTANCE_OFFSET = 0.0313059
/* IMAGE OBJECT DEFINITIONS */
OBJECT = IMAGE
  INTERCHANGE_FORMAT = BINARY
  LINES = 32931
  LINE_SAMPLES = 7045
  SAMPLE_TYPE = UNSIGNED_INTEGER
  SAMPLE_BITS = 8
  BANDS = 1
  BAND_STORAGE_TYPE = BAND_SEQUENTIAL
  MAXIMUM = 255
  MEAN = 98.7993
  MINIMUM = 1
  STANDARD_DEVIATION = 33.3596
END_OBJECT = IMAGE
/* MAP OBJECT DEFINITIONS */
OBJECT = IMAGE_MAP_PROJECTION
  ^DATA_SET_MAP_PROJECTION_CATALOG= "DSMAP.CAT"
  A_AXIS_RADIUS = 3396.0
  B_AXIS_RADIUS = 3396.0
  C_AXIS_RADIUS = 3396.0
  CENTER_LATITUDE = 0.0
  CENTER_LONGITUDE = 115.0
  COORDINATE_SYSTEM_NAME = PLANETOGRAPHIC
  COORDINATE_SYSTEM_TYPE = "BODY-FIXED ROTATING"
  EASTERNMOST_LONGITUDE = 116.797
  FIRST_STANDARD_PARALLEL = "N/A"
  LINE_FIRST_PIXEL = 1
  LINE_LAST_PIXEL = 32931
  LINE_PROJECTION_OFFSET = 102610.0
  MAP_PROJECTION_ROTATION = 0.0
  MAP_PROJECTION_TYPE = SINUSOIDAL
  MAP_RESOLUTION = 2370.85521546667
  MAP_SCALE = 0.025
  MAXIMUM_LATITUDE = 43.2818
  MINIMUM_LATITUDE = 29.3927
  POSITIVE_LONGITUDE_DIRECTION = EAST
  REFERENCE_LATITUDE = "N/A"
  REFERENCE_LONGITUDE = "N/A"
  SAMPLE_FIRST_PIXEL = 1
  SAMPLE_LAST_PIXEL = 7045
  SAMPLE_PROJECTION_OFFSET = 3932.0
  SECOND_STANDARD_PARALLEL = "N/A"
  WESTERNMOST_LONGITUDE = 112.757
END_OBJECT = IMAGE_MAP_PROJECTION
/* The JPEG2000 image data file associated with this label. */
OBJECT = COMPRESSED_FILE
  FILE_NAME = "HA319_0000_ND3.JP2"
  RECORD_TYPE = UNDEFINED
  FILE_RECORDS = UNK
  ENCODING_TYPE = "JP2"
  INTERCHANGE_FORMAT = BINARY
  UNCOMPRESSED_FILE_NAME = "HA319_0000_ND3.IMG"
  REQUIRED_STORAGE_BYTES = "232034120"
  ^DESCRIPTION = "JP2INFO.TXT"
END_OBJECT = COMPRESSED_FILE
END
